Workbook
Name OLE_LINK1: 'Özkaynak Değişim Tablosu'!#REF!
Name OLE_LINK154: 'Nakit Akım Tablosu'!#REF!
Name OLE_LINK3: 'Nakit Akım Tablosu'!$G$5
Name OLE_LINK41: Kaynaklar!$D$28
Name OLE_LINK43: Varlıklar!#REF!
Name OLE_LINK64: Kaynaklar!#REF!

Sheet Varlıklar
A1: Ford Otomotiv Sanayi A.Ş. 30 Eylül 2023 ve 31 Aralık 2022 tarihleri itibarıyla finansal durum tabloları
C2: Cari dönem bağımsız denetimden geçmemiş | D2: Geçmiş dönem bağımsız denetimden geçmiş
A3: Türk Lirası (bin TL) | B3: Notlar | C3: 45199 | D3: 44926
A4: Varlıklar | E4: Check | F4: Check
A5: Dönen varlıklar | C5: =SUM(C7:C18) -> 96934799 | D5: =SUM(D7:D18) -> 55124518 | E5: =C5-[12]Assets!$C$5 -> 0 | F5: =D5-[12]Assets!$D$5 -> 0
A7: Nakit ve nakit benzerleri | C7: ='[1]FORMSRK WORD-Final SPK'!$C$13 -> 30555827 | D7: ='[2]FORMSRK WORD-Final SPK'!$C$13 -> 10114706
A8: Ticari alacaklar
A9: - İlişkili taraflardan ticari alacaklar | B9: 22 | C9: ='[1]FORMSRK WORD-Final SPK'!$C$15 -> 16513502 | D9: ='[2]FORMSRK WORD-Final SPK'!$C$15 -> 18656099
A10: - İlişkili olmayan taraflardan ticari alacaklar | B10: 7 | C10: ='[1]FORMSRK WORD-Final SPK'!$C$16 -> 14631606 | D10: ='[2]FORMSRK WORD-Final SPK'!$C$16 -> 7194845
A11: Diğer alacaklar
A12: - İlişkili taraflardan diğer alacaklar | B12: 22 | C12: ='[1]FORMSRK WORD-Final SPK'!$C$19 -> 247534 | D12: ='[2]FORMSRK WORD-Final SPK'!$C$19 -> 167414
A13: - İlişkili olmayan taraflardan diğer alacaklar | C13: ='[1]FORMSRK WORD-Final SPK'!$C$18 -> 559343 | D13: ='[2]FORMSRK WORD-Final SPK'!$C$18 -> 116104
A14: Stoklar | B14: 8 | C14: ='[1]FORMSRK WORD-Final SPK'!$C$21 -> 29402853 | D14: ='[2]FORMSRK WORD-Final SPK'!$C$21 -> 13854008
A15: Peşin ödenmiş giderler | B15: 11 | C15: ='[1]FORMSRK WORD-Final SPK'!$C$22 -> 1358773 | D15: ='[2]FORMSRK WORD-Final SPK'!$C$22 -> 1195201
A16: Diğer dönen varlıklar | C16: ='[1]FORMSRK WORD-Final SPK'!$C$23 -> 3510213 | D16: ='[2]FORMSRK WORD-Final SPK'!$C$23 -> 3674364
A17: Cari dönem vergisi ile ilgili varlıklar | B17: 20 | C17: ='[1]FORMSRK WORD-Final SPK'!$C$24 -> 0 | D17: ='[2]FORMSRK WORD-Final SPK'!$C$24 -> 151777
A18: Türev finansal varlıklar | B18: 24 | C18: ='[3]Bilanço A'!$D$24 -> 155148 | D18: -
E19: Check | F19: Check
A20: Duran varlıklar | C20: =SUM(C22:C37) -> 66264369 | D20: =SUM(D22:D37) -> 40927729 | E20: =C20-[12]Assets!$C$20 -> 0 | F20: =D20-[12]Assets!$D$20 -> 0
A22: Finansal yatırımlar | B22: 5 | C22: ='[1]FORMSRK WORD-Final SPK'!$C$29 -> 256523 | D22: ='[2]FORMSRK WORD-Final SPK'!$C$29 -> 145942
A23: Ticari alacaklar
A24: - İlişkili olmayan taraflardan ticari alacaklar | B24: 7 | C24: ='[1]FORMSRK WORD-Final SPK'!$C$28 -> 16236 | D24: ='[2]FORMSRK WORD-Final SPK'!$C$28 -> 15684
A25: Diğer Alacaklar
A26: - İlişkili taraflardan diğer alacaklar | B26: 22 | C26: ='[1]FORMSRK WORD-Final SPK'!$C$35 -> 1474235 | D26: ='[2]FORMSRK WORD-Final SPK'!$C$35 -> 1153083
A27: Maddi duran varlıklar | B27: 9 | C27: ='[1]FORMSRK WORD-Final SPK'!$C$30 -> 32260734 | D27: ='[2]FORMSRK WORD-Final SPK'!$C$30 -> 20145190
A28: Maddi olmayan duran varlıklar
A29: - Diğer maddi olmayan duran varlıklar | B29: 10 | C29: ='[1]FORMSRK WORD-Final SPK'!$C$31 -> 10236097 | D29: ='[2]FORMSRK WORD-Final SPK'!$C$31 -> 6950343
A30: - Şerefiye | C30: ='[1]FORMSRK WORD-Final SPK'!$C$32 -> 730163 | D30: ='[2]FORMSRK WORD-Final SPK'!$C$32 -> 503941
A31: Kullanım hakkı varlıkları | C31: ='[1]FORMSRK WORD-Final SPK'!$C$26 -> 247148 | D31: ='[2]FORMSRK WORD-Final SPK'!$C$26 -> 164475
A32: Peşin ödenmiş giderler | B32: 11 | C32: ='[1]FORMSRK WORD-Final SPK'!$C$33 -> 9969783 | D32: ='[2]FORMSRK WORD-Final SPK'!$C$33 -> 6063772
A33: Ertelenmiş vergi varlığı | B33: 20 | C33: ='[1]FORMSRK WORD-Final SPK'!$C$34 -> 10459495 | D33: ='[2]FORMSRK WORD-Final SPK'!$C$34 -> 5374582.1
A34: Özkaynak yöntemiyle değerlenen yatırımlar | C34: 0 | D34: 0
A35: İştirakler, iş ortaklıkları ve bağlı ortaklıklardaki yatırımlar | C35: ='[1]FORMSRK WORD-Final SPK'!$C$36 -> 60334 | D35: ='[2]FORMSRK WORD-Final SPK'!$C$36 -> 28000
A36: Türev finansal varlıklar | B36: 24 | C36: ='[3]Bilanço A'!$D$44 -> 553621 | D36: ='[2]FORMSRK WORD-Final SPK'!$C$37 -> 382717
A37: Diğer duran varlıklar | B37: 35 | C37: 0 | D37: 0
E38: Check | F38: Check
A39: Toplam varlıklar | C39: =+C5+C20 -> 163199168 | D39: =+D5+D20 -> 96052247 | E39: =+C39-[12]Assets!C39 -> 0 | F39: =+D39-[12]Assets!D39 -> 0

Sheet Kaynaklar
A1: =+Varlıklar!A1 -> Ford Otomotiv Sanayi A.Ş. 30 Eylül 2023 ve 31 Aralık 2022 tarihleri itibarıyla finansal durum tabloları
C2: Cari dönem bağımsız denetimden geçmemiş | D2: =+Varlıklar!D2 -> Geçmiş dönem bağımsız denetimden geçmiş
A3: Türk Lirası (bin TL) | B3: Notlar | C3: 45199 | D3: 44926
A4: Kaynaklar | E4: Check | F4: Check
A5: Kısa vadeli yükümlülükler | C5: =SUM(C7:C23) -> 77564543 | D5: =SUM(D8:D23) -> 46205980 | E5: =+C5-[12]Liabilities!C5 -> 0 | F5: =+D5-[12]Liabilities!D5 -> 0
A7: Kısa vadeli borçlanmalar
A8: - Banka kredileri | B8: 6 | C8: ='[1]FORMSRK WORD-Final SPK'!$C$51 -> 13982617 | D8: ='[2]FORMSRK WORD-Final SPK'!$C$51 -> 7523746
A9: Uzun vadeli borçlanmaların kısa vadeli kısımları
A10: - Banka kredileri | B10: 6 | C10: ='[1]FORMSRK WORD-Final SPK'!$C$53 -> 11086344 | D10: ='[2]FORMSRK WORD-Final SPK'!$C$53 -> 5619141
A11: - Kiralama işlemlerinden borçlar | B11: 6 | C11: ='[1]FORMSRK WORD-Final SPK'!$C$49 -> 75594 | D11: ='[2]FORMSRK WORD-Final SPK'!$C$49 -> 75716
A12: Ticari borçlar
A13: - İlişkili taraflara ticari borçlar | B13: 22 | C13: ='[1]FORMSRK WORD-Final SPK'!$C$55 -> 12654458 | D13: ='[2]FORMSRK WORD-Final SPK'!$C$55 -> 4529401
A14: - İlişkili olmayan taraflara ticari borçlar | B14: 7 | C14: ='[1]FORMSRK WORD-Final SPK'!$C$56 -> 34331660 | D14: ='[2]FORMSRK WORD-Final SPK'!$C$56 -> 25616845
A15: Diğer borçlar
A16: - İlişkili taraflara diğer borçlar | B16: 22 | C16: ='[1]FORMSRK WORD-Final SPK'!$C$58 -> 0 | D16: ='[2]FORMSRK WORD-Final SPK'!$C$58 -> 73169
A17: - İlişkili olmayan taraflara diğer borçlar | C17: ='[1]FORMSRK WORD-Final SPK'!$C$59 -> 1576423 | D17: ='[2]FORMSRK WORD-Final SPK'!$C$59 -> 662186
A18: Ertelenmiş gelirler | C18: ='[1]FORMSRK WORD-Final SPK'!$C$60 -> 377323 | D18: ='[2]FORMSRK WORD-Final SPK'!$C$60 -> 151546
A19: Kısa vadeli karşılıklar
A20: - Diğer kısa vadeli karşılıklar | B20: 12 | C20: ='[1]FORMSRK WORD-Final SPK'!$C$61 -> 1095139 | D20: ='[2]FORMSRK WORD-Final SPK'!$C$61 -> 575911
A21: Çalışanlara sağlanan faydalar kapsamında borçlar | C21: ='[1]FORMSRK WORD-Final SPK'!$C$63 -> 2321140 | D21: ='[2]FORMSRK WORD-Final SPK'!$C$63 -> 1255686
A22: Dönem karı vergi yükümlülüğü | B22: 20 | C22: ='[1]FORMSRK WORD-Final SPK'!$C$64 -> 50369 | D22: ='[2]FORMSRK WORD-Final SPK'!$C$64 -> 0
A23: Türev finansal yükümlülükler | B23: 24 | C23: ='[1]FORMSRK WORD-Final SPK'!$C$65 -> 13476 | D23: ='[2]FORMSRK WORD-Final SPK'!$C$65 -> 122633
E24: Check | F24: Check
A25: Uzun vadeli yükümlülükler | C25: =SUM(C28:C37) -> 45128065 | D25: =SUM(D28:D37) -> 28444093 | E25: =+C25-[12]Liabilities!C25 -> 0 | F25: =+D25-[12]Liabilities!$D$25 -> 0
A27: Uzun vadeli borçlanmalar
A28: - Banka kredileri | B28: 6 | C28: ='[1]FORMSRK WORD-Final SPK'!$C$71 -> 28409747 | D28: ='[2]FORMSRK WORD-Final SPK'!$C$71 -> 18175044
A29: - Kiralama işlemlerinden borçlar | B29: 6 | C29: ='[1]FORMSRK WORD-Final SPK'!$C$68 -> 207807 | D29: ='[2]FORMSRK WORD-Final SPK'!$C$68 -> 117614
A30: - Diğer Uzun Vadeli Borçlar | B30: 6 | C30: ='[1]FORMSRK WORD-Final SPK'!$C$69 -> 9453521 | D30: ='[2]FORMSRK WORD-Final SPK'!$C$69 -> 6407114
A31: Uzun vadeli karşılıklar
A32: - Çalışanlara sağlanan faydalara ilişkin uzun vadeli karşılıklar | C32: ='[1]FORMSRK WORD-Final SPK'!$C$74 -> 1997026 | D32: ='[2]FORMSRK WORD-Final SPK'!$C$74 -> 1890236
A33: - Diğer uzun vadeli karşılıklar | B33: 12 | C33: ='[1]FORMSRK WORD-Final SPK'!$C$75 -> 1231495 | D33: ='[2]FORMSRK WORD-Final SPK'!$C$75 -> 786836
A34: Ertelenmiş gelirler | C34: ='[1]FORMSRK WORD-Final SPK'!$C$77 -> 3008154 | D34: ='[2]FORMSRK WORD-Final SPK'!$C$77 -> 493991
A35: Diğer uzun vadeli yükümlülükler | C35: ='[1]FORMSRK WORD-Final SPK'!$C$78 -> 5439 | D35: ='[2]FORMSRK WORD-Final SPK'!$C$78 -> 5439
A36: Türev finansal yükümlülükler | C36: ='[3]Bilanço P'!$D$46 -> 0 | D36: ='[2]FORMSRK WORD-Final SPK'!$C$79 -> 0
A37: Ertelenmiş vergi yükümlülüğü | C37: ='[1]FORMSRK WORD-Final SPK'!$C$80 -> 814876 | D37: ='[2]FORMSRK WORD-Final SPK'!$C$80 -> 567819.13
E38: Check | F38: Check
A39: Özkaynaklar | B39: 14 | C39: =SUM(C41:C52) -> 40506560 | D39: =SUM(D41:D52) -> 21402174 | E39: =+C39-[12]Liabilities!C39 -> 0 | F39: =+D39-[12]Liabilities!D39 -> 0
A41: Ödenmiş sermaye | C41: ='[1]FORMSRK WORD-Final SPK'!$C$85 -> 350910 | D41: ='[2]FORMSRK WORD-Final SPK'!$C$85 -> 350910
A42: Sermaye düzeltme farkları | C42: ='[1]FORMSRK WORD-Final SPK'!$C$86 -> 27920 | D42: ='[2]FORMSRK WORD-Final SPK'!$C$86 -> 27920
A43: Paylara ilişkin primler | C43: ='[1]FORMSRK WORD-Final SPK'!$C$87 -> 8 | D43: ='[2]FORMSRK WORD-Final SPK'!$C$87 -> 8
A44: Kar veya zararda yeniden sınıflandırılmayacak birikmiş diğer kapsamlı gelirler / (giderler)
A45: - Tanımlanmış fayda planları yeniden ölçüm (kayıpları) | C45: ='[1]FORMSRK WORD-Final SPK'!$C$93 -> -1035544 | D45: ='[2]FORMSRK WORD-Final SPK'!$C$93 -> -1000033
A46: - Gerçeğe uygun değer farkı diğer kapsamlı gelire yansıtılan finansal varlıklardan kazançlar | C46: ='[1]FORMSRK WORD-Final SPK'!$C$89 -> 239606 | D46: ='[2]FORMSRK WORD-Final SPK'!$C$89 -> 137717
A47: Kar veya zararda yeniden sınıflandırılacak birikmiş diğer kapsamlı gelirler / (giderler)
A48: - Yabancı para çevirim farkları | C48: ='[1]FORMSRK WORD-Final SPK'!$C$91 -> 7098398 | D48: ='[2]FORMSRK WORD-Final SPK'!$C$91 -> 1674943
A49: - Nakit akış riskinden korunma (kayıpları) | C49: ='[1]FORMSRK WORD-Final SPK'!$C$90 -> -11360210 | D49: ='[2]FORMSRK WORD-Final SPK'!$C$90 -> -4881384
A50: Kardan ayrılan kısıtlanmış yedekler | C50: ='[1]FORMSRK WORD-Final SPK'!$C$94 -> 1919055 | D50: ='[2]FORMSRK WORD-Final SPK'!$C$94 -> 1420763
A51: Geçmiş yıllar karları | C51: ='[1]FORMSRK WORD-Final SPK'!$C$95 -> 18172570 | D51: ='[2]FORMSRK WORD-Final SPK'!$C$95 -> 5057387
A52: Net dönem karı | C52: ='[1]FORMSRK WORD-Final SPK'!$C$96+1 -> 25093847 | D52: ='[2]FORMSRK WORD-Final SPK'!$C$96 -> 18613943
E53: Check | F53: Check
A54: Toplam kaynaklar | C54: =+C5+C25+C39 -> 163199168 | D54: =+D5+D25+D39 -> 96052247 | E54: =+C54-[12]Liabilities!C54 -> 0 | F54: =+D54-[12]Liabilities!D54 -> 0

Sheet Gelir Tablosu 
A1: Ford Otomotiv Sanayi A.Ş. 30 Eylül 2023 ve 2022 tarihlerinde sona eren dokuz aylık ara dönemlere ait kar veya zarar tabloları
C2: Bağımsız denetimden geçmemiş | D2: Bağımsız denetimden geçmemiş | E2: Bağımsız denetimden geçmemiş | F2: Bağımsız denetimden geçmemiş
A3: Türk Lirası (bin TL) | B3: Notlar | C3: 1 Ocak- 30 Eylül 2023 | D3: 1 Temmuz- 30 Eylül 2023 | E3: 1 Ocak- 30 Eylül 2022 | F3: 1 Temmuz- 30 Eylül 2022
A5: Sürdürülen faaliyetler
A6: Hasılat | B6: 15 | C6: ='[1]Gelir Tablosu'!$AB$9 -> 225960890 | D6: ='[1]Gelir Tablosu'!$AC$9 -> 86105537 | E6: ='[4]Gelir Tablosu'!$AA$9 -> 110857477 | F6: ='[4]Gelir Tablosu'!$AB$9 -> 50127391
A7: Satışların maliyeti | B7: 15 | C7: ='[1]Gelir Tablosu'!$AB$10 -> -191319123 | D7: ='[1]Gelir Tablosu'!$AC$10 -> -71408900 | E7: ='[4]Gelir Tablosu'!$AA$10 -> -96297973 | F7: ='[4]Gelir Tablosu'!$AB$10 -> -44440293
G8: Check | H8: Check
A9: Brüt kar | C9: =+SUM(C6:C7) -> 34641767 | D9: =+SUM(D6:D7) -> 14696637 | E9: =+SUM(E6:E7) -> 14559504 | F9: =+SUM(F6:F7) -> 5687098 | G9: =+C9-'[12]Profit or Loss '!$C$9 -> 0 | H9: =+D9-'[12]Profit or Loss '!$D$9 -> 0
A11: Pazarlama giderleri | C11: ='[1]Gelir Tablosu'!$AB14 -> -3684687 | D11: ='[1]Gelir Tablosu'!$AC14 -> -1481666 | E11: ='[4]Gelir Tablosu'!$AA$14 -> -1691843 | F11: ='[4]Gelir Tablosu'!$AB$14 -> -606218
A12: Genel yönetim giderleri | C12: ='[1]Gelir Tablosu'!$AB15 -> -3463003 | D12: ='[1]Gelir Tablosu'!$AC15 -> -1596952 | E12: ='[4]Gelir Tablosu'!$AA$15 -> -1206535 | F12: ='[4]Gelir Tablosu'!$AB$15 -> -537148
A13: Araştırma ve geliştirme giderleri | C13: ='[1]Gelir Tablosu'!$AB16 -> -3162320 | D13: ='[1]Gelir Tablosu'!$AC16 -> -1154357 | E13: ='[4]Gelir Tablosu'!$AA$16 -> -939048 | F13: ='[4]Gelir Tablosu'!$AB$16 -> -357362
A14: Esas faaliyetlerden diğer gelirler | B14: 17 | C14: ='[1]Gelir Tablosu'!$AB17 -> 9044565 | D14: ='[1]Gelir Tablosu'!$AC17 -> 2241713 | E14: ='[4]Gelir Tablosu'!$AA$17 -> 1901721 | F14: ='[4]Gelir Tablosu'!$AB$17 -> 497049
A15: Esas faaliyetlerden diğer giderler | B15: 17 | C15: ='[1]Gelir Tablosu'!$AB18 -> -4315655 | D15: ='[1]Gelir Tablosu'!$AC18 -> -1009365 | E15: ='[4]Gelir Tablosu'!$AA$18 -> -1207631 | F15: ='[4]Gelir Tablosu'!$AB$18 -> -436461
G16: Check | H16: Check
A17: Esas faaliyet karı | C17: =+SUM(C9:C15) -> 29060667 | D17: =+SUM(D9:D15) -> 11696010 | E17: =+SUM(E9:E15) -> 11416168 | F17: =+SUM(F9:F15) -> 4246958 | G17: =+C17-'[12]Profit or Loss '!$C$17 -> 0 | H17: =+D17-'[12]Profit or Loss '!$D$17 -> 0
A19: Yatırım faaliyetlerinden gelirler | C19: ='[1]Gelir Tablosu'!$AB$22 -> 628 | D19: ='[1]Gelir Tablosu'!$AC$22 -> 479 | E19: ='[4]Gelir Tablosu'!$AA$22 -> 13030 | F19: ='[4]Gelir Tablosu'!$AB$22 -> 7833
A20: Yatırım faaliyetlerinden giderler | C20: ='[1]Gelir Tablosu'!$AB$23 -> -65726 | D20: ='[1]Gelir Tablosu'!$AC$23 -> -64149 | E20: ='[4]Gelir Tablosu'!$AA$23 -> -22042 | F20: ='[4]Gelir Tablosu'!$AB$23 -> -4779
A21: Özkaynak yöntemiyle değerlenen yatırımların karlarından / (zararlarlarından) paylar | B21: 32 | C21: =+'[4]Gelir Tablosu'!$D$24 -> 0 | D21: =+'[4]Gelir Tablosu'!$E24 -> 0 | E21: =+'[5]Gelir Tablosu'!$AA$24 -> 0 | F21: =+'[5]Gelir Tablosu'!$E24 -> 0
G22: Check | H22: Check
A23: Finansman geliri / (gideri) öncesi faaliyet karı | C23: =+SUM(C17:C21) -> 28995569 | D23: =+SUM(D17:D21) -> 11632340 | E23: =+SUM(E17:E21) -> 11407156 | F23: =+SUM(F17:F21) -> 4250012 | G23: =+C23-'[12]Profit or Loss '!$C$24 -> 0 | H23: =+D23-'[12]Profit or Loss '!$D$24 -> 0
A25: Finansman gelirleri | B25: 18 | C25: ='[1]Gelir Tablosu'!$AB$28 -> 8674060 | D25: ='[1]Gelir Tablosu'!$AC$28 -> 3460667 | E25: ='[4]Gelir Tablosu'!$AA$28 -> 5943385 | F25: ='[4]Gelir Tablosu'!$AB$28 -> 1429083
A26: Finansman giderleri | B26: 19 | C26: ='[1]Gelir Tablosu'!$AB$29 -> -14149084 | D26: ='[1]Gelir Tablosu'!$AC$29 -> -4033784 | E26: ='[4]Gelir Tablosu'!$AA$29 -> -8079360 | F26: ='[4]Gelir Tablosu'!$AB$29 -> -2064066
G27: Check | H27: Check
A28: Sürdürülen faaliyetler vergi öncesi karı | C28: =+SUM(C23:C26) -> 23520545 | D28: =+SUM(D23:D26) -> 11059223 | E28: =+SUM(E23:E26) -> 9271181 | F28: =+SUM(F23:F26) -> 3615029 | G28: =+C28-'[12]Profit or Loss '!$C$29 -> 0 | H28: =+D28-'[12]Profit or Loss '!$D$29 -> 0
A30: Sürdürülen faaliyetler vergi geliri / (gideri) | C30: =+SUM(C31:C32) -> 1573302 | D30: =+SUM(D31:D32) -> 1955037 | E30: =+SUM(E31:E32) -> 1050990 | F30: =+SUM(F31:F32) -> 201161
A31: - Dönem vergi gideri | B31: 20 | C31: ='[1]Gelir Tablosu'!$AB$34 -> -1888523 | D31: ='[1]Gelir Tablosu'!$AC$34 -> -39149 | E31: ='[4]Gelir Tablosu'!$AA$34 -> -73503 | F31: ='[4]Gelir Tablosu'!$AB$34 -> -22741.931
A32: - Ertelenmiş vergi gideri | B32: 20 | C32: ='[1]Gelir Tablosu'!$AB$35 -> 3461825 | D32: ='[1]Gelir Tablosu'!$AC$35 -> 1994186 | E32: ='[4]Gelir Tablosu'!$AA$35 -> 1124493 | F32: ='[4]Gelir Tablosu'!$AB$35 -> 223902.93
G33: Check | H33: Check
A34: Dönem karı | C34: =+C28+C31+C32 -> 25093847 | D34: =+D28+D31+D32 -> 13014260 | E34: =+E28+E31+E32 -> 10322171 | F34: =+F28+F31+F32 -> 3816190 | G34: =+C34-'[12]Profit or Loss '!$C$35 -> 0 | H34: =+D34-'[12]Profit or Loss '!$D$35 -> 0
A36: Nominal değeri 1 Kr olan pay başına kazanç | B36: 21 | C36: 71,51 Kr | D36: 37,09 Kr | E36: 29,42 Kr | F36: 10,88 Kr

Sheet Kapsamlı Gelir Tablosu 
A1: Ford Otomotiv Sanayi A.Ş. 30 Eylül 2023 ve 2022 tarihlerinde sona eren altı aylık ara dönemlere ait diğer kapsamlı gelir tabloları
C2: =+'Gelir Tablosu '!C2 -> Bağımsız denetimden geçmemiş | D2: =+C2 -> Bağımsız denetimden geçmemiş | E2: =+D2 -> Bağımsız denetimden geçmemiş | F2: =+E2 -> Bağımsız denetimden geçmemiş
A3: Türk Lirası (bin TL) | B3: Notlar | C3: =+'Gelir Tablosu '!C3 -> 1 Ocak- 30 Eylül 2023 | D3: =+'Gelir Tablosu '!D3 -> 1 Temmuz- 30 Eylül 2023 | E3: =+'Gelir Tablosu '!E3 -> 1 Ocak- 30 Eylül 2022 | F3: =+'Gelir Tablosu '!F3 -> 1 Temmuz- 30 Eylül 2022
G4: Check | H4: Check
A5: Dönem karı | C5: =+'Gelir Tablosu '!C34 -> 25093847 | D5: =+'Gelir Tablosu '!D34 -> 13014260 | E5: =+'Gelir Tablosu '!E34 -> 10322171 | F5: =+'Gelir Tablosu '!F34 -> 3816190 | G5: =+C5-'[12]Comprehensive Income Statement'!$C$5 -> 0 | H5: =+D5-'[12]Comprehensive Income Statement'!$D$5 -> 0
A7: Diğer kapsamlı gelir / (gider)
A9: Kar veya zararda yeniden sınıflandırılmayacaklar
A10: Tanımlanmış fayda planları yeniden ölçüm (kayıpları) / kazançları | B10: 14 | C10: =[6]Konsolide!$F$39 -> -129860 | D10: =[6]Konsolide!$G$39 -> 9161 | E10: =[7]Sheet1!$F$39 -> -174759 | F10: =[7]Sheet1!$G$39 -> -21786
A12: Kar veya zararda yeniden sınıflandırılmayacak diğer kapsamlı gelire ilişkin vergiler
A13: Tanımlanmış fayda planları yeniden ölçüm kazançları / (kayıpları), vergi etkisi | B13: 14 | C13: =[6]Konsolide!$F$40 -> 94349 | D13: =[6]Konsolide!$G$40 -> 66545 | E13: =[7]Sheet1!$F$40 -> 34952 | F13: =[7]Sheet1!$G$40 -> 4357
A15: Kar veya zarar olarak yeniden sınıflandırılacaklar
A16: Gerçeğe uygun değer farkı diğer kapsamlı gelire yansıtılan finansal varlıklardan kazançlar / (kayıplar) | B16: 14 | C16: =[6]Konsolide!$F$43 -> 110581 | D16: =[6]Konsolide!$G$43 -> 118666 | E16: =[7]Sheet1!$F$43 -> 29357 | F16: =[7]Sheet1!$G$43 -> 19501
A17: Nakit akış riskinden korunmaya ilişkin diğer kapsamlı gelir / (gider) | B17: 14 | C17: =[6]Konsolide!$F$46 -> -8026214 | D17: =[6]Konsolide!$G$46 -> -545744 | E17: =[7]Sheet1!$F$46 -> -422469 | F17: =[7]Sheet1!$G$46 -> -77926
A18: Yabancı para çevirim farkları | C18: =[6]Konsolide!$F$48 -> 5423455.3 | D18: =[6]Konsolide!$G$48 -> 464205 | E18: 230249 | F18: 230249
A20: Kar veya zararda yeniden sınıflandırılacak diğer kapsamlı gelire ilişkin vergiler
A21: Gerçeğe uygun değer farkı diğer kapsamlı gelire yansıtılan finansal varlıklardan kazançlar / (kayıplar), vergi etkisi | B21: 14 | C21: =[6]Konsolide!$F$44 -> -8692 | D21: =[6]Konsolide!$G$44 -> -9096 | E21: =[7]Sheet1!$F$44 -> -1468 | F21: =[7]Sheet1!$G$44 -> -975
A22: Nakit akış riskinden korunmaya ilişkin diğer kapsamlı gelir, vergi etkisi | B22: 14 | C22: =[6]Konsolide!$F$47 -> 1547388 | D22: =[6]Konsolide!$G$47 -> 97101 | E22: =[7]Sheet1!$F$47 -> 34428 | F22: =[7]Sheet1!$G$47 -> 960
G23: Check | H23: Check
A24: Diğer kapsamlı gelir / (gider) | C24: =+SUM(C10:C22) -> -988992.7 | D24: =+SUM(D10:D22) -> 200838 | E24: =+SUM(E10:E22) -> -269710 | F24: =+SUM(F10:F22) -> 154380 | G24: =+C24-'[12]Comprehensive Income Statement'!$C$24 -> 0 | H24: =+D24-'[12]Comprehensive Income Statement'!$D$24 -> 0
A26: Toplam kapsamlı gelir | C26: =+C5+C24 -> 24104854 | D26: =+D5+D24 -> 13215098 | E26: =+E5+E24 -> 10052461 | F26: =+F5+F24 -> 3970570 | G26: =+C26-'[12]Comprehensive Income Statement'!$C$26 -> 0 | H26: =+D26-'[12]Comprehensive Income Statement'!$D$26 -> 0

Sheet Özkaynak Değişim Tablosu
A1: Ford Otomotiv Sanayi A.Ş. 1 Ocak - 30 Eylül 2023 ve 2022 hesap dönemlerine ait özkaynak değişim tabloları
E2: Kar veya zararda yeniden sınıflandırılmayacak birikmiş diğer kapsamlı gelirler veya giderler | G2: Kar veya zararda yeniden sınıflandırılacak birikmiş diğer kapsamlı gelirler veya giderler | K2: Birikmiş karlar
A3: Türk Lirası (bin TL) | B3: Ödenmiş sermaye | C3: Sermaye düzeltmesi farkları | D3: Hisse senedi ihraç primleri | E3: Tanımlanmış fayda planları yeniden ölçüm (kayıpları) / kazançları | G3: Gerçeğe uygun değer farkı diğer kapsamlı gelire yansıtılan finansal varlıklardan kazançlar / (kayıplar) | H3: Nakit akış riskinden korunma (kayıpları) / kazançları | I3: Yabancı para çevrim farkları | J3: Kardan ayrılan kısıtlanmış yedekler | K3: Geçmiş yıllar karları | L3: Net dönem karı | M3: Toplam özkaynaklar | N3: Check
A4: 1 Ocak 2022 itibarıyla bakiyeler | B4: ='[8]Özs. Hareket Tab kons'!$C$7 -> 350910 | C4: ='[8]Özs. Hareket Tab kons'!$D$7 -> 27920 | D4: ='[8]Özs. Hareket Tab kons'!$E$7 -> 8 | E4: ='[8]Özs. Hareket Tab kons'!$I$7 -> -125723 | G4: ='[8]Özs. Hareket Tab kons'!$F$7 -> 46489 | H4: ='[8]Özs. Hareket Tab kons'!$G$7 -> -3191233 | I4: ='[8]Özs. Hareket Tab kons'!$H$7 -> 0 | J4: ='[8]Özs. Hareket Tab kons'!$J$7 -> 766316 | K4: ='[8]Özs. Hareket Tab kons'!$K$7 -> 3472846 | L4: ='[8]Özs. Hareket Tab kons'!$L$7 -> 8801005 | M4: ='[8]Özs. Hareket Tab kons'!$M$7 -> 10148538 | N4: =+M4-'[12]Changes In Equity'!$M4 -> 0
A6: Dönem karı | B6: ='[8]Özs. Hareket Tab kons'!$C$9 -> 0 | C6: ='[8]Özs. Hareket Tab kons'!$D$9 -> 0 | D6: ='[8]Özs. Hareket Tab kons'!$E$9 -> 0 | E6: ='[8]Özs. Hareket Tab kons'!$I$9 -> 0 | G6: ='[8]Özs. Hareket Tab kons'!$F$9 -> 0 | H6: ='[8]Özs. Hareket Tab kons'!$G$9 -> 0 | I6: ='[8]Özs. Hareket Tab kons'!$H$9 -> 0 | J6: ='[8]Özs. Hareket Tab kons'!$J$9 -> 0 | K6: ='[8]Özs. Hareket Tab kons'!$K$9 -> 0 | L6: ='[8]Özs. Hareket Tab kons'!$L$9 -> 10322171 | M6: =+SUM(B6:L6) -> 10322171 | N6: =+M6-'[12]Changes In Equity'!$M6 -> 0
A7: Diğer kapsamlı gelir / (gider) | B7: ='[8]Özs. Hareket Tab kons'!$C$10 -> 0 | C7: ='[8]Özs. Hareket Tab kons'!$D$10 -> 0 | D7: ='[8]Özs. Hareket Tab kons'!$E$10 -> 0 | E7: ='[8]Özs. Hareket Tab kons'!$I$10 -> -139807 | G7: ='[8]Özs. Hareket Tab kons'!$F$10 -> 27889 | H7: ='[8]Özs. Hareket Tab kons'!$G$10 -> -388041 | I7: ='[8]Özs. Hareket Tab kons'!$H$10 -> 230249 | J7: ='[8]Özs. Hareket Tab kons'!$J$10 -> 0 | K7: ='[8]Özs. Hareket Tab kons'!$K$10 -> 0 | L7: =+'[9]2015 Özs. Hareket Tab'!K10 -> 0 | M7: =+SUM(B7:L7) -> -269710 | N7: =+M7-'[12]Changes In Equity'!$M7 -> 0
A8: Toplam kapsamlı gelir | B8: =+SUM(B6:B7) -> 0 | C8: =+SUM(C6:C7) -> 0 | D8: =+SUM(D6:D7) -> 0 | E8: =+SUM(E6:E7) -> -139807 | F8: =+SUM(F6:F7) -> 0 | G8: =+SUM(G6:G7) -> 27889 | H8: =+SUM(H6:H7) -> -388041 | I8: =+SUM(I6:I7) -> 230249 | ... L8: =+SUM(L6:L7) -> 10322171 | M8: =+SUM(B8:L8) -> 10052461 | N8: =+M8-'[12]Changes In Equity'!$M8 -> 0
A9: Transferler | B9: ='[8]Özs. Hareket Tab kons'!$C$14 -> 0 | C9: ='[8]Özs. Hareket Tab kons'!$D$14 -> 0 | D9: ='[8]Özs. Hareket Tab kons'!$E$14 -> 0 | E9: ='[8]Özs. Hareket Tab kons'!$I$14 -> 0 | G9: ='[8]Özs. Hareket Tab kons'!$F$14 -> 0 | H9: ='[8]Özs. Hareket Tab kons'!$G$14 -> 0 | I9: ='[8]Özs. Hareket Tab kons'!$H$14 -> 0 | J9: ='[8]Özs. Hareket Tab kons'!$J$14 -> 454428 | K9: ='[8]Özs. Hareket Tab kons'!$K$14 -> 8346577 | L9: ='[8]Özs. Hareket Tab kons'!$L$14 -> -8801005 | M9: 0 | N9: =+M9-'[12]Changes In Equity'!$M9 -> 0
A10: Kar payları | B10: ='[8]Özs. Hareket Tab kons'!$C$15 -> 0 | C10: ='[8]Özs. Hareket Tab kons'!$D$15 -> 0 | D10: ='[8]Özs. Hareket Tab kons'!$E$15 -> 0 | E10: ='[8]Özs. Hareket Tab kons'!$I$15 -> 0 | G10: ='[8]Özs. Hareket Tab kons'!$F$15 -> 0 | H10: ='[8]Özs. Hareket Tab kons'!$G$15 -> 0 | I10: ='[8]Özs. Hareket Tab kons'!$H$15 -> 0 | J10: ='[8]Özs. Hareket Tab kons'!$J$15 -> 0 | K10: ='[8]Özs. Hareket Tab kons'!$K$15 -> -4561830 | L10: ='[8]Özs. Hareket Tab kons'!$L$15 -> 0 | M10: =+SUM(B10:L10) -> -4561830 | N10: =+M10-'[12]Changes In Equity'!$M$10 -> 0
A11: 30 Eylül 2022 itibarıyla bakiyeler | B11: =B8+B9+B10+B4 -> 350910 | C11: =C8+C9+C10+C4 -> 27920 | D11: =D8+D9+D10+D4 -> 8 | E11: =E8+E9+E10+E4 -> -265530 | G11: =G8+G9+G10+G4 -> 74378 | H11: =H8+H9+H10+H4 -> -3579274 | I11: =I8+I9+I10+I4 -> 230249 | J11: =J8+J9+J10+J4 -> 1220744 | K11: =K8+K9+K10+K4 -> 7257593 | L11: =L8+L9+L10+L4 -> 10322171 | M11: =M8+M9+M10+M4 -> 15639169 | N11: =+M11-'[12]Changes In Equity'!$M$11 -> 0
A13: 1 Ocak 2023 itibarıyla bakiyeler | B13: ='[8]Özs. Hareket Tab kons'!$C$19 -> 350910 | C13: ='[8]Özs. Hareket Tab kons'!$D$19 -> 27920 | D13: ='[8]Özs. Hareket Tab kons'!$E$19 -> 8 | E13: ='[8]Özs. Hareket Tab kons'!$I$19 -> -1000033 | G13: ='[8]Özs. Hareket Tab kons'!$F$19 -> 137717 | H13: ='[8]Özs. Hareket Tab kons'!$G$19 -> -4881384 | I13: ='[8]Özs. Hareket Tab kons'!$H$19 -> 1674943 | J13: ='[8]Özs. Hareket Tab kons'!$J$19 -> 1420763 | K13: ='[8]Özs. Hareket Tab kons'!$K$19 -> 5057387 | L13: ='[8]Özs. Hareket Tab kons'!$L$19 -> 18613943 | M13: ='[8]Özs. Hareket Tab kons'!$M$19 -> 21402174 | N13: =+M13-'[12]Changes In Equity'!$M$13 -> 0
A15: Dönem karı | B15: ='[8]Özs. Hareket Tab kons'!$C$21 -> 0 | C15: ='[8]Özs. Hareket Tab kons'!$D$21 -> 0 | D15: ='[8]Özs. Hareket Tab kons'!$E$21 -> 0 | E15: ='[8]Özs. Hareket Tab kons'!$I$21 -> 0 | G15: ='[8]Özs. Hareket Tab kons'!$F$21 -> 0 | H15: ='[8]Özs. Hareket Tab kons'!$G$21 -> 0 | I15: ='[8]Özs. Hareket Tab kons'!$H$21 -> 0 | J15: ='[8]Özs. Hareket Tab kons'!$J$21 -> 0 | K15: ='[8]Özs. Hareket Tab kons'!$K$21 -> 0 | L15: ='[8]Özs. Hareket Tab kons'!$L$21 -> 25093847 | M15: =+SUM(B15:L15) -> 25093847 | N15: =+M15-'[12]Changes In Equity'!$M15 -> 0
A16: Diğer kapsamlı gelir / (gider) | B16: ='[8]Özs. Hareket Tab kons'!$C$22 -> 0 | C16: ='[8]Özs. Hareket Tab kons'!$D$22 -> 0 | D16: ='[8]Özs. Hareket Tab kons'!$E$22 -> 0 | E16: ='[8]Özs. Hareket Tab kons'!$I$22 -> -35511 | G16: ='[8]Özs. Hareket Tab kons'!$F$22 -> 101889 | H16: ='[8]Özs. Hareket Tab kons'!$G$22 -> -6478826 | I16: ='[8]Özs. Hareket Tab kons'!$H$22 -> 5423455.3 | J16: ='[8]Özs. Hareket Tab kons'!$J$22 -> 0 | K16: ='[8]Özs. Hareket Tab kons'!$K$22 -> 0 | L16: ='[8]Özs. Hareket Tab kons'!$L$22 -> 0 | M16: =+SUM(B16:L16) -> -988992.7 | N16: =+M16-'[12]Changes In Equity'!$M16 -> 0
A17: Toplam kapsamlı gelir | B17: =+SUM(B15:B16) -> 0 | C17: =+SUM(C15:C16) -> 0 | D17: =+SUM(D15:D16) -> 0 | E17: =+SUM(E15:E16) -> -35511 | F17: =+SUM(F15:F16) -> 0 | G17: =+SUM(G15:G16) -> 101889 | H17: =+SUM(H15:H16) -> -6478826 | I17: =+SUM(I15:I16) -> 5423455.3 | ... L17: =+SUM(L15:L16) -> 25093847 | M17: =+SUM(B17:L17) -> 24104854 | N17: =+M17-'[12]Changes In Equity'!$M17 -> 0
A18: Transferler | B18: ='[8]Özs. Hareket Tab kons'!$C$26 -> 0 | C18: ='[8]Özs. Hareket Tab kons'!$D$26 -> 0 | D18: ='[8]Özs. Hareket Tab kons'!$E$26 -> 0 | E18: ='[8]Özs. Hareket Tab kons'!$I$26 -> 0 | G18: ='[8]Özs. Hareket Tab kons'!$F$26 -> 0 | H18: ='[8]Özs. Hareket Tab kons'!$G$26 -> 0 | I18: ='[8]Özs. Hareket Tab kons'!$H$26 -> 0 | J18: ='[8]Özs. Hareket Tab kons'!$J$26 -> 498292 | K18: ='[8]Özs. Hareket Tab kons'!$K$26 -> 18115651 | L18: ='[8]Özs. Hareket Tab kons'!$L$26 -> -18613943 | M18: =+SUM(B18:L18) -> 0 | N18: =+M18-'[12]Changes In Equity'!$M18 -> 0
A19: Kar payları | B19: ='[8]Özs. Hareket Tab kons'!$C$27 -> 0 | C19: ='[8]Özs. Hareket Tab kons'!$D$27 -> 0 | D19: ='[8]Özs. Hareket Tab kons'!$E$27 -> 0 | E19: ='[8]Özs. Hareket Tab kons'!$I$27 -> 0 | G19: ='[8]Özs. Hareket Tab kons'!$F$27 -> 0 | H19: ='[8]Özs. Hareket Tab kons'!$G$27 -> 0 | I19: ='[8]Özs. Hareket Tab kons'!$H$27 -> 0 | J19: ='[8]Özs. Hareket Tab kons'!$J$27 -> 0 | K19: ='[8]Özs. Hareket Tab kons'!$K$27 -> -5000468 | L19: ='[8]Özs. Hareket Tab kons'!$L$27 -> 0 | M19: =+SUM(B19:L19) -> -5000468 | N19: =+M19-'[12]Changes In Equity'!$M19 -> 0
A20: 30 Eylül 2023 itibarıyla bakiyeler | B20: =+B13+B17+B18+B19 -> 350910 | C20: =+C13+C17+C18+C19 -> 27920 | D20: =+D13+D17+D18+D19 -> 8 | E20: =+E13+E17+E18+E19 -> -1035544 | G20: =+G13+G17+G18+G19 -> 239606 | H20: =+H13+H17+H18+H19 -> -11360210 | I20: =+I13+I17+I18+I19 -> 7098398.3 | J20: =+J13+J17+J18+J19 -> 1919055 | K20: =+K13+K17+K18+K19 -> 18172570 | L20: =+L13+L17+L18+L19 -> 25093847 | M20: =+M13+M17+M18+M19 -> 40506560 | N20: =+M20-'[12]Changes In Equity'!$M20 -> 0
B23: =+B20-'[12]Changes In Equity'!B$20 -> 0 | C23: =+C20-'[12]Changes In Equity'!C$20 -> 0 | D23: =+D20-'[12]Changes In Equity'!D$20 -> 0 | E23: =E20-'[12]Changes In Equity'!$E$20 -> 0 | G23: =G20-'[12]Changes In Equity'!$G$20 -> 0 | H23: =+H20-'[12]Changes In Equity'!H$20 -> 0 | J23: =+J20-'[12]Changes In Equity'!J$20 -> 0 | K23: =+K20-'[12]Changes In Equity'!K$20 -> 0 | L23: =+L20-'[12]Changes In Equity'!L$20 -> 0 | M23: =+M20-'[12]Changes In Equity'!M$20 -> 0

Sheet Nakit Akım Tablosu
A1: Ford Otomotiv Sanayi A.Ş. 1 Ocak - 30 Eylül 2023 ve 2022 hesap dönemlerine ait nakit akış tabloları
A2: Türk Lirası (bin TL) | B2: Notlar | C2: Cari dönem bağımsız denetimden geçmemiş 30 Eylül 2023 | D2: Geçmiş dönem bağımsız denetimden geçmemiş 30 Eylül 2022
E4: Check | F4: Check
A5: İşletme Faaliyetlerinden Nakit Akışları | C5: =+SUM(C33:C39) -> 33886556 | D5: =+SUM(D33:D39) -> 7914371 | E5: =+C5-'[12]Statement of Cash Flow'!C5 -> 0 | F5: =+D5-'[12]Statement of Cash Flow'!D5 -> 0
A6: Dönem karı | C6: =+'Özkaynak Değişim Tablosu'!L15 -> 25093847 | D6: =+'Özkaynak Değişim Tablosu'!L11 -> 10322171 | E6: =+C6-'[12]Statement of Cash Flow'!C6 -> 0 | F6: =+D6-'[12]Statement of Cash Flow'!D6 -> 0
A7: Dönem Net Karı Mutabakatı İle İlgili Düzeltmeler | C7: =+SUM(C8:C22) -> 13732052 | D7: =+SUM(D8:D22) -> 6694896 | E7: =+C7-'[12]Statement of Cash Flow'!C7 -> 0 | F7: =+D7-'[12]Statement of Cash Flow'!D7 -> 0
A8: Amortisman ve itfa gideri ile ilgili düzeltmeler | C8: ='[10]KAP''a uygun'!$G10 -> 2084523 | D8: ='[10]KAP''a uygun'!$H10 -> 1250885 | E8: =+C8-'[12]Statement of Cash Flow'!C8 -> 0 | F8: =+D8-'[12]Statement of Cash Flow'!D8 -> 0
A9: Stok değer düşüklüğü ile ilgili düzeltmeler | B9: 8 | C9: ='[10]KAP''a uygun'!$G11 -> 8270 | D9: ='[10]KAP''a uygun'!$H11 -> 2836 | E9: =+C9-'[12]Statement of Cash Flow'!C9 -> 0 | F9: =+D9-'[12]Statement of Cash Flow'!D9 -> 0
A10: Çalışanlara sağlanan faydalara ilişkin karşılıklar ile ilgili düzeltmeler | C10: ='[10]KAP''a uygun'!$G12 -> 1478228 | D10: ='[10]KAP''a uygun'!$H12 -> 708841 | E10: =+C10-'[12]Statement of Cash Flow'!C10 -> 0 | F10: =+D10-'[12]Statement of Cash Flow'!D10 -> 0
A11: Dava ve / veya ceza karşılıkları ile ilgili düzeltmeler | B11: 12 | C11: ='[10]KAP''a uygun'!$G13 -> 54274 | D11: ='[10]KAP''a uygun'!$H13 -> 17565 | E11: =+C11-'[12]Statement of Cash Flow'!C11 -> 0 | F11: =+D11-'[12]Statement of Cash Flow'!D11 -> 0
A12: Garanti karşılıkları ile ilgili düzeltmeler | B12: 12 | C12: ='[10]KAP''a uygun'!$G14 -> 1424732 | D12: ='[10]KAP''a uygun'!$H14 -> 634124 | E12: =+C12-'[12]Statement of Cash Flow'!C12 -> 0 | F12: =+D12-'[12]Statement of Cash Flow'!D12 -> 0
A13: Diğer karşılıklar ile ilgili düzeltmeler | C13: ='[10]KAP''a uygun'!$G15 -> 294331 | D13: ='[10]KAP''a uygun'!$H15 -> -9851 | E13: =+C13-'[12]Statement of Cash Flow'!C13 -> 0 | F13: =+D13-'[12]Statement of Cash Flow'!D13 -> 0
A14: Kar payı geliri ile ilgili düzeltmeler | C14: ='[10]KAP''a uygun'!$G16 -> 0 | D14: ='[10]KAP''a uygun'!$H16 -> -2929 | E14: =+C14-'[12]Statement of Cash Flow'!C14 -> 0 | F14: =+D14-'[12]Statement of Cash Flow'!D14 -> 0
A15: Faiz gelirleri ile ilgili düzeltmeler | B15: 18 | C15: ='[10]KAP''a uygun'!$G17 -> -2074044 | D15: ='[10]KAP''a uygun'!$H17 -> -464895 | E15: =+C15-'[12]Statement of Cash Flow'!C15 -> 0 | F15: =+D15-'[12]Statement of Cash Flow'!D15 -> 0
A16: Faiz giderleri ile ilgili düzeltmeler | B16: 19 | C16: ='[10]KAP''a uygun'!$G18 -> 2819537 | D16: ='[10]KAP''a uygun'!$H18 -> 552384 | E16: =+C16-'[12]Statement of Cash Flow'!C16 -> 0 | F16: =+D16-'[12]Statement of Cash Flow'!D16 -> 0
A17: Vergi gideri ile ilgili düzeltmeler | B17: 20 | C17: ='[10]KAP''a uygun'!$G19 -> -1573301 | D17: ='[10]KAP''a uygun'!$H19 -> -1050990 | E17: =+C17-'[12]Statement of Cash Flow'!C17 -> 0 | F17: =+D17-'[12]Statement of Cash Flow'!D17 -> 0
A18: Vadeli satışlardan kaynaklanan kazanılmamış finansman geliri | B18: 17 | C18: ='[10]KAP''a uygun'!$G20 -> -2117762 | D18: ='[10]KAP''a uygun'!$H20 -> -427842 | E18: =+C18-'[12]Statement of Cash Flow'!C18 -> 0 | F18: =+D18-'[12]Statement of Cash Flow'!D18 -> 0
A19: Vadeli alımlardan kaynaklanan ertelenmiş finansman gideri | B19: 17 | C19: ='[10]KAP''a uygun'!$G21 -> 2576718 | D19: ='[10]KAP''a uygun'!$H21 -> 776010 | E19: =+C19-'[12]Statement of Cash Flow'!C19 -> 0 | F19: =+D19-'[12]Statement of Cash Flow'!D19 -> 0
A20: Duran varlıkların elden çıkarılmasından kaynaklanan kayıplar ile ilgili düzeltmeler | C20: ='[10]KAP''a uygun'!$G22 -> 65098 | D20: ='[10]KAP''a uygun'!$H22 -> 11941 | E20: =+C20-'[12]Statement of Cash Flow'!C20 -> 0 | F20: =+D20-'[12]Statement of Cash Flow'!D20 -> 0
A21: Yatırım ya da finansman faaliyetlerinden kaynaklanan nakit akışlarına neden olan diğer kalemlere ilişkin düzeltmeler | C21: ='[10]KAP''a uygun'!$G23 -> 8691448 | D21: ='[10]KAP''a uygun'!$H23 -> 4696817 | E21: =+C21-'[12]Statement of Cash Flow'!C21 -> 0 | F21: =+D21-'[12]Statement of Cash Flow'!D21 -> 0
A22: Özkaynak yöntemiyle değerlenen yatırımların dağıtılmamış zararları | C22: =+'[11]KAP''a uygun'!$G$24 -> 0 | D22: =+'[11]KAP''a uygun'!$H$24 -> 0
E23: =+C23-'[12]Statement of Cash Flow'!C23 -> 0 | F23: =+D23-'[12]Statement of Cash Flow'!D23 -> 0
A24: İşletme Sermayesinde Gerçekleşen Değişimler | C24: =+SUM(C26:C31) -> -1464689 | D24: =+SUM(D26:D31) -> -8077185 | E24: =+C24-'[12]Statement of Cash Flow'!C24 -> 0 | F24: =+D24-'[12]Statement of Cash Flow'!D24 -> 0
E25: =+C25-'[12]Statement of Cash Flow'!C25 -> 0 | F25: =+D25-'[12]Statement of Cash Flow'!D25 -> 0
A26: Ticari alacaklardaki (artış) / azalış ile ilgili düzeltmeler | C26: ='[10]KAP''a uygun'!$G27 -> -5510496 | D26: ='[10]KAP''a uygun'!$H27 -> -8366393 | E26: =+C26-'[12]Statement of Cash Flow'!C26 -> 0 | F26: =+D26-'[12]Statement of Cash Flow'!D26 -> 0
A27: Stoklardaki (artışlar) / azalışlar ile ilgili düzeltmeler | C27: ='[10]KAP''a uygun'!$G28 -> -15557115 | D27: ='[10]KAP''a uygun'!$H28 -> -6503596 | E27: =+C27-'[12]Statement of Cash Flow'!C27 -> 0 | F27: =+D27-'[12]Statement of Cash Flow'!D27 -> 0
A28: Peşin ödenmiş giderlerdeki (artış) / azalış | C28: ='[10]KAP''a uygun'!$G29 -> -80808 | D28: ='[10]KAP''a uygun'!$H29 -> -290994 | E28: =+C28-'[12]Statement of Cash Flow'!C28 -> 0 | F28: =+D28-'[12]Statement of Cash Flow'!D28 -> 0
A29: Ticari borçlardaki artış / (azalış) ile ilgili düzeltmeler | C29: ='[10]KAP''a uygun'!$G30 -> 17126896 | D29: ='[10]KAP''a uygun'!$H30 -> 8637287 | E29: =+C29-'[12]Statement of Cash Flow'!C29 -> 0 | F29: =+D29-'[12]Statement of Cash Flow'!D29 -> 0
A30: Faaliyetlerle ilgili diğer varlıklardaki (artış) / azalış | C30: ='[10]KAP''a uygun'!$G31 -> -1036957 | D30: ='[10]KAP''a uygun'!$H31 -> -1681376 | E30: =+C30-'[12]Statement of Cash Flow'!C30 -> 0 | F30: =+D30-'[12]Statement of Cash Flow'!D30 -> 0
A31: Faaliyetlerle ilgili diğer yükümlülüklerdeki artış / (azalış) | C31: ='[10]KAP''a uygun'!$G32 -> 3593791 | D31: ='[10]KAP''a uygun'!$H32 -> 127887 | E31: =+C31-'[12]Statement of Cash Flow'!C31 -> 0 | F31: =+D31-'[12]Statement of Cash Flow'!D31 -> 0
E32: =+C32-'[12]Statement of Cash Flow'!C32 -> 0 | F32: =+D32-'[12]Statement of Cash Flow'!D32 -> 0
A33: Faaliyetlerden Elde Edilen Nakit Akışları | C33: =+C6+C7+C24 -> 37361210 | D33: =+D6+D7+D24 -> 8939882 | E33: =+C33-'[12]Statement of Cash Flow'!C33 -> 0 | F33: =+D33-'[12]Statement of Cash Flow'!D33 -> 0
E34: =+C34-'[12]Statement of Cash Flow'!C34 -> 0 | F34: =+D34-'[12]Statement of Cash Flow'!D34 -> 0
A35: Ödenen faiz | C35: ='[10]KAP''a uygun'!$G36 -> -2360938 | D35: ='[10]KAP''a uygun'!$H36 -> -727879 | E35: =+C35-'[12]Statement of Cash Flow'!C35 -> 0 | F35: =+D35-'[12]Statement of Cash Flow'!D35 -> 0
A36: Alınan faiz | C36: ='[10]KAP''a uygun'!$G37 -> 1830738 | D36: ='[10]KAP''a uygun'!$H37 -> 329007 | E36: =+C36-'[12]Statement of Cash Flow'!C36 -> 0 | F36: =+D36-'[12]Statement of Cash Flow'!D36 -> 0
A37: Çalışanlara sağlanan faydalara ilişkin karşılıklar kapsamında yapılan ödemeler | C37: ='[10]KAP''a uygun'!$G38 -> -435844 | D37: ='[10]KAP''a uygun'!$H38 -> -36613 | E37: =+C37-'[12]Statement of Cash Flow'!C37 -> 0 | F37: =+D37-'[12]Statement of Cash Flow'!D37 -> 0
A38: Diğer karşılıklara ilişkin ödemeler | C38: ='[10]KAP''a uygun'!$G39 -> -822233 | D38: ='[10]KAP''a uygun'!$H39 -> -431925 | E38: =+C38-'[12]Statement of Cash Flow'!C38 -> 0 | F38: =+D38-'[12]Statement of Cash Flow'!D38 -> 0
A39: Vergi ödemeleri | C39: ='[10]KAP''a uygun'!$G40 -> -1686377 | D39: ='[10]KAP''a uygun'!$H40 -> -158101 | E39: =+C39-'[12]Statement of Cash Flow'!C39 -> 0 | F39: =+D39-'[12]Statement of Cash Flow'!D39 -> 0
E40: =+C40-'[12]Statement of Cash Flow'!C40 -> 0 | F40: =+D40-'[12]Statement of Cash Flow'!D40 -> 0
A41: Yatırım Faaliyetlerinde Kullanılan Nakit Akışları | C41: =+SUM(C43:C49) -> -15829559 | D41: =+SUM(D43:D49) -> -14933344 | E41: =+C41-'[12]Statement of Cash Flow'!C41 -> 0 | F41: =+D41-'[12]Statement of Cash Flow'!D41 -> 0
E42: =+C42-'[12]Statement of Cash Flow'!C42 -> 0 | F42: =+D42-'[12]Statement of Cash Flow'!D42 -> 0
A43: Maddi duran varlıkların satışından kaynaklanan nakit girişleri | C43: ='[10]KAP''a uygun'!$G44 -> 45734 | D43: ='[10]KAP''a uygun'!$H44 -> 16980 | E43: =+C43-'[12]Statement of Cash Flow'!C43 -> 0 | F43: =+D43-'[12]Statement of Cash Flow'!D43 -> 0
A44: Maddi duran varlık alımından kaynaklanan nakit çıkışları | C44: ='[10]KAP''a uygun'!$G45 -> -10036746 | D44: ='[10]KAP''a uygun'!$H45 -> -2364866 | E44: =+C44-'[12]Statement of Cash Flow'!C44 -> 0 | F44: =+D44-'[12]Statement of Cash Flow'!D44 -> 0
A45: Maddi olmayan duran varlık alımından kaynaklanan nakit çıkışları | C45: ='[10]KAP''a uygun'!$G46 -> -1817438 | D45: ='[10]KAP''a uygun'!$H46 -> -1372326 | E45: =+C45-'[12]Statement of Cash Flow'!C45 -> 0 | F45: =+D45-'[12]Statement of Cash Flow'!D45 -> 0
A46: Verilen nakit avans ve borçlar | C46: ='[10]KAP''a uygun'!$G47 -> -3988775 | D46: ='[10]KAP''a uygun'!$H47 -> -4388596 | E46: =+C46-'[12]Statement of Cash Flow'!C46 -> 0 | F46: =+D46-'[12]Statement of Cash Flow'!D46 -> 0
A47: Alınan temettüler | C47: ='[10]KAP''a uygun'!$G48 -> 0 | D47: ='[10]KAP''a uygun'!$H48 -> 2929 | E47: =+C47-'[12]Statement of Cash Flow'!C47 -> 0 | F47: =+D47-'[12]Statement of Cash Flow'!D47 -> 0
A48: Bağlı ortaklıkların kontrolünün elde edilmesine yönelik ödemelere ilişkin nakit çıkışları | B48: 3 | C48: ='[10]KAP''a uygun'!$G$50 -> 0 | D48: ='[10]KAP''a uygun'!$H$50 -> -6825590 | E48: =+C48-'[12]Statement of Cash Flow'!C48 -> 0 | F48: =+D48-'[12]Statement of Cash Flow'!D48 -> 0
A49: İştiraklerin pay alımı/sermaye artırımı sebebiyle oluşan nakit çıkışları | C49: ='[10]KAP''a uygun'!$G$49 -> -32334 | D49: ='[10]KAP''a uygun'!$H$49 -> -1875 | E49: =+C49-'[12]Statement of Cash Flow'!C49 -> 0 | F49: =+D49-'[12]Statement of Cash Flow'!D49 -> 0
E50: =+C50-'[12]Statement of Cash Flow'!C50 -> 0 | F50: =+D50-'[12]Statement of Cash Flow'!D50 -> 0
A51: Finansman Faaliyetlerinde (Kullanılan) / Elde Edilen Nakit Akışları | C51: =+SUM(C53:C58) -> 2527263 | D51: =+SUM(D53:D58) -> -27634 | E51: =+C51-'[12]Statement of Cash Flow'!C51 -> 0 | F51: =+D51-'[12]Statement of Cash Flow'!D51 -> 0
E52: =+C52-'[12]Statement of Cash Flow'!C52 -> 0 | F52: =+D52-'[12]Statement of Cash Flow'!D52 -> 0
A53: Borçlanmadan kaynaklanan nakit girişleri | B53: 6 | C53: ='[10]KAP''a uygun'!$G53 -> 18571451 | D53: ='[10]KAP''a uygun'!$H53 -> 16763827 | E53: =+C53-'[12]Statement of Cash Flow'!C53 -> 0 | F53: =+D53-'[12]Statement of Cash Flow'!D53 -> 0
A54: Borç ödemelerine ilişkin nakit çıkışları | B54: 6 | C54: ='[10]KAP''a uygun'!$G54 -> -11174673 | D54: ='[10]KAP''a uygun'!$H54 -> -12327358 | E54: =+C54-'[12]Statement of Cash Flow'!C54 -> 0 | F54: =+D54-'[12]Statement of Cash Flow'!D54 -> 0
A55: Ödenen temettüler | B55: 14 | C55: ='[10]KAP''a uygun'!$G55 -> -5000468 | D55: ='[10]KAP''a uygun'!$H55 -> -4561830 | E55: =+C55-'[12]Statement of Cash Flow'!C55 -> 0 | F55: =+D55-'[12]Statement of Cash Flow'!D55 -> 0
A56: Ödenen faiz | C56: ='[10]KAP''a uygun'!$G56 -> -1761367 | D56: ='[10]KAP''a uygun'!$H56 -> -369552 | E56: =+C56-'[12]Statement of Cash Flow'!C56 -> 0 | F56: =+D56-'[12]Statement of Cash Flow'!D56 -> 0
A57: Alınan faiz | C57: ='[10]KAP''a uygun'!$G57 -> 1990961 | D57: ='[10]KAP''a uygun'!$H57 -> 528549 | E57: =+C57-'[12]Statement of Cash Flow'!C57 -> 0 | F57: =+D57-'[12]Statement of Cash Flow'!D57 -> 0
A58: Kira sözleşmelerinden kaynaklanan borç ödemelerine ilişkin nakit çıkışları | B58: 6 | C58: ='[10]KAP''a uygun'!$G58 -> -98641 | D58: ='[10]KAP''a uygun'!$H58 -> -61270 | E58: =+C58-'[12]Statement of Cash Flow'!C58 -> 0 | F58: =+D58-'[12]Statement of Cash Flow'!D58 -> 0
E59: =+C59-'[12]Statement of Cash Flow'!C59 -> 0 | F59: =+D59-'[12]Statement of Cash Flow'!D59 -> 0
A60: Yabancı para çevirim farklarının etkisinden önce nakit ve nakit benzerlerindeki net (azalış) / artış | C60: =+C5+C41+C51 -> 20584260 | D60: =+D5+D41+D51 -> -7046607 | E60: =+C60-'[12]Statement of Cash Flow'!C60 -> 0 | F60: =+D60-'[12]Statement of Cash Flow'!D60 -> 0
A61: Yabancı para çevirim farklarının nakit ve nakit benzerleri üzerindeki etkisi | C61: ='[10]KAP''a uygun'!$G$60 -> -226222 | D61: 189416
A63: Dönem başı nakit ve nakit benzerleri | C63: ='[10]KAP''a uygun'!$G$63 -> 10109622 | D63: ='[10]KAP''a uygun'!$H$63 -> 14106240 | E63: =+C63-'[12]Statement of Cash Flow'!C63 -> 0 | F63: =+D63-'[12]Statement of Cash Flow'!D63 -> 0
E64: =+C64-'[12]Statement of Cash Flow'!C64 -> 0 | F64: =+D64-'[12]Statement of Cash Flow'!D64 -> 0
A65: Dönem sonu nakit ve nakit benzerleri | C65: =+C60+C63+C61 -> 30467660 | D65: =+D60+D63+D61 -> 7249049 | E65: =+C65-'[12]Statement of Cash Flow'!C65 -> 0 | F65: =+D65-'[12]Statement of Cash Flow'!D65 -> 0
