Workbook
Name OLE_LINK1: 'Özkaynak Değişim Tablosu'!#REF!
Name OLE_LINK154: 'Nakit Akım Tablosu'!#REF!
Name OLE_LINK3: 'Nakit Akım Tablosu'!$G$5
Name OLE_LINK41: Kaynaklar!$D$28
Name OLE_LINK43: Varlıklar!#REF!
Name OLE_LINK64: Kaynaklar!#REF!

Sheet Varlıklar
A1: Ford Otomotiv Sanayi A.Ş. 31 Mart 2023 ve 31 Aralık 2022 tarihleri itibarıyla finansal durum tabloları
C2: Cari dönem bağımsız denetimden geçmemiş | D2: Geçmiş dönem bağımsız denetimden geçmiş
A3: Türk Lirası (bin TL) | B3: Notlar | C3: 45016 | D3: 44926
A4: Varlıklar | E4: Check | F4: Check
A5: Dönen varlıklar | C5: =SUM(C7:C19) -> 68379517 | D5: =SUM(D7:D19) -> 55124518 | E5: =+C5-[10]Assets!C5 -> 0 | F5: =+D5-[10]Assets!D5 -> 0
A7: Nakit ve nakit benzerleri | C7: ='[1]FORMSRK WORD-Final SPK'!$C$13 -> 21285347 | D7: =+'[2]FORMSRK WORD-Final SPK'!$C$13 -> 10114706
A8: Ticari alacaklar
A9: - İlişkili taraflardan ticari alacaklar | B9: 22 | C9: ='[1]FORMSRK WORD-Final SPK'!$C$15 -> 15617518 | D9: =+'[2]FORMSRK WORD-Final SPK'!$C$15 -> 18656099
A10: - İlişkili olmayan taraflardan ticari alacaklar | B10: 7 | C10: ='[1]FORMSRK WORD-Final SPK'!$C$16 -> 9609212 | D10: =+'[2]FORMSRK WORD-Final SPK'!$C$16 -> 7194845
A11: Diğer alacaklar
A12: - İlişkili taraflardan diğer alacaklar | B12: 22 | C12: ='[1]FORMSRK WORD-Final SPK'!$C$19 -> 181693 | D12: =+'[2]FORMSRK WORD-Final SPK'!$C$19 -> 167414
A13: - İlişkili olmayan taraflardan diğer alacaklar | C13: ='[1]FORMSRK WORD-Final SPK'!$C$18+1 -> 135919 | D13: =+'[2]FORMSRK WORD-Final SPK'!$C$18 -> 116104
A14: Stoklar | B14: 8 | C14: ='[1]FORMSRK WORD-Final SPK'!$C$21 -> 17456947 | D14: =+'[2]FORMSRK WORD-Final SPK'!$C$21 -> 13854008
A15: Peşin ödenmiş giderler | B15: 11 | C15: ='[1]FORMSRK WORD-Final SPK'!$C$22 -> 962537 | D15: =+'[2]FORMSRK WORD-Final SPK'!$C$22 -> 1195201
A16: Diğer dönen varlıklar | C16: ='[1]FORMSRK WORD-Final SPK'!$C$23 -> 3130344 | D16: =+'[2]FORMSRK WORD-Final SPK'!$C$23 -> 3674364
A17: Cari dönem vergisi ile ilgili varlıklar | B17: 20 | C17: - | D17: =+'[2]FORMSRK WORD-Final SPK'!$C$24 -> 151777
A18: Cari dönem vergisi ile ilgili varlıklar | B18: 24 | D18: -
A19: Türev finansal varlıklar | B19: 28 | D19: -
E20: Check | F20: Check
A21: Duran varlıklar | C21: =SUM(C23:C38) -> 46401140 | D21: =SUM(D23:D38) -> 40927729 | E21: =+C21-[10]Assets!C21 -> 0 | F21: =+D21-[10]Assets!D21 -> 0
A23: Finansal yatırımlar | B23: 5 | C23: ='[1]FORMSRK WORD-Final SPK'!$C$29 -> 129014 | D23: =+'[2]FORMSRK WORD-Final SPK'!$C$29 -> 145942
A24: Ticari alacaklar
A25: - İlişkili olmayan taraflardan ticari alacaklar | B25: 7 | C25: ='[1]FORMSRK WORD-Final SPK'!$C$28 -> 16959 | D25: =+'[2]FORMSRK WORD-Final SPK'!$C$28 -> 15684
A26: Diğer Alacaklar
A27: - İlişkili taraflardan diğer alacaklar | B27: 22 | C27: ='[1]FORMSRK WORD-Final SPK'!$C$35 -> 1154494 | D27: =+'[2]FORMSRK WORD-Final SPK'!$C$35 -> 1153083
A28: Maddi duran varlıklar | B28: 9 | C28: ='[1]FORMSRK WORD-Final SPK'!$C$30 -> 21639775 | D28: =+'[2]FORMSRK WORD-Final SPK'!$C$30 -> 20145190
A29: Maddi olmayan duran varlıklar
A30: - Diğer maddi olmayan duran varlıklar | B30: 10 | C30: ='[1]FORMSRK WORD-Final SPK'!$C$31 -> 7482550 | D30: =+'[2]FORMSRK WORD-Final SPK'!$C$31 -> 6950343
A31: - Şerefiye | C31: ='[1]FORMSRK WORD-Final SPK'!$C$32 -> 525778 | D31: =+'[2]FORMSRK WORD-Final SPK'!$C$32 -> 503941
A32: Kullanım hakkı varlıkları | C32: ='[1]FORMSRK WORD-Final SPK'!$C$26 -> 147750 | D32: =+'[2]FORMSRK WORD-Final SPK'!$C$26 -> 164475
A33: Peşin ödenmiş giderler | B33: 11 | C33: ='[1]FORMSRK WORD-Final SPK'!$C$33 -> 7427560 | D33: =+'[2]FORMSRK WORD-Final SPK'!$C$33 -> 6063772
A34: Ertelenmiş vergi varlığı | B34: 20 | C34: ='[1]FORMSRK WORD-Final SPK'!$C$34 -> 7423444.8 | D34: =+'[2]FORMSRK WORD-Final SPK'!$C$34 -> 5374582.1
A35: Özkaynak yöntemiyle değerlenen yatırımlar | C35: 0 | D35: 0
A36: İştirakler, iş ortaklıkları ve bağlı ortaklıklardaki yatırımlar | C36: ='[1]FORMSRK WORD-Final SPK'!$C$36 -> 58000 | D36: =+'[2]FORMSRK WORD-Final SPK'!$C$36 -> 28000
A37: Türev finansal varlıklar | B37: 24 | C37: ='[1]FORMSRK WORD-Final SPK'!$C$37 -> 395815 | D37: =+'[2]FORMSRK WORD-Final SPK'!$C$37 -> 382717
A38: Diğer duran varlıklar | B38: 35 | C38: 0 | D38: 0
E39: Check | F39: Check
A40: Toplam varlıklar | C40: =+C5+C21 -> 1.1478066e+08 | D40: =+D5+D21 -> 96052247 | E40: =+C40-[10]Assets!C40 -> 0 | F40: =+D40-[10]Assets!D40 -> 0

Sheet Kaynaklar
A1: =+Varlıklar!A1 -> Ford Otomotiv Sanayi A.Ş. 31 Mart 2023 ve 31 Aralık 2022 tarihleri itibarıyla finansal durum tabloları
C2: =+Varlıklar!C2 -> Cari dönem bağımsız denetimden geçmemiş | D2: =+Varlıklar!D2 -> Geçmiş dönem bağımsız denetimden geçmiş
A3: Türk Lirası (bin TL) | B3: Notlar | C3: =+Varlıklar!C3 -> 45016 | D3: =+Varlıklar!D3 -> 44926
A4: Kaynaklar | E4: Check | F4: Check
A5: Kısa vadeli yükümlülükler | C5: =SUM(C7:C23) -> 60001068 | D5: =SUM(D8:D23) -> 46205980 | E5: =+C5-[10]Liabilities!C5 -> 0 | F5: =+D5-[10]Liabilities!D5 -> 0
A7: Kısa vadeli borçlanmalar
A8: - Banka kredileri | B8: 6 | C8: ='[1]FORMSRK WORD-Final SPK'!$C$51 -> 10985160 | D8: =+'[2]FORMSRK WORD-Final SPK'!$C$51 -> 7523746
A9: Uzun vadeli borçlanmaların kısa vadeli kısımları
A10: - Banka kredileri | B10: 6 | C10: ='[1]FORMSRK WORD-Final SPK'!$C$53 -> 5509234 | D10: =+'[2]FORMSRK WORD-Final SPK'!$C$53 -> 5619141
A11: - Kiralama işlemlerinden borçlar | B11: 6 | C11: ='[1]FORMSRK WORD-Final SPK'!$C$49 -> 69411 | D11: =+'[2]FORMSRK WORD-Final SPK'!$C$49 -> 75716
A12: Ticari borçlar
A13: - İlişkili taraflara ticari borçlar | B13: 22 | C13: ='[1]FORMSRK WORD-Final SPK'!$C$55 -> 6300776 | D13: =+'[2]FORMSRK WORD-Final SPK'!$C$55 -> 4529401
A14: - İlişkili olmayan taraflara ticari borçlar | B14: 7 | C14: ='[1]FORMSRK WORD-Final SPK'!$C$56 -> 32365737 | D14: =+'[2]FORMSRK WORD-Final SPK'!$C$56 -> 25616845
A15: Diğer borçlar
A16: - İlişkili taraflara diğer borçlar | B16: 22 | C16: ='[1]FORMSRK WORD-Final SPK'!$C$58 -> 0 | D16: =+'[2]FORMSRK WORD-Final SPK'!$C$58 -> 73169
A17: - İlişkili olmayan taraflara diğer borçlar | C17: ='[1]FORMSRK WORD-Final SPK'!$C$59+1 -> 924917 | D17: =+'[2]FORMSRK WORD-Final SPK'!$C$59 -> 662186
A18: Ertelenmiş gelirler | C18: ='[1]FORMSRK WORD-Final SPK'!$C$60 -> 175408 | D18: =+'[2]FORMSRK WORD-Final SPK'!$C$60 -> 151546
A19: Kısa vadeli karşılıklar
A20: - Diğer kısa vadeli karşılıklar | B20: 12 | C20: ='[1]FORMSRK WORD-Final SPK'!$C$61 -> 624069 | D20: =+'[2]FORMSRK WORD-Final SPK'!$C$61 -> 575911
A21: Çalışanlara sağlanan faydalar kapsamında borçlar | C21: ='[1]FORMSRK WORD-Final SPK'!$C$63 -> 1328781 | D21: =+'[2]FORMSRK WORD-Final SPK'!$C$63 -> 1255686
A22: Dönem karı vergi yükümlülüğü | B22: 20 | C22: ='[1]FORMSRK WORD-Final SPK'!$C$64 -> 1655868 | D22: -
A23: Türev finansal yükümlülükler | B23: 24 | C23: ='[1]FORMSRK WORD-Final SPK'!$C$65 -> 61706.882 | D23: =+'[2]FORMSRK WORD-Final SPK'!$C$65 -> 122633
E24: Check | F24: Check
A25: Uzun vadeli yükümlülükler | C25: =SUM(C28:C37) -> 32717020 | D25: =SUM(D28:D37) -> 28444093 | E25: =+C25-[10]Liabilities!C25 -> 0 | F25: =+D25-[10]Liabilities!$D$25 -> 0
A27: Uzun vadeli borçlanmalar
A28: - Banka kredileri | B28: 6 | C28: ='[1]FORMSRK WORD-Final SPK'!$C$71 -> 22288388 | D28: =+'[2]FORMSRK WORD-Final SPK'!$C$71 -> 18175044
A29: - Kiralama işlemlerinden borçlar | B29: 6 | C29: ='[1]FORMSRK WORD-Final SPK'!$C$68 -> 104473 | D29: =+'[2]FORMSRK WORD-Final SPK'!$C$68 -> 117614
A30: - Diğer Uzun Vadeli Borçlar | B30: 6 | C30: ='[1]FORMSRK WORD-Final SPK'!$C$69 -> 6706849 | D30: =+'[2]FORMSRK WORD-Final SPK'!$C$69 -> 6407114
A31: Uzun vadeli karşılıklar
A32: - Çalışanlara sağlanan faydalara ilişkin uzun vadeli karşılıklar | C32: ='[1]FORMSRK WORD-Final SPK'!$C$74 -> 1696928 | D32: =+'[2]FORMSRK WORD-Final SPK'!$C$74 -> 1890236
A33: - Diğer uzun vadeli karşılıklar | B33: 12 | C33: ='[1]FORMSRK WORD-Final SPK'!$C$75 -> 796374 | D33: =+'[2]FORMSRK WORD-Final SPK'!$C$75 -> 786836
A34: Ertelenmiş gelirler | C34: ='[1]FORMSRK WORD-Final SPK'!$C$77 -> 512101 | D34: =+'[2]FORMSRK WORD-Final SPK'!$C$77 -> 493991
A35: Diğer uzun vadeli yükümlülükler | C35: ='[1]FORMSRK WORD-Final SPK'!$C$78 -> 5439 | D35: =+'[2]FORMSRK WORD-Final SPK'!$C$78 -> 5439
A36: Türev finansal yükümlülükler | B36: 24 | C36: ='[1]FORMSRK WORD-Final SPK'!$C$79 -> 23765.118 | D36: -
A37: Ertelenmiş vergi yükümlülüğü | B37: 20 | C37: ='[1]FORMSRK WORD-Final SPK'!$C$80 -> 582702.8 | D37: =+'[2]FORMSRK WORD-Final SPK'!$C$80 -> 567819.13
E38: Check | F38: Check
A39: Özkaynaklar | B39: 14 | C39: =SUM(C41:C52) -> 22062569 | D39: =SUM(D41:D52) -> 21402174 | E39: =+C39-[10]Liabilities!C39 -> 0 | F39: =+D39-[10]Liabilities!D39 -> 0
A41: Ödenmiş sermaye | C41: ='[1]FORMSRK WORD-Final SPK'!$C$85 -> 350910 | D41: =+'[2]FORMSRK WORD-Final SPK'!$C$85 -> 350910
A42: Sermaye düzeltme farkları | C42: ='[1]FORMSRK WORD-Final SPK'!$C$86 -> 27920 | D42: =+'[2]FORMSRK WORD-Final SPK'!$C$86 -> 27920
A43: Paylara ilişkin primler | C43: ='[1]FORMSRK WORD-Final SPK'!$C$87 -> 8 | D43: =+'[2]FORMSRK WORD-Final SPK'!$C$87 -> 8
...

Sheet Gelir Tablosu 
A1: Ford Otomotiv Sanayi A.Ş. 31 Mart 2023 ve 2022 tarihlerinde sona eren üç aylık ara dönemlere ait kar veya zarar tabloları
C2: Cari dönem bağımsız denetimden geçmemiş | D2: Geçmiş dönem bağımsız denetimden geçmemiş
A3: Türk Lirası (bin TL) | B3: Notlar | C3: 1 Ocak- 31 Mart 2023 | D3: 1 Ocak- 31 Mart 2022
A5: Sürdürülen faaliyetler
A6: Hasılat | B6: 15 | C6: ='[1]Gelir Tablosu'!$AB$9 -> 66302325 | D6: =+'[3]Gelir Tablosu'!$D$9 -> 27876425
A7: Satışların maliyeti | B7: 15 | C7: ='[1]Gelir Tablosu'!$AB$10 -> -57811922 | D7: =+'[3]Gelir Tablosu'!$D$10 -> -24157311
G8: Check | H8: Check
A9: Brüt kar | C9: =+SUM(C6:C7) -> 8490403 | D9: =+SUM(D6:D7) -> 3719114 | G9: =+C9-'[10]Profit or Loss '!$C$9 -> 0 | H9: =+D9-'[10]Profit or Loss '!$D$9 -> 0
A11: Pazarlama giderleri | C11: ='[1]Gelir Tablosu'!$AB$14 -> -775268 | D11: =+'[3]Gelir Tablosu'!$D$14 -> -480099
A12: Genel yönetim giderleri | C12: ='[1]Gelir Tablosu'!$AB$15 -> -834055 | D12: =+'[3]Gelir Tablosu'!$D$15 -> -285627
A13: Araştırma ve geliştirme giderleri | C13: ='[1]Gelir Tablosu'!$AB$16 -> -801003 | D13: =+'[3]Gelir Tablosu'!$D$16 -> -276715
A14: Esas faaliyetlerden diğer gelirler | B14: 17 | C14: ='[1]Gelir Tablosu'!$AB$17 -> 1132230 | D14: =+'[3]Gelir Tablosu'!$D$17 -> 808270
A15: Esas faaliyetlerden diğer giderler | B15: 17 | C15: ='[1]Gelir Tablosu'!$AB$18 -> -1048740 | D15: =+'[3]Gelir Tablosu'!$D$18 -> -362161
G16: Check | H16: Check
A17: Esas faaliyet karı | C17: =+SUM(C9:C15) -> 6163567 | D17: =+SUM(D9:D15) -> 3122782 | G17: =+C17-'[10]Profit or Loss '!$C$17 -> 0 | H17: =+D17-'[10]Profit or Loss '!$D$17 -> 0
A19: Yatırım faaliyetlerinden gelirler | C19: ='[1]Gelir Tablosu'!$AB$22 -> 45 | D19: =+'[3]Gelir Tablosu'!$D$22 -> 3601
A20: Yatırım faaliyetlerinden giderler | C20: ='[1]Gelir Tablosu'!$AB$23 -> -1577 | D20: =+'[3]Gelir Tablosu'!$D$23 -> -16226
A21: Özkaynak yöntemiyle değerlenen yatırımların karlarından / (zararlarlarından) paylar | B21: 32 | C21: =+'[4]Gelir Tablosu'!$D$24 -> 0 | D21: =+'[4]Gelir Tablosu'!$E24 -> 0
G22: Check | H22: Check
A23: Finansman geliri / (gideri) öncesi faaliyet karı | C23: =+SUM(C17:C21) -> 6162035 | D23: =+SUM(D17:D21) -> 3110157 | G23: =+C23-'[10]Profit or Loss '!$C$24 -> 0 | H23: =+D23-'[10]Profit or Loss '!$D$24 -> 0
A25: Finansman gelirleri | B25: 18 | C25: ='[1]Gelir Tablosu'!$AB$28 -> 1662778 | D25: =+'[3]Gelir Tablosu'!$D$28 -> 1527538
A26: Finansman giderleri | B26: 19 | C26: ='[1]Gelir Tablosu'!$AB$29 -> -2665181 | D26: =+'[3]Gelir Tablosu'!$D$29 -> -2352474
G27: Check | H27: Check
A28: Sürdürülen faaliyetler vergi öncesi karı | C28: =+SUM(C23:C26) -> 5159632 | D28: =+SUM(D23:D26) -> 2285221 | G28: =+C28-'[10]Profit or Loss '!$C$29 -> 0 | H28: =+D28-'[10]Profit or Loss '!$D$29 -> 0
A30: Sürdürülen faaliyetler vergi geliri / (gideri) | C30: =+SUM(C31:C32) -> 193135 | D30: =+SUM(D31:D32) -> 516558
A31: - Dönem vergi gideri | B31: 20 | C31: ='[1]Gelir Tablosu'!$AB$34 -> -1839910 | D31: =+'[3]Gelir Tablosu'!$D$34 -> -32280.23
A32: - Ertelenmiş vergi gideri | B32: 20 | C32: ='[1]Gelir Tablosu'!$AB$35 -> 2033045 | D32: =+'[3]Gelir Tablosu'!$D$35 -> 548838.23
G33: Check | H33: Check
A34: Dönem karı | C34: =+C28+C31+C32 -> 5352767 | D34: =+D28+D31+D32 -> 2801779 | G34: =+C34-'[10]Profit or Loss '!$C$35 -> 0 | H34: =+D34-'[10]Profit or Loss '!$D$35 -> 0
A36: Nominal değeri 1 Kr olan pay başına kazanç | B36: 21 | C36: 15,25 Kr | D36: 7,98 Kr

Sheet Kapsamlı Gelir Tablosu 
A1: Ford Otomotiv Sanayi A.Ş. 31 Mart 2023 ve 2022 tarihlerinde sona eren üç aylık ara dönemlere ait diğer kapsamlı gelir tabloları
C2: =+'Gelir Tablosu '!C2 -> Cari dönem bağımsız denetimden geçmemiş | D2: =+'Gelir Tablosu '!D2 -> Geçmiş dönem bağımsız denetimden geçmemiş | E2: =+'Gelir Tablosu '!E2 -> 0 | F2: =+'Gelir Tablosu '!F2 -> 0
A3: Türk Lirası (bin TL) | B3: Notlar | C3: =+'Gelir Tablosu '!C3 -> 1 Ocak- 31 Mart 2023 | D3: =+'Gelir Tablosu '!D3 -> 1 Ocak- 31 Mart 2022 | E3: =+'Gelir Tablosu '!E3 -> 0 | F3: =+'Gelir Tablosu '!F3 -> 0
G4: Check | H4: Check
A5: Dönem karı | C5: =+'Gelir Tablosu '!C34 -> 5352767 | D5: =+'Gelir Tablosu '!D34 -> 2801779 | E5: =+'Gelir Tablosu '!E34 -> 0 | F5: =+'Gelir Tablosu '!F34 -> 0 | G5: =+C5-'[10]Comprehensive Income Statement'!$C$5 -> 0 | H5: =+D5-'[10]Comprehensive Income Statement'!$D$5 -> 0
A7: Diğer kapsamlı gelir / (gider)
A9: Kar veya zararda yeniden sınıflandırılmayacaklar
A10: Tanımlanmış fayda planları yeniden ölçüm (kayıpları) / kazançları | B10: 14 | C10: =[5]Konsolide!$F$39 -> 133924 | D10: =[6]Sheet1!$F$39 -> 16061
A12: Kar veya zararda yeniden sınıflandırılmayacak diğer kapsamlı gelire ilişkin vergiler
A13: Tanımlanmış fayda planları yeniden ölçüm kazançları / (kayıpları), vergi etkisi | B13: =$B$10 -> 14 | C13: =[5]Konsolide!$F$40 -> -26785 | D13: =[6]Sheet1!$F$40 -> -3212
A15: Kar veya zarar olarak yeniden sınıflandırılacaklar
A16: Gerçeğe uygun değer farkı diğer kapsamlı gelire yansıtılan finansal varlıklardan kazançlar / (kayıplar) | B16: =$B$10 -> 14 | C16: =[5]Konsolide!$F$43 -> -16928 | D16: =[6]Sheet1!$F$43 -> 10137
A17: Yabancı para çevirim farkları | C17: =[5]Konsolide!$F$48 -> 539197.3 | D17: 0
A18: Nakit akış riskinden korunmaya ilişkin diğer kapsamlı gelir / (gider) | B18: =$B$10 -> 14 | C18: =[5]Konsolide!$F$46 -> -373524 | D18: =[6]Sheet1!$F$46 -> -126906
A20: Kar veya zararda yeniden sınıflandırılacak diğer kapsamlı gelire ilişkin vergiler
A21: Gerçeğe uygun değer farkı diğer kapsamlı gelire yansıtılan finansal varlıklardan kazançlar / (kayıplar), vergi etkisi | B21: =$B$10 -> 14 | C21: =[5]Konsolide!$F$44 -> 846 | D21: =[6]Sheet1!$F$44 -> -507
A22: Nakit akış riskinden korunmaya ilişkin diğer kapsamlı gelir, vergi etkisi | B22: =$B$10 -> 14 | C22: =[5]Konsolide!$F$47 -> 51366 | D22: =[6]Sheet1!$F$47 -> 10992
G23: Check | H23: Check
A24: Diğer kapsamlı gelir / (gider) | C24: =+SUM(C10:C22) -> 308096.3 | D24: =+SUM(D10:D22) -> -93435 | E24: =+SUM(E10:E22) -> 0 | F24: =+SUM(F10:F22) -> 0 | G24: =+C24-'[10]Comprehensive Income Statement'!$C$24 -> 0 | H24: =+D24-'[10]Comprehensive Income Statement'!$D$24 -> 0
A26: Toplam kapsamlı gelir | C26: =+C5+C24 -> 5660863.3 | D26: =+D5+D24 -> 2708344 | E26: =+E5+E24 -> 0 | F26: =+F5+F24 -> 0 | G26: =+C26-'[10]Comprehensive Income Statement'!$C$26 -> 0 | H26: =+D26-'[10]Comprehensive Income Statement'!$D$26 -> 0

Sheet Özkaynak Değişim Tablosu
A1: Ford Otomotiv Sanayi A.Ş. 1 Ocak - 31 Mart 2023 ve 2022 hesap dönemlerine ait özkaynak değişim tabloları
E2: Kar veya zararda yeniden sınıflandırılmayacak birikmiş diğer kapsamlı gelirler veya giderler | G2: Kar veya zararda yeniden sınıflandırılacak birikmiş diğer kapsamlı gelirler veya giderler | K2: Birikmiş karlar
A3: Türk Lirası (bin TL) | B3: Ödenmiş sermaye | C3: Sermaye düzeltme farkları | D3: Paylara İlişkin Primler | E3: Tanımlanmış fayda planları yeniden ölçüm (kayıpları) / kazançları | G3: Gerçeğe uygun değer farkı diğer kapsamlı gelire yansıtılan finansal varlıklardan kazançlar / (kayıplar) | H3: Nakit akış riskinden korunma (kayıpları) / kazançları | I3: Yabancı para çevrim farkları | J3: Kardan ayrılan kısıtlanmış yedekler | K3: Geçmiş yıllar karları | L3: Net dönem karı | M3: Toplam özkaynaklar | N3: Check
A4: 1 Ocak 2022 itibarıyla bakiyeler | B4: =+'[7]Özkaynak Değişim Tablosu'!$B$18 -> 350910 | C4: =+'[7]Özkaynak Değişim Tablosu'!$C$18 -> 27920 | D4: =+'[7]Özkaynak Değişim Tablosu'!$D$18 -> 8 | E4: =+'[7]Özkaynak Değişim Tablosu'!$F$18 -> -125723 | G4: =+'[7]Özkaynak Değişim Tablosu'!$E$18 -> 46489 | H4: =+'[7]Özkaynak Değişim Tablosu'!$H$18 -> -3191233 | I4: 0 | J4: =+'[7]Özkaynak Değişim Tablosu'!$I$18 -> 766316 | K4: =+'[7]Özkaynak Değişim Tablosu'!$J$18 -> 3472846 | L4: =+'[7]Özkaynak Değişim Tablosu'!$K$18 -> 8801005 | M4: =+'[7]Özkaynak Değişim Tablosu'!$L$18 -> 10148538 | N4: =+M4-'[10]Changes In Equity'!$M4 -> 0
N5: =+M5-'[10]Changes In Equity'!$M9 -> 0
A6: Yeniden düzeltmelerin etkisi | N6: =+M6-'[10]Changes In Equity'!$M6 -> 0
A8: Yeniden Düzenlenmiş
A9: 1 Ocak 2022 itibarıyla bakiyeler | B9: =+B4+B6 -> 350910 | C9: =+C4+C6 -> 27920 | D9: =+D4+D6 -> 8 | E9: =+E4+E6 -> -125723 | G9: =+G4+G6 -> 46489 | H9: =+H4+H6 -> -3191233 | I9: =+I4+I6 -> 0 | J9: =+J4+J6 -> 766316 | K9: =+K4+K6 -> 3472846 | L9: =+L4+L6 -> 8801005 | M9: =+M4+M6 -> 10148538 | N9: =+M9-'[10]Changes In Equity'!$M8 -> 0
A11: Dönem karı | B11: =+'[7]Özkaynak Değişim Tablosu'!B25 -> 0 | C11: =+'[7]Özkaynak Değişim Tablosu'!C25 -> 0 | D11: =+'[7]Özkaynak Değişim Tablosu'!D25 -> 0 | E11: =+'[7]Özkaynak Değişim Tablosu'!F25 -> 0 | G11: =+'[7]Özkaynak Değişim Tablosu'!E25 -> 0 | H11: =+'[7]Özkaynak Değişim Tablosu'!H25 -> 0 | I11: 0 | J11: =+'[7]Özkaynak Değişim Tablosu'!I25 -> 0 | K11: =+'[7]Özkaynak Değişim Tablosu'!J25 -> 0 | L11: =+'[7]Özkaynak Değişim Tablosu'!K25 -> 2801779 | M11: =+SUM(B11:L11) -> 2801779 | N11: =+M11-'[10]Changes In Equity'!$M10 -> 0
A12: Diğer kapsamlı gelir / (gider) | B12: =+'[7]Özkaynak Değişim Tablosu'!B26 -> 0 | C12: =+'[7]Özkaynak Değişim Tablosu'!C26 -> 0 | D12: =+'[7]Özkaynak Değişim Tablosu'!D26 -> 0 | E12: =+'[7]Özkaynak Değişim Tablosu'!F26 -> 12849 | G12: =+'[7]Özkaynak Değişim Tablosu'!E26 -> 9630 | H12: =+'[7]Özkaynak Değişim Tablosu'!H26 -> -115914 | I12: 0 | J12: =+'[7]Özkaynak Değişim Tablosu'!I26 -> 0 | K12: =+'[7]Özkaynak Değişim Tablosu'!J26 -> 0 | L12: =+'[7]Özkaynak Değişim Tablosu'!K26 -> 0 | M12: =+SUM(B12:L12) -> -93435 | N12: =+M12-'[10]Changes In Equity'!$M11 -> 0
A13: Toplam kapsamlı gelir | B13: =+'[7]Özkaynak Değişim Tablosu'!B27 -> 0 | C13: =+'[7]Özkaynak Değişim Tablosu'!C27 -> 0 | D13: =+'[7]Özkaynak Değişim Tablosu'!D27 -> 0 | E13: =+'[7]Özkaynak Değişim Tablosu'!F27 -> 12849 | G13: =+'[7]Özkaynak Değişim Tablosu'!E27 -> 9630 | H13: =+'[7]Özkaynak Değişim Tablosu'!H27 -> -115914 | I13: 0 | J13: =+'[7]Özkaynak Değişim Tablosu'!I27 -> 0 | K13: =+'[7]Özkaynak Değişim Tablosu'!J27 -> 0 | L13: =+'[7]Özkaynak Değişim Tablosu'!K27 -> 2801779 | M13: =+SUM(B13:L13) -> 2708344 | N13: =+M13-'[10]Changes In Equity'!$M12 -> 0
A14: Transferler | B14: =+'[7]Özkaynak Değişim Tablosu'!B28 -> 0 | C14: =+'[7]Özkaynak Değişim Tablosu'!C28 -> 0 | D14: =+'[7]Özkaynak Değişim Tablosu'!D28 -> 0 | E14: =+'[7]Özkaynak Değişim Tablosu'!F28 -> 0 | G14: =+'[7]Özkaynak Değişim Tablosu'!E28 -> 0 | H14: =+'[7]Özkaynak Değişim Tablosu'!H28 -> 0 | I14: 0 | J14: =+'[7]Özkaynak Değişim Tablosu'!I28 -> 454428 | K14: =+'[7]Özkaynak Değişim Tablosu'!J28 -> 8346577 | L14: =+'[7]Özkaynak Değişim Tablosu'!K28 -> -8801005 | M14: 0 | N14: =+M14-'[10]Changes In Equity'!$M13 -> 0
A15: Kar payları | B15: =+'[7]Özkaynak Değişim Tablosu'!B29 -> 0 | C15: =+'[7]Özkaynak Değişim Tablosu'!C29 -> 0 | D15: =+'[7]Özkaynak Değişim Tablosu'!D29 -> 0 | E15: =+'[7]Özkaynak Değişim Tablosu'!F29 -> 0 | G15: =+'[7]Özkaynak Değişim Tablosu'!E29 -> 0 | H15: =+'[7]Özkaynak Değişim Tablosu'!H29 -> 0 | I15: 0 | J15: =+'[7]Özkaynak Değişim Tablosu'!I29 -> 0 | K15: =+'[7]Özkaynak Değişim Tablosu'!J29 -> -4561830 | L15: =+'[7]Özkaynak Değişim Tablosu'!K29 -> 0 | M15: =+SUM(B15:L15) -> -4561830 | N15: =+M15-'[10]Changes In Equity'!$M$14 -> 0
A16: 31 Mart 2022 itibarıyla bakiyeler | B16: =+B4+B13+B14+B15 -> 350910 | C16: =+C4+C13+C14+C15 -> 27920 | D16: =+D4+D13+D14+D15 -> 8 | E16: =+E4+E13+E14+E15 -> -112874 | G16: =+G4+G13+G14+G15 -> 56119 | H16: =+H4+H13+H14+H15 -> -3307147 | I16: =+I4+I13+I14+I15 -> 0 | J16: =+J4+J13+J14+J15 -> 1220744 | K16: =+K4+K13+K14+K15 -> 7257593 | L16: =+L4+L13+L14+L15 -> 2801779 | M16: =+M4+M13+M14+M15 -> 8295052 | N16: =+M16-'[10]Changes In Equity'!$M$15 -> 0
A18: 1 Ocak 2023 itibarıyla bakiyeler | B18: ='[8]Özs. Hareket Tab kons'!$C$19 -> 350910 | C18: ='[8]Özs. Hareket Tab kons'!$D$19 -> 27920 | D18: ='[8]Özs. Hareket Tab kons'!$E$19 -> 8 | E18: ='[8]Özs. Hareket Tab kons'!$I$19 -> -1000033 | G18: ='[8]Özs. Hareket Tab kons'!$F$19 -> 137717 | H18: ='[8]Özs. Hareket Tab kons'!$G$19 -> -4881384 | I18: ='[8]Özs. Hareket Tab kons'!$H$19 -> 1674943 | J18: ='[8]Özs. Hareket Tab kons'!$J$19 -> 1420763 | K18: ='[8]Özs. Hareket Tab kons'!$K$19 -> 5057387 | L18: ='[8]Özs. Hareket Tab kons'!$L$19 -> 18613943 | M18: ='[8]Özs. Hareket Tab kons'!$M$19 -> 21402174 | N18: =+M18-'[10]Changes In Equity'!$M$17 -> 0
A20: Dönem karı | B20: ='[8]Özs. Hareket Tab kons'!$C$21 -> 0 | C20: ='[8]Özs. Hareket Tab kons'!$D$21 -> 0 | D20: ='[8]Özs. Hareket Tab kons'!$E$21 -> 0 | E20: ='[8]Özs. Hareket Tab kons'!$I$21 -> 0 | G20: ='[8]Özs. Hareket Tab kons'!$F$21 -> 0 | H20: ='[8]Özs. Hareket Tab kons'!$G$21 -> 0 | I20: ='[8]Özs. Hareket Tab kons'!$H$21 -> 0 | J20: ='[8]Özs. Hareket Tab kons'!$J$21 -> 0 | K20: ='[8]Özs. Hareket Tab kons'!$K$21 -> 0 | L20: ='[8]Özs. Hareket Tab kons'!$L$21 -> 5352767 | M20: ='[8]Özs. Hareket Tab kons'!$M$21 -> 5352767 | N20: =+M20-'[10]Changes In Equity'!$M19 -> 0
A21: Diğer kapsamlı gelir / (gider) | B21: ='[8]Özs. Hareket Tab kons'!$C$22 -> 0 | C21: ='[8]Özs. Hareket Tab kons'!$D$22 -> 0 | D21: ='[8]Özs. Hareket Tab kons'!$E$22 -> 0 | E21: ='[8]Özs. Hareket Tab kons'!$I$22 -> 107139 | G21: ='[8]Özs. Hareket Tab kons'!$F$22 -> -16082 | H21: ='[8]Özs. Hareket Tab kons'!$G$22 -> -322158 | I21: ='[8]Özs. Hareket Tab kons'!$H$22 -> 539197.3 | J21: ='[8]Özs. Hareket Tab kons'!$J$22 -> 0 | K21: ='[8]Özs. Hareket Tab kons'!$K$22 -> 0 | L21: ='[8]Özs. Hareket Tab kons'!$L$22 -> 0 | M21: ='[8]Özs. Hareket Tab kons'!$M$22 -> 308096.3 | N21: =+M21-'[10]Changes In Equity'!$M20 -> 0
A22: Toplam kapsamlı gelir | B22: =+SUM(B20:B21) -> 0 | C22: =+SUM(C20:C21) -> 0 | D22: =+SUM(D20:D21) -> 0 | E22: =+SUM(E20:E21) -> 107139 | F22: =+SUM(F20:F21) -> 0 | G22: =+SUM(G20:G21) -> -16082 | H22: =+SUM(H20:H21) -> -322158 | I22: =+SUM(I20:I21) -> 539197.3 | ... M22: =+SUM(M20:M21) -> 5660863.3 | N22: =+M22-'[10]Changes In Equity'!$M21 -> 0
A23: Transferler | B23: ='[8]Özs. Hareket Tab kons'!$C$26 -> 0 | C23: ='[8]Özs. Hareket Tab kons'!$D$26 -> 0 | D23: ='[8]Özs. Hareket Tab kons'!$E$26 -> 0 | E23: ='[8]Özs. Hareket Tab kons'!$I$26 -> 0 | G23: ='[8]Özs. Hareket Tab kons'!$F$26 -> 0 | H23: ='[8]Özs. Hareket Tab kons'!$G$26 -> 0 | I23: ='[8]Özs. Hareket Tab kons'!$H$26 -> 0 | J23: ='[8]Özs. Hareket Tab kons'!$J$26 -> 498292 | K23: ='[8]Özs. Hareket Tab kons'!$K$26 -> 18115651 | L23: ='[8]Özs. Hareket Tab kons'!$L$26 -> -18613943 | M23: ='[8]Özs. Hareket Tab kons'!$M$26 -> 0 | N23: =+M23-'[10]Changes In Equity'!$M22 -> 0
A24: Kar payları | B24: ='[8]Özs. Hareket Tab kons'!$C$27 -> 0 | C24: ='[8]Özs. Hareket Tab kons'!$D$27 -> 0 | D24: ='[8]Özs. Hareket Tab kons'!$E$27 -> 0 | E24: ='[8]Özs. Hareket Tab kons'!$I$27 -> 0 | G24: ='[8]Özs. Hareket Tab kons'!$F$27 -> 0 | H24: ='[8]Özs. Hareket Tab kons'!$G$27 -> 0 | I24: ='[8]Özs. Hareket Tab kons'!$H$27 -> 0 | J24: ='[8]Özs. Hareket Tab kons'!$J$27 -> 0 | K24: ='[8]Özs. Hareket Tab kons'!$K$27 -> -5000468 | L24: ='[8]Özs. Hareket Tab kons'!$L$27 -> 0 | M24: ='[8]Özs. Hareket Tab kons'!$M$27 -> -5000468 | N24: =+M24-'[10]Changes In Equity'!$M23 -> 0
A25: 31 Mart 2023 itibarıyla bakiyeler | B25: =+B18+B22+B23+B24 -> 350910 | C25: =+C18+C22+C23+C24 -> 27920 | D25: =+D18+D22+D23+D24 -> 8 | E25: =+E18+E22+E23+E24 -> -892894 | G25: =+G18+G22+G23+G24 -> 121635 | H25: =+H18+H22+H23+H24 -> -5203542 | I25: =+I18+I22+I23+I24 -> 2214140.3 | J25: =+J18+J22+J23+J24 -> 1919055 | K25: =+K18+K22+K23+K24 -> 18172570 | L25: =+L18+L22+L23+L24 -> 5352767 | M25: =+M18+M22+M23+M24 -> 22062569 | N25: =+M25-'[10]Changes In Equity'!$M24 -> 0
B28: =+B25-'[10]Changes In Equity'!B$24 -> 0 | C28: =+C25-'[10]Changes In Equity'!C$24 -> 0 | D28: =+D25-'[10]Changes In Equity'!D$24 -> 0 | E28: =+E25-'[10]Changes In Equity'!E$24 -> 0 | F28: =+F25-'[10]Changes In Equity'!F$24 -> 0 | G28: =+G25-'[10]Changes In Equity'!G$24 -> 0 | H28: =+H25-'[10]Changes In Equity'!H$24 -> 0 | J28: =+J25-'[10]Changes In Equity'!J$24 -> 0 | K28: =+K25-'[10]Changes In Equity'!K$24 -> 0 | L28: =+L25-'[10]Changes In Equity'!L$24 -> 0 | M28: =+M25-'[10]Changes In Equity'!M$24 -> 0

Sheet Nakit Akım Tablosu
A1: Ford Otomotiv Sanayi A.Ş. 1 Ocak - 31 Mart 2023 ve 2022 hesap dönemlerine ait nakit akış tabloları
A2: Türk Lirası (bin TL) | B2: Notlar | C2: Cari dönem bağımsız denetimden geçmemiş 31 Mart 2023 | D2: Geçmiş dönem bağımsız denetimden geçmemiş 31 Mart 2022
E4: Check | F4: Check
A5: İşletme Faaliyetlerinden Nakit Akışları | C5: =+SUM(C33:C39) -> 13838426 | D5: =+SUM(D33:D39) -> 3961918 | E5: =+C5-'[10]Statement of Cash Flow'!C5 -> 0 | F5: =+D5-'[10]Statement of Cash Flow'!D5 -> 0
A6: Dönem karı | C6: =+'Özkaynak Değişim Tablosu'!L20 -> 5352767 | D6: =+'Özkaynak Değişim Tablosu'!L16 -> 2801779 | E6: =+C6-'[10]Statement of Cash Flow'!C6 -> 0 | F6: =+D6-'[10]Statement of Cash Flow'!D6 -> 0
A7: Dönem Net Karı Mutabakatı İle İlgili Düzeltmeler | C7: =+SUM(C8:C22) -> 2739370 | D7: =+SUM(D8:D22) -> 2110827 | E7: =+C7-'[10]Statement of Cash Flow'!C7 -> 0 | F7: =+D7-'[10]Statement of Cash Flow'!D7 -> 0
A8: Amortisman ve itfa gideri ile ilgili düzeltmeler | C8: =+'[9]KAP''a uygun'!$G$10 -> 634961 | D8: =+'[9]KAP''a uygun'!$H$10 -> 294279 | E8: =+C8-'[10]Statement of Cash Flow'!C8 -> 0 | F8: =+D8-'[10]Statement of Cash Flow'!D8 -> 0
A9: Stok değer düşüklüğü ile ilgili düzeltmeler | B9: 8 | C9: =+'[9]KAP''a uygun'!$G$11 -> -3055 | D9: =+'[9]KAP''a uygun'!$H$11 -> 16924 | E9: =+C9-'[10]Statement of Cash Flow'!C9 -> 0 | F9: =+D9-'[10]Statement of Cash Flow'!D9 -> 0
A10: Çalışanlara sağlanan faydalara ilişkin karşılıklar ile ilgili düzeltmeler | C10: =+'[9]KAP''a uygun'!$G$12 -> 239399 | D10: =+'[9]KAP''a uygun'!$H$12 -> 4404 | E10: =+C10-'[10]Statement of Cash Flow'!C10 -> 0 | F10: =+D10-'[10]Statement of Cash Flow'!D10 -> 0
A11: Dava ve / veya ceza karşılıkları ile ilgili düzeltmeler | B11: 12 | C11: =+'[9]KAP''a uygun'!$G$13 -> 26713 | D11: =+'[9]KAP''a uygun'!$H$13 -> -6108 | E11: =+C11-'[10]Statement of Cash Flow'!C11 -> 0 | F11: =+D11-'[10]Statement of Cash Flow'!D11 -> 0
A12: Garanti karşılıkları ile ilgili düzeltmeler | B12: 12 | C12: =+'[9]KAP''a uygun'!$G$14 -> 212406 | D12: =+'[9]KAP''a uygun'!$H$14 -> 201117 | E12: =+C12-'[10]Statement of Cash Flow'!C12 -> 0 | F12: =+D12-'[10]Statement of Cash Flow'!D12 -> 0
A13: Diğer karşılıklar ile ilgili düzeltmeler | C13: =+'[9]KAP''a uygun'!$G$15 -> 22811 | D13: =+'[9]KAP''a uygun'!$H$15 -> -32370 | E13: =+C13-'[10]Statement of Cash Flow'!C13 -> 0 | F13: =+D13-'[10]Statement of Cash Flow'!D13 -> 0
A14: Kar payı geliri ile ilgili düzeltmeler | C14: =+'[9]KAP''a uygun'!$G$16 -> 0 | D14: =+'[9]KAP''a uygun'!$H$16 -> -2929 | E14: =+C14-'[10]Statement of Cash Flow'!C14 -> 0 | F14: =+D14-'[10]Statement of Cash Flow'!D14 -> 0
A15: Faiz gelirleri ile ilgili düzeltmeler | B15: 18 | C15: =+'[9]KAP''a uygun'!$G$17 -> -347366 | D15: =+'[9]KAP''a uygun'!$H$17 -> -251563 | E15: =+C15-'[10]Statement of Cash Flow'!C15 -> 0 | F15: =+D15-'[10]Statement of Cash Flow'!D15 -> 0
A16: Faiz giderleri ile ilgili düzeltmeler | B16: 19 | C16: =+'[9]KAP''a uygun'!$G$18 -> 642894 | D16: =+'[9]KAP''a uygun'!$H$18 -> 114793 | E16: =+C16-'[10]Statement of Cash Flow'!C16 -> 0 | F16: =+D16-'[10]Statement of Cash Flow'!D16 -> 0
A17: Vergi gideri ile ilgili düzeltmeler | B17: 20 | C17: =+'[9]KAP''a uygun'!$G$19 -> -193135 | D17: =+'[9]KAP''a uygun'!$H$19 -> -516558 | E17: =+C17-'[10]Statement of Cash Flow'!C17 -> 0 | F17: =+D17-'[10]Statement of Cash Flow'!D17 -> 0
A18: Vadeli satışlardan kaynaklanan kazanılmamış finansman geliri | B18: 17 | C18: =+'[9]KAP''a uygun'!$G$20 -> -356321 | D18: =+'[9]KAP''a uygun'!$H$20 -> -112933 | E18: =+C18-'[10]Statement of Cash Flow'!C18 -> 0 | F18: =+D18-'[10]Statement of Cash Flow'!D18 -> 0
A19: Vadeli alımlardan kaynaklanan ertelenmiş finansman gideri | B19: 17 | C19: =+'[9]KAP''a uygun'!$G$21 -> 668771 | D19: =+'[9]KAP''a uygun'!$H$21 -> 229256 | E19: =+C19-'[10]Statement of Cash Flow'!C19 -> 0 | F19: =+D19-'[10]Statement of Cash Flow'!D19 -> 0
A20: Duran varlıkların elden çıkarılmasından kaynaklanan kayıplar ile ilgili düzeltmeler | C20: =+'[9]KAP''a uygun'!$G$22 -> 1532 | D20: =+'[9]KAP''a uygun'!$H$22 -> 15554 | E20: =+C20-'[10]Statement of Cash Flow'!C20 -> 0 | F20: =+D20-'[10]Statement of Cash Flow'!D20 -> 0
A21: Yatırım ya da finansman faaliyetlerinden kaynaklanan nakit akışlarına neden olan diğer kalemlere ilişkin düzeltmeler | C21: =+'[9]KAP''a uygun'!$G$23 -> 1189760 | D21: =+'[9]KAP''a uygun'!$H$23 -> 2156961 | E21: =+C21-'[10]Statement of Cash Flow'!C21 -> 0 | F21: =+D21-'[10]Statement of Cash Flow'!D21 -> 0
A22: Özkaynak yöntemiyle değerlenen yatırımların dağıtılmamış zararları | C22: =+'[9]KAP''a uygun'!$G$24 -> 0 | D22: =+'[9]KAP''a uygun'!$H$24 -> 0
E23: =+C23-'[10]Statement of Cash Flow'!C23 -> 0 | F23: =+D23-'[10]Statement of Cash Flow'!D23 -> 0
A24: İşletme Sermayesinde Gerçekleşen Değişimler | C24: =+SUM(C26:C31) -> 6516743 | D24: =+SUM(D26:D31) -> -637294 | E24: =+C24-'[10]Statement of Cash Flow'!C24 -> 0 | F24: =+D24-'[10]Statement of Cash Flow'!D24 -> 0
E25: =+C25-'[10]Statement of Cash Flow'!C25 -> 0 | F25: =+D25-'[10]Statement of Cash Flow'!D25 -> 0
A26: Ticari alacaklardaki (artış) / azalış ile ilgili düzeltmeler | C26: =+'[9]KAP''a uygun'!$G$27 -> 550390 | D26: =+'[9]KAP''a uygun'!$H$27 -> 306039 | E26: =+C26-'[10]Statement of Cash Flow'!C26 -> 0 | F26: =+D26-'[10]Statement of Cash Flow'!D26 -> 0
A27: Stoklardaki (artışlar) / azalışlar ile ilgili düzeltmeler | C27: =+'[9]KAP''a uygun'!$G$28 -> -3599884 | D27: =+'[9]KAP''a uygun'!$H$28 -> -3781480 | E27: =+C27-'[10]Statement of Cash Flow'!C27 -> 0 | F27: =+D27-'[10]Statement of Cash Flow'!D27 -> 0
A28: Peşin ödenmiş giderlerdeki (artış) / azalış | C28: =+'[9]KAP''a uygun'!$G$29 -> 238540 | D28: =+'[9]KAP''a uygun'!$H$29 -> -35948 | E28: =+C28-'[10]Statement of Cash Flow'!C28 -> 0 | F28: =+D28-'[10]Statement of Cash Flow'!D28 -> 0
A29: Ticari borçlardaki artış / (azalış) ile ilgili düzeltmeler | C29: =+'[9]KAP''a uygun'!$G$30 -> 8605896 | D29: =+'[9]KAP''a uygun'!$H$30 -> 2822806 | E29: =+C29-'[10]Statement of Cash Flow'!C29 -> 0 | F29: =+D29-'[10]Statement of Cash Flow'!D29 -> 0
A30: Faaliyetlerle ilgili diğer varlıklardaki (artış) / azalış | C30: =+'[9]KAP''a uygun'!$G$31 -> 507531 | D30: =+'[9]KAP''a uygun'!$H$31 -> -210420 | E30: =+C30-'[10]Statement of Cash Flow'!C30 -> 0 | F30: =+D30-'[10]Statement of Cash Flow'!D30 -> 0
A31: Faaliyetlerle ilgili diğer yükümlülüklerdeki artış / (azalış) | C31: =+'[9]KAP''a uygun'!$G$32 -> 214270 | D31: =+'[9]KAP''a uygun'!$H$32 -> 261709 | E31: =+C31-'[10]Statement of Cash Flow'!C31 -> 0 | F31: =+D31-'[10]Statement of Cash Flow'!D31 -> 0
E32: =+C32-'[10]Statement of Cash Flow'!C32 -> 0 | F32: =+D32-'[10]Statement of Cash Flow'!D32 -> 0
A33: Faaliyetlerden Elde Edilen Nakit Akışları | C33: =+C6+C7+C24 -> 14608880 | D33: =+D6+D7+D24 -> 4275312 | E33: =+C33-'[10]Statement of Cash Flow'!C33 -> 0 | F33: =+D33-'[10]Statement of Cash Flow'!D33 -> 0
E34: =+C34-'[10]Statement of Cash Flow'!C34 -> 0 | F34: =+D34-'[10]Statement of Cash Flow'!D34 -> 0
A35: Ödenen faiz | C35: =+'[9]KAP''a uygun'!$G$36 -> -596222 | D35: =+'[9]KAP''a uygun'!$H$36 -> -236836 | E35: =+C35-'[10]Statement of Cash Flow'!C35 -> 0 | F35: =+D35-'[10]Statement of Cash Flow'!D35 -> 0
A36: Alınan faiz | C36: =+'[9]KAP''a uygun'!$G$37 -> 270692 | D36: =+'[9]KAP''a uygun'!$H$37 -> 111460 | E36: =+C36-'[10]Statement of Cash Flow'!C36 -> 0 | F36: =+D36-'[10]Statement of Cash Flow'!D36 -> 0
A37: Çalışanlara sağlanan faydalara ilişkin karşılıklar kapsamında yapılan ödemeler | C37: =+'[9]KAP''a uygun'!$G$38 -> -225688 | D37: =+'[9]KAP''a uygun'!$H$38 -> -10912 | E37: =+C37-'[10]Statement of Cash Flow'!C37 -> 0 | F37: =+D37-'[10]Statement of Cash Flow'!D37 -> 0
A38: Diğer karşılıklara ilişkin ödemeler | C38: =+'[9]KAP''a uygun'!$G$39 -> -186971 | D38: =+'[9]KAP''a uygun'!$H$39 -> -124923 | E38: =+C38-'[10]Statement of Cash Flow'!C38 -> 0 | F38: =+D38-'[10]Statement of Cash Flow'!D38 -> 0
A39: Vergi ödemeleri | C39: =+'[9]KAP''a uygun'!$G$40 -> -32265 | D39: =+'[9]KAP''a uygun'!$H$40 -> -52183 | E39: =+C39-'[10]Statement of Cash Flow'!C39 -> 0 | F39: =+D39-'[10]Statement of Cash Flow'!D39 -> 0
E40: =+C40-'[10]Statement of Cash Flow'!C40 -> 0 | F40: =+D40-'[10]Statement of Cash Flow'!D40 -> 0
A41: Yatırım Faaliyetlerinde Kullanılan Nakit Akışları | C41: =+SUM(C43:C49) -> -3551644 | D41: =+SUM(D43:D49) -> -2256608 | E41: =+C41-'[10]Statement of Cash Flow'!C41 -> 0 | F41: =+D41-'[10]Statement of Cash Flow'!D41 -> 0
...

Sheet Sheet1
C2: 44926 | D2: 44561
B3: Dönen varlıklar | C3: =SUM(C4:C7) -> 69898098 | D3: =SUM(D4:D7) -> 24706428
B4: Nakit ve nakit benzerleri | C4: ='[1]FORMSRK WORD-Final SPK'!$C$13 -> 21285347 | D4: =+'[2]FORMSRK WORD'!$C$13 -> 9315217
B5: Ticari alacaklar | C5: 25850944 | D5: 11406748
B6: Stoklar | C6: ='[1]FORMSRK WORD-Final SPK'!$C$21 -> 17456947 | D6: =+'[2]FORMSRK WORD'!$C$19 -> 2020595.9
B7: Diğer dönen varlıklar | C7: 5304860 | D7: 1963867
B8: Duran varlıklar | C8: =SUM(C9:C11) -> 45847096 | D8: =SUM(D9:D11) -> 4975860
B9: Maddi duran varlıklar | C9: ='[1]FORMSRK WORD-Final SPK'!$C$30 -> 21639775 | D9: =+'[2]FORMSRK WORD'!$C$28 -> 145942
B10: Maddi olmayan duran varlıklar | C10: 7454284 | D10: 1486777
B11: Diğer duran varlıklar | C11: =+Varlıklar!$C$23+Varlıklar!$C$25+Varlıklar!$C$27+Varlıklar!$C$32+Varlıklar!$C$33+Varlıklar!$C$34+Varlıklar!$C$36+Varlıklar!$C$37 -> 16753037 | D11: 3343141
B12: Toplam varlıklar | C12: =+C3+C8 -> 1.1574519e+08 | D12: =+D3+D8 -> 29682288
B14: Kısa vadeli yükümlülükler | C14: =SUM(C16:C32) -> 60001067 | D14: =SUM(D17:D32) -> 45723405
B16: Kısa vadeli borçlanmalar
B17: - Banka kredileri | C17: ='[1]FORMSRK WORD-Final SPK'!$C$51 -> 10985160 | D17: =+'[2]FORMSRK WORD'!$C$48 -> 0
B18: Uzun vadeli borçlanmaların kısa vadeli kısımları
B19: - Banka kredileri | C19: ='[1]FORMSRK WORD-Final SPK'!$C$53 -> 5509234 | D19: =+'[2]FORMSRK WORD'!$C$50 -> 0
B20: - Kiralama işlemlerinden borçlar | C20: ='[1]FORMSRK WORD-Final SPK'!$C$49 -> 69411 | D20: =+'[2]FORMSRK WORD'!$C$46 -> 39326381
B21: Ticari borçlar
B22: - İlişkili taraflara ticari borçlar | C22: ='[1]FORMSRK WORD-Final SPK'!$C$55 -> 6300776 | D22: =+'[2]FORMSRK WORD'!$C$52 -> 0
B23: - İlişkili olmayan taraflara ticari borçlar | C23: ='[1]FORMSRK WORD-Final SPK'!$C$56 -> 32365737 | D23: =+'[2]FORMSRK WORD'!$C$53 -> 4604841
B24: Diğer borçlar
B25: - İlişkili taraflara diğer borçlar | C25: ='[1]FORMSRK WORD-Final SPK'!$C$58 -> 0 | D25: =+'[2]FORMSRK WORD'!$C$55 -> 0
B26: - İlişkili olmayan taraflara diğer borçlar | C26: ='[1]FORMSRK WORD-Final SPK'!$C$59 -> 924916 | D26: =+'[2]FORMSRK WORD'!$C$56 -> 73169
B27: Ertelenmiş gelirler | C27: ='[1]FORMSRK WORD-Final SPK'!$C$60 -> 175408 | D27: =+'[2]FORMSRK WORD'!$C$57 -> 645682
B28: Kısa vadeli karşılıklar
B29: - Diğer kısa vadeli karşılıklar | C29: ='[1]FORMSRK WORD-Final SPK'!$C$61 -> 624069 | D29: =+'[2]FORMSRK WORD'!$C$58 -> 143657
B30: Çalışanlara sağlanan faydalar kapsamında borçlar | C30: ='[1]FORMSRK WORD-Final SPK'!$C$63 -> 1328781 | D30: =+'[2]FORMSRK WORD'!$C$60
B31: Dönem karı vergi yükümlülüğü | C31: ='[1]FORMSRK WORD-Final SPK'!$C$64 -> 1655868 | D31: =+'[2]FORMSRK WORD'!$C$61 -> 929675
B32: Türev finansal yükümlülükler | C32: ='[1]FORMSRK WORD-Final SPK'!$C$65 -> 61706.882 | D32: -
B34: Uzun vadeli yükümlülükler | C34: =SUM(C37:C46) -> 32717020 | D34: =SUM(D37:D46) -> 34811516
B36: Uzun vadeli borçlanmalar
B37: - Banka kredileri | C37: ='[1]FORMSRK WORD-Final SPK'!$C$71 -> 22288388 | D37: =+'[2]FORMSRK WORD'!$C$67 -> 6407114
B38: - Kiralama işlemlerinden borçlar | C38: ='[1]FORMSRK WORD-Final SPK'!$C$68 -> 104473 | D38: =+'[2]FORMSRK WORD'!$C$65 -> 27473321
B39: - Diğer Uzun Vadeli Borçlar | C39: ='[1]FORMSRK WORD-Final SPK'!$C$69 -> 6706849 | D39: -
B40: Uzun vadeli karşılıklar
B41: - Çalışanlara sağlanan faydalara ilişkin uzun vadeli karşılıklar | C41: ='[1]FORMSRK WORD-Final SPK'!$C$74 -> 1696928 | D41: =+'[2]FORMSRK WORD'!$C$70 -> 0
B42: - Diğer uzun vadeli karşılıklar | C42: ='[1]FORMSRK WORD-Final SPK'!$C$75 -> 796374 | D42: =+'[2]FORMSRK WORD'!$C$71 -> 0
B43: Ertelenmiş gelirler | C43: ='[1]FORMSRK WORD-Final SPK'!$C$77 -> 512101 | D43: =+'[2]FORMSRK WORD'!$C$73 -> 745610
B44: Diğer uzun vadeli yükümlülükler | C44: ='[1]FORMSRK WORD-Final SPK'!$C$78 -> 5439 | D44: =+'[2]FORMSRK WORD'!$C$74 -> 0
B45: Türev finansal yükümlülükler | C45: ='[1]FORMSRK WORD-Final SPK'!$C$79 -> 23765.118 | D45: =+'[2]FORMSRK WORD'!$C$75 -> 185471
...
