Workbook
Name OLE_LINK1: 'Özkaynak Değişim Tablosu'!#REF!
Name OLE_LINK154: 'Nakit Akım Tablosu'!$G$58
Name OLE_LINK3: 'Nakit Akım Tablosu'!$G$5
Name OLE_LINK41: Kaynaklar!$D$26
Name OLE_LINK43: Varlıklar!#REF!
Name OLE_LINK64: Kaynaklar!#REF!

Sheet Varlıklar
A1: Ford Otomotiv Sanayi A.Ş. 30 Eylül 2018 ve 31 Aralık 2017 tarihleri itibarıyla finansal durum tabloları
C2: Cari dönem bağımsız denetimden geçmemiş | D2: Geçmiş dönem bağımsız denetimden geçmiş
A3: Türk Lirası (bin TL) | B3: Notlar | C3: 43373 | D3: 43100
A4: Varlıklar
A5: Dönen varlıklar | C5: =SUM(C7:C18) -> 8082790 | D5: =SUM(D7:D18) -> 6827040
A7: Nakit ve nakit benzerleri | B7: 4 | C7: 1379488 | D7: 1805945
A8: Ticari alacaklar
A9: - İlişkili taraflardan ticari alacaklar | B9: 26 | C9: 2696954 | D9: 2057267
A10: - İlişkili olmayan taraflardan ticari alacaklar | B10: 7 | C10: 907217 | D10: 1299746
A11: Diğer alacaklar
A12: - İlişkili olmayan taraflardan diğer alacaklar | B12: 8 | C12: 2385 | D12: 521
A13: Stoklar | B13: 9 | C13: 2340762 | D13: 1152490
A14: Peşin ödenmiş giderler | B14: 12 | C14: 205654 | D14: 101979
A15: Diğer dönen varlıklar | B15: 16 | C15: 549727 | D15: 404561
A16: Cari dönem vergisi ile ilgili varlıklar | B16: 24 | C16: - | D16: -
A17: Cari dönem vergisi ile ilgili varlıklar | B17: 24 | C17: 603 | D17: 0
A18: Türev finansal varlıklar | B18: 28 | C18: 0 | D18: 4531
A20: Duran varlıklar | C20: =SUM(C22:C29) -> 5617747 | D20: =SUM(D22:D29) -> 5184700
A22: Finansal yatırımlar | B22: 5 | C22: 11670 | D22: 17406
A23: Ticari alacaklar
A24: - İlişkili olmayan taraflardan ticari alacaklar | B24: 7 | C24: 3485 | D24: 3002
A25: Maddi duran varlıklar | B25: 10 | C25: 3710001 | D25: 3536220
A26: Maddi olmayan duran varlıklar | B26: 11 | C26: 791977 | D26: 690337
A27: Peşin ödenmiş giderler | B27: 12 | C27: 419059 | D27: 311292
A28: Ertelenmiş vergi varlığı | B28: 24 | C28: 680549 | D28: 626443
A29: Özkaynak yöntemiyle değerlenen yatırımlar | B29: 32 | C29: 1006 | D29: 0
A31: Toplam varlıklar | C31: =+C5+C20 -> 13700537 | D31: =+D5+D20 -> 12011740

Sheet Kaynaklar
A1: =+Varlıklar!A1 -> Ford Otomotiv Sanayi A.Ş. 30 Eylül 2018 ve 31 Aralık 2017 tarihleri itibarıyla finansal durum tabloları
C2: =+Varlıklar!C2 -> Cari dönem bağımsız denetimden geçmemiş | D2: =+Varlıklar!D2 -> Geçmiş dönem bağımsız denetimden geçmiş
A3: Türk Lirası (bin TL) | B3: Notlar | C3: =+Varlıklar!C3 -> 43373 | D3: =+Varlıklar!D3 -> 43100
A4: Kaynaklar
A5: Kısa vadeli yükümlülükler | C5: =SUM(C8:C21) -> 7585938 | D5: =SUM(D8:D21) -> 6049677
A7: Kısa vadeli borçlanmalar
A8: - Banka kredileri | B8: 6 | C8: 2193110 | D8: 1061621
A9: Uzun vadeli borçlanmaların kısa vadeli kısımları
A10: - Banka kredileri | B10: 6 | C10: 910108 | D10: 722259
A11: Ticari borçlar
A12: - İlişkili taraflara ticari borçlar | B12: 26 | C12: 1311638 | D12: 895559
A13: - İlişkili olmayan taraflara ticari borçlar | B13: 7 | C13: 2715222 | D13: 2921390
A14: Diğer borçlar
A15: - İlişkili taraflara diğer borçlar | B15: 26 | C15: 4349 | D15: 31438
A16: - İlişkili olmayan taraflara diğer borçlar | B16: 8 | C16: 93974 | D16: 56385
A17: Ertelenmiş gelirler | B17: 30 | C17: 12158 | D17: 10929
A18: Kısa vadeli karşılıklar
A19: - Diğer kısa vadeli karşılıklar | B19: 13 | C19: 185926 | D19: 159614
A20: Çalışanlara sağlanan faydalar kapsamında borçlar | B20: 15 | C20: 159453 | D20: 184092
A21: Cari dönem vergisi ile ilgili yükümlülükler | B21: 24 | C21: 0 | D21: 6390
A23: Uzun vadeli yükümlülükler | C23: =SUM(C26:C32) -> 2694066 | D23: =SUM(D26:D32) -> 2266204
A25: Uzun vadeli borçlanmalar
A26: - Banka kredileri | B26: 6 | C26: 2244736 | D26: 1820167
A27: Uzun vadeli karşılıklar
A28: - Çalışanlara sağlanan faydalara ilişkin uzun vadeli karşılıklar | B28: 15 | C28: 189784 | D28: 153484
A29: - Diğer uzun vadeli karşılıklar | B29: 13 | C29: 170770 | D29: 169285
A30: Ertelenmiş gelirler | B30: 30 | C30: 6846 | D30: 7450
A31: Diğer uzun vadeli yükümlülükler | B31: 31 | C31: 81714 | D31: 115631
A32: Türev finansal yükümlülükler | B32: 28 | C32: 216 | D32: 187
A34: Özkaynaklar | B34: 17 | C34: =SUM(C36:C46) -> 3420533 | D34: =SUM(D36:D46) -> 3695859
A36: Ödenmiş sermaye | C36: 350910 | D36: 350910
A37: Sermaye düzeltme farkları | C37: 27920 | D37: 27920
A38: Paylara ilişkin primler | C38: 8 | D38: 8
A39: Kar veya zararda yeniden sınıflandırılmayacak birikmiş diğer kapsamlı gelirler / (giderler)
A40: - Tanımlanmış fayda planları yeniden ölçüm (kayıpları) | C40: -6517 | D40: -14001
A41: Kar veya zararda yeniden sınıflandırılacak birikmiş diğer kapsamlı gelirler / (giderler)
A42: - Gerçeğe uygun değer farkı diğer kapsamlı gelire yansıtılan finansal varlıklardan kazançlar | C42: 10158 | D42: 15608
A43: - Nakit akış riskinden korunma (kayıpları) | C43: -1252763 | D43: -503120
A44: Kardan ayrılan kısıtlanmış yedekler | C44: 332657 | D44: 254404
A45: Geçmiş yıllar karları | C45: 2685802 | D45: 2074147
...

Sheet Gelir Tablosu
A1: Ford Otomotiv Sanayi A.Ş. 30 Eylül 2018 ve 2017 tarihlerinde sona eren dokuz aylık ara dönemlere ait kar veya zarar tabloları
C2: Bağımsız denetimden geçmemiş | D2: Bağımsız denetimden geçmemiş | E2: =+C2 -> Bağımsız denetimden geçmemiş | F2: =+D2 -> Bağımsız denetimden geçmemiş
A3: Türk Lirası (bin TL) | B3: Notlar | C3: 1 Ocak- 30 Eylül 2018 | D3: 1 Ocak- 30 Eylül 2017 | E3: 1 Temmuz- 30 Eylül 2018 | F3: 1 Temmuz- 30 Eylül 2017
A5: Sürdürülen faaliyetler
A6: Hasılat | B6: 18 | C6: 23244383 | D6: 17138240 | E6: 7772025 | F6: 5485632
A7: Satışların maliyeti | B7: 18 | C7: -20743703 | D7: -15338251 | E7: -6949940 | F7: -4857548.6
A9: Brüt kar | C9: =+SUM(C6:C7) -> 2500680 | D9: =+SUM(D6:D7) -> 1799989 | E9: =+SUM(E6:E7) -> 822085 | F9: =+SUM(F6:F7) -> 628083.44
A11: Pazarlama giderleri | B11: 19 | C11: -374093 | D11: -351008 | E11: -121602 | F11: -118422.26
A12: Genel yönetim giderleri | B12: 19 | C12: -241237 | D12: -175304 | E12: -83520 | F12: -61409.041
A13: Araştırma ve geliştirme giderleri | B13: 19 | C13: -281265 | D13: -221638 | E13: -97683 | F13: -74088.526
A14: Esas faaliyetlerden diğer gelirler | B14: 21 | C14: 687449 | D14: 265249 | E14: 364631 | F14: 103298
A15: Esas faaliyetlerden diğer giderler | B15: 21 | C15: -423234 | D15: -188838 | E15: -154158 | F15: -57095
A17: Esas faaliyet karı | C17: =+SUM(C9:C15) -> 1868300 | D17: =+SUM(D9:D15) -> 1128450 | E17: =+SUM(E9:E15) -> 729753 | F17: =+SUM(F9:F15)-1 -> 420365.61
A19: Yatırım faaliyetlerinden gelirler | B19: 29 | C19: 410 | D19: 363 | E19: 0 | F19: 0
A20: Yatırım faaliyetlerinden giderler | B20: 29 | C20: -3616 | D20: -1685 | E20: -1446 | F20: -204.821
A21: Özkaynak yöntemiyle değerlenen yatırımların karlarından / (zararlarlarından) paylar | B21: 32 | C21: -21 | D21: 0 | E21: -21 | F21: 0
A23: Finansman geliri / (gideri) öncesi faaliyet karı | C23: =+SUM(C17:C21) -> 1865073 | D23: =+SUM(D17:D21) -> 1127128 | E23: =+SUM(E17:E21) -> 728286 | F23: =+SUM(F17:F21) -> 420160.79
A25: Finansman gelirleri | B25: 22 | C25: 1072929 | D25: 268311 | E25: 861290 | F25: 90471
A26: Finansman giderleri | B26: 23 | C26: -1508168 | D26: -408953 | E26: -1100155 | F26: -154464
A28: Sürdürülen faaliyetler vergi öncesi karı | C28: =+SUM(C23:C26) -> 1429834 | D28: =+SUM(D23:D26) -> 986486 | E28: =+SUM(E23:E26) -> 489421 | F28: =+SUM(F23:F26) -> 356167.79
A30: Sürdürülen faaliyetler vergi geliri / (gideri) | C30: =+SUM(C31:C32) -> -157476 | D30: =+SUM(D31:D32) -> -6622 | E30: =+SUM(E31:E32) -> -135582 | F30: =+SUM(F31:F32) -> -10221.327
A31: - Dönem vergi gideri | B31: 24 | C31: -7836.0351 | D31: -14318.527 | E31: 2851.9336 | F31: -4675.5505
A32: - Ertelenmiş vergi gideri | B32: 24 | C32: -149639.96 | D32: 7696.5275 | E32: -138433.93 | F32: -5545.7765
A34: Dönem karı | C34: =+C28+C31+C32 -> 1272358 | D34: =+D28+D31+D32 -> 979864 | E34: =+E28+E31+E32 -> 353839 | F34: =+F28+F31+F32 -> 345946.46
A36: Nominal değeri 1 Kr olan pay başına kazanç | B36: 25 | C36: 3,63 Kr | D36: 2,79 Kr | E36: 1,01 Kr | F36: 0,99 Kr

Sheet Kapsamlı Gelir Tablosu
A1: Ford Otomotiv Sanayi A.Ş. 30 Eylül 2018 ve 2017 tarihlerinde sona eren dokuz aylık ara dönemlere ait diğer kapsamlı gelir tabloları
C2: =+'Gelir Tablosu'!C2 -> Bağımsız denetimden geçmemiş | D2: =+'Gelir Tablosu'!D2 -> Bağımsız denetimden geçmemiş | E2: =+'Gelir Tablosu'!E2 -> Bağımsız denetimden geçmemiş | F2: =+'Gelir Tablosu'!F2 -> Bağımsız denetimden geçmemiş
A3: Türk Lirası (bin TL) | B3: Notlar | C3: =+'Gelir Tablosu'!C3 -> 1 Ocak- 30 Eylül 2018 | D3: =+'Gelir Tablosu'!D3 -> 1 Ocak- 30 Eylül 2017 | E3: =+'Gelir Tablosu'!E3 -> 1 Temmuz- 30 Eylül 2018 | F3: =+'Gelir Tablosu'!F3 -> 1 Temmuz- 30 Eylül 2017
A5: Dönem karı | C5: =+'Gelir Tablosu'!C34 -> 1272358 | D5: =+'Gelir Tablosu'!D34 -> 979864 | E5: =+'Gelir Tablosu'!E34 -> 353839 | F5: =+'Gelir Tablosu'!F34 -> 345946.46
A7: Diğer kapsamlı gelir / (gider)
A9: Kar veya zararda yeniden sınıflandırılmayacaklar
A10: Tanımlanmış fayda planları yeniden ölçüm (kayıpları) / kazançları | B10: 17 | C10: 9355 | D10: -828 | E10: 7599 | F10: -2284
A12: Kar veya zararda yeniden sınıflandırılmayacak diğer kapsamlı gelire ilişkin vergiler
A13: Tanımlanmış fayda planları yeniden ölçüm kazançları / (kayıpları), vergi etkisi | B13: 17 | C13: -1871 | D13: 166 | E13: -1520 | F13: 457
A15: Kar veya zarar olarak yeniden sınıflandırılacaklar
A16: Gerçeğe uygun değer farkı diğer kapsamlı gelire yansıtılan finansal varlıklardan kazançlar / (kayıplar) | B16: 17 | C16: -5736 | D16: -4555 | E16: 1062 | F16: -1377
A17: Nakit akış riskinden korunmaya ilişkin diğer kapsamlı gelir / (gider) | B17: 17 | C17: -954974 | D17: -125172 | E17: -688576 | F17: -45227
A18: Kar veya zararda yeniden sınıflandırılacak diğer kapsamlı gelire ilişkin vergiler
A19: Gerçeğe uygun değer farkı diğer kapsamlı gelire yansıtılan finansal varlıklardan kazançlar / (kayıplar), vergi etkisi | B19: 17 | C19: 286 | D19: 228 | E19: -54 | F19: 69
A20: Nakit akış riskinden korunmaya ilişkin diğer kapsamlı gelir, vergi etkisi | B20: 17 | C20: 205331 | D20: 25034 | E20: 147033 | F20: 9045
A22: Diğer kapsamlı gelir / (gider) | C22: =+SUM(C10:C20) -> -747609 | D22: =+SUM(D10:D20) -> -105127 | E22: =+SUM(E10:E20) -> -534456 | F22: =+SUM(F10:F20) -> -39317
A24: Toplam kapsamlı gelir | C24: =+C5+C22 -> 524749 | D24: =+D5+D22 -> 874737 | E24: =+E5+E22 -> -180617 | F24: =+F5+F22 -> 306629.46

Sheet Özkaynak Değişim Tablosu
A1: Ford Otomotiv Sanayi A.Ş. 1 Ocak - 30 Eylül 2018 ve 2017 tarihlerinde sona eren dokuz aylık ara dönemlere ait özkaynak değişim tabloları
E2: Kar veya zararda yeniden sınıflandırılacak birikmiş diğer kapsamlı gelirler veya giderler | H2: Kar veya zarara sınıflandırılmayacak birikmiş diğer kapsamlı gelirler veya giderler | J2: Birikmiş karlar
A3: Türk Lirası (bin TL) | B3: Ödenmiş sermaye | C3: Sermaye düzeltme farkları | D3: Paylara İlişkin Primler | E3: Gerçeğe uygun değer farkı diğer kapsamlı gelire yansıtılan finansal varlıklardan kazançlar / (kayıplar) | F3: Nakit akış riskinden korunma (kayıpları) / kazançları | H3: Tanımlanmış fayda planları yeniden ölçüm (kayıpları) / kazançları | I3: Kardan ayrılan kısıtlanmış yedekler | J3: Geçmiş yıllar karları | K3: Net dönem karı | L3: Toplam özkaynaklar
A4: 1 Ocak 2017 itibarıyla bakiyeler | B4: 350910 | C4: 27920 | D4: 8 | E4: 16890 | F4: -336189 | H4: -14019 | I4: 284207 | J4: 1878584 | K4: 955308 | L4: =+SUM(B4:K4) -> 3163619
A6: Dönem karı | B6: 0 | C6: 0 | D6: 0 | E6: 0 | F6: 0 | H6: 0 | I6: 0 | J6: 0 | K6: 979864 | L6: =+SUM(B6:K6) -> 979864
A7: Diğer kapsamlı gelir / (gider) | B7: 0 | C7: 0 | D7: 0 | E7: -4327 | F7: -100138 | H7: -662 | I7: 0 | J7: 0 | K7: 0 | L7: =+SUM(B7:K7) -> -105127
A8: Toplam kapsamlı gelir | B8: 0 | C8: 0 | D8: 0 | E8: -4327 | F8: -100138 | G8: 0 | H8: -662 | I8: 0 | J8: 0 | K8: 979864 | L8: =+SUM(B8:K8) -> 874737
A9: Transferler | B9: 0 | C9: 0 | D9: 0 | E9: 0 | F9: 0 | H9: 0 | I9: 38249 | J9: 917059 | K9: -955308 | L9: 0
A10: Kar payları (Not 17) | B10: 0 | C10: 0 | D10: 0 | E10: 0 | F10: 0 | H10: 0 | I10: 0 | J10: -400037 | K10: 0 | L10: =+SUM(B10:K10) -> -400037
A11: 30 Eylül 2017 itibarıyla bakiyeler | B11: =+B4+B8+B9+B10 -> 350910 | C11: =+C4+C8+C9+C10 -> 27920 | D11: =+D4+D8+D9+D10 -> 8 | E11: =+E4+E8+E9+E10 -> 12563 | F11: =+F4+F8+F9+F10 -> -436327 | H11: =+H4+H8+H9+H10 -> -14681 | I11: =+I4+I8+I9+I10 -> 322456 | J11: =+J4+J8+J9+J10 -> 2395606 | K11: =+K4+K8+K9+K10 -> 979864 | L11: =+L4+L8+L9+L10 -> 3638319
A13: 1 Ocak 2018 itibarıyla bakiyeler | B13: =+B11 -> 350910 | C13: =+C11 -> 27920 | D13: =+D11 -> 8 | E13: 15608 | F13: -503120 | H13: -14001 | I13: 254404 | J13: 2074147 | K13: 1489983 | L13: =+SUM(B13:K13) -> 3695859
A15: Dönem karı | B15: 0 | C15: 0 | D15: 0 | E15: 0 | F15: 0 | H15: 0 | I15: 0 | J15: 0 | K15: 1272358 | L15: =+SUM(B15:K15) -> 1272358
A16: Diğer kapsamlı gelir / (gider) | B16: 0 | C16: 0 | D16: 0 | E16: -5450 | F16: -749643 | H16: 7484 | I16: 0 | J16: 0 | K16: 0 | L16: =+SUM(B16:K16) -> -747609
A17: Toplam kapsamlı gelir | B17: 0 | C17: 0 | D17: 0 | E17: -5450 | F17: -749643 | G17: 0 | H17: 7484 | I17: 0 | J17: 0 | K17: 1272358 | L17: =+SUM(B17:K17) -> 524749
A18: Transferler | B18: 0 | C18: 0 | D18: 0 | E18: 0 | F18: 0 | H18: 0 | I18: 78253 | J18: 1411730 | K18: -1489983 | L18: 0
A19: Kar payları (Not 17) | B19: 0 | C19: 0 | D19: 0 | E19: 0 | F19: 0 | H19: 0 | I19: 0 | J19: -800075 | K19: 0 | L19: =+SUM(B19:K19) -> -800075
A20: 30 Eylül 2018 itibarıyla bakiyeler | B20: =+B13+B17+B18+B19 -> 350910 | C20: =+C13+C17+C18+C19 -> 27920 | D20: =+D13+D17+D18+D19 -> 8 | E20: =+E13+E17+E18+E19 -> 10158 | F20: =+F13+F17+F18+F19 -> -1252763 | H20: =+H13+H17+H18+H19 -> -6517 | I20: =+I13+I17+I18+I19 -> 332657 | J20: =+J13+J17+J18+J19 -> 2685802 | K20: =+K13+K17+K18+K19 -> 1272358 | L20: =+SUM(B20:K20) -> 3420533

Sheet Nakit Akım Tablosu
A1: Ford Otomotiv Sanayi A.Ş. 1 Ocak - 30 Eylül 2018 ve 2017 tarihlerinde sona eren dokuz aylık ara dönemlere ait nakit akış tabloları
A2: Türk Lirası (bin TL) | B2: Notlar | C2: Cari dönem bağımsız denetimden geçmemiş 30 Eylül 2018 | D2: Geçmiş dönem bağımsız denetimden geçmemiş 30 Eylül 2017
A5: İşletme Faaliyetlerinden Nakit Akışları | C5: =+SUM(C33:C39) -> 1311486 | D5: =+SUM(D33:D39) -> 952132
A6: Dönem karı | C6: =+'Özkaynak Değişim Tablosu'!K20 -> 1272358 | D6: =+'Özkaynak Değişim Tablosu'!K11 -> 979864
A7: Dönem Net Karı Mutabakatı İle İlgili Düzeltmeler | C7: =+SUM(C8:C22) -> 1759171 | D7: =+SUM(D8:D22) -> 748116
A8: Amortisman ve itfa gideri ile ilgili düzeltmeler | B8: 10.11 | C8: 417724 | D8: 353128
A9: Stok değer düşüklüğü ile ilgili düzeltmeler | B9: 9 | C9: 15020 | D9: -1467
A10: Çalışanlara sağlanan faydalara ilişkin karşılıklar ile ilgili düzeltmeler | C10: 33917 | D10: 46491
A11: Dava ve / veya ceza karşılıkları ile ilgili düzeltmeler | B11: 13 | C11: 8582 | D11: 9470
A12: Garanti karşılıkları ile ilgili düzeltmeler | B12: 13 | C12: 82523 | D12: 104802
A13: Diğer karşılıklar ile ilgili düzeltmeler | C13: 34536 | D13: 1677
A14: Kar payı geliri ile ilgili düzeltmeler | B14: 29 | C14: -410 | D14: -351
A15: Faiz gelirleri ile ilgili düzeltmeler | B15: 22 | C15: -59534 | D15: -50507
A16: Faiz giderleri ile ilgili düzeltmeler | B16: 23 | C16: 40100 | D16: 31514
A17: Vergi gideri ile ilgili düzeltmeler | B17: 24 | C17: 157476 | D17: 6622
A18: Vadeli satışlardan kaynaklanan kazanılmamış finansman geliri | B18: 21 | C18: -135713 | D18: -91370
A19: Vadeli alımlardan kaynaklanan ertelenmiş finansman gideri | B19: 21 | C19: 210088 | D19: 120628
A20: Duran varlıkların elden çıkarılmasından kaynaklanan kayıplar ile ilgili düzeltmeler | B20: 29 | C20: 3616 | D20: 1673
A21: Yatırım ya da finansman faaliyetlerinden kaynaklanan nakit akışlarına neden olan diğer kalemlere ilişkin düzeltmeler | C21: 951225 | D21: 215806
A22: Özkaynak yöntemiyle değerlenen yatırımların dağıtılmamış karları | B22: 32 | C22: 21 | D22: 0
A24: İşletme Sermayesinde Gerçekleşen Değişimler | C24: =+SUM(C26:C31) -> -1500512 | D24: =+SUM(D26:D31) -> -649192
A26: Ticari alacaklardaki azalış / (artış) ile ilgili düzeltmeler | C26: -237399 | D26: -376321
A27: Stoklardaki (artışlar) / azalışlar ile ilgili düzeltmeler | C27: -1205611 | D27: -67518
A28: Peşin ödenmiş giderlerdeki (artış) / azalış | C28: -111491 | D28: -130611
A29: Ticari borçlardaki artış / (azalış) ile ilgili düzeltmeler | C29: 219251 | D29: -154976
A30: Faaliyetlerle ilgili diğer varlıklardaki (artış) / azalış | C30: -142470 | D30: 56936
A31: Faaliyetlerle ilgili diğer yükümlülüklerdeki artış / (azalış) | C31: -22792 | D31: 23298
A33: Faaliyetlerden Elde Edilen Nakit Akışları | C33: =+C6+C7+C24 -> 1531017 | D33: =+D6+D7+D24 -> 1078788
A35: Ödenen faiz | C35: -220330 | D35: -117866
A36: Alınan faiz | C36: 126373 | D36: 87623
A37: Çalışanlara sağlanan faydalara ilişkin karşılıklar kapsamında yapılan ödemeler | B37: 15 | C37: -12901 | D37: -8366
A38: Diğer karşılıklara ilişkin ödemeler | C38: -97844 | D38: -77677
A39: Vergi ödemeleri | C39: -14829 | D39: -10370
A41: Yatırım Faaliyetlerinden Kaynaklanan Nakit Akışları | C41: =+SUM(C43:C48) -> -785655 | D41: =+SUM(D43:D48) -> -593131
A43: Maddi duran varlıkların satışından kaynaklanan nakit girişleri | C43: 35927 | D43: 1112
A44: Maddi duran varlık alımından kaynaklanan nakit çıkışları | C44: -548296 | D44: -306731
A45: Maddi olmayan duran varlık alımından kaynaklanan nakit çıkışları | C45: -172718 | D45: -118918
A46: Verilen nakit avans ve borçlar | C46: -99951 | D46: -168945
A47: Alınan temettüler | B47: 29 | C47: 410 | D47: 351
A48: İştiraklerin pay alımı/sermaye artırımı sebebiyle oluşan nakit çıkışları | C48: -1027 | D48: 0
...
