Workbook
Name OLE_LINK1: 'Özkaynak Değişim Tablosu'!#REF!
Name OLE_LINK154: 'Nakit Akım Tablosu'!#REF!
Name OLE_LINK3: 'Nakit Akım Tablosu'!$G$5
Name OLE_LINK41: Kaynaklar!$D$28
Name OLE_LINK43: Varlıklar!#REF!
Name OLE_LINK64: Kaynaklar!#REF!

Sheet Varlıklar
A1: Ford Otomotiv Sanayi A.Ş. 31 Aralık 2023 ve 31 Aralık 2022 tarihleri itibarıyla finansal durum tabloları
C2: Cari dönem bağımsız denetimden geçmiş | D2: Geçmiş dönem bağımsız denetimden geçmiş
A3: (Tutarlar, aksi belirtilmedikçe, bin Türk Lirası (“TL”) olarak Türk Lirasının 31 Aralık 2023 tarihindeki alım gücü ile ifade edilmiştir.) | B3: Notlar | C3: 45291 | D3: 44926
A4: Varlıklar | E4: Check | F4: Check
A5: Dönen varlıklar | C5: 102969262 | D5: 91321074 | E5: =[1]Varlık!$K$9-C5 -> 0 | F5: =[1]Varlık!$L$9-D5 -> 0
A7: Nakit ve nakit benzerleri | B7: 5 | C7: 15224502 | D7: 16666305
A8: Ticari alacaklar
A9: - İlişkili taraflardan ticari alacaklar | B9: 27 | C9: 25257720 | D9: 30740214
A10: - İlişkili olmayan taraflardan ticari alacaklar | B10: 8 | C10: 20331968 | D10: 11855162
A11: Diğer alacaklar
A12: - İlişkili taraflardan diğer alacaklar | B12: 27 | C12: 1194171 | D12: 275853
A13: - İlişkili olmayan taraflardan diğer alacaklar | B13: 9 | C13: 252126 | D13: 191308
A14: Müşteri sözleşmelerinden doğan varlıklar | B14: 36 | C14: 1132678 | D14: 0
A15: Stoklar | B15: 10 | C15: 29352289 | D15: 23274992
A16: Peşin ödenmiş giderler | B16: 13 | C16: 1923237 | D16: 2012790
A17: Diğer dönen varlıklar | B17: 17 | C17: 8270221 | D17: 6054362
A18: Cari dönem vergisi ile ilgili varlıklar | B18: 25 | C18: 0 | D18: 250088
A19: Türev finansal varlıklar | B19: 28.29 | C19: 30350 | D19: 0
E20: Check | F20: Check
A21: Duran varlıklar | C21: 114037767 | D21: 82986064 | E21: =[1]Varlık!$K$28-C21 -> 0 | F21: =[1]Varlık!$L$28-D21 -> 0
A23: Finansal yatırımlar | B23: 6 | C23: 299125 | D23: 240473
A24: Ticari alacaklar
A25: - İlişkili olmayan taraflardan ticari alacaklar | B25: 8 | C25: 16691 | D25: 25843
A26: Diğer Alacaklar
A27: - İlişkili taraflardan diğer alacaklar | B27: 27 | C27: 9875598 | D27: 1899969
A28: Maddi duran varlıklar | B28: 11 | C28: 57197468 | D28: 47915268
A29: Maddi olmayan duran varlıklar
A30: - Diğer maddi olmayan duran varlıklar | B30: 12 | C30: 17959055 | D30: 13533487
A31: - Şerefiye | B31: 3 | C31: 819059 | D31: 830359
A32: Kullanım hakkı varlıkları | B32: 33 | C32: 975599 | D32: 330337
A33: Peşin ödenmiş giderler | B33: 13 | C33: 13400547 | D33: 12626944
A34: Ertelenmiş vergi varlığı | B34: 25 | C34: 13013365 | D34: 4886703
A35: Özkaynak yöntemiyle değerlenen yatırımlar | C35: 0 | D35: 0
A36: İştirakler, iş ortaklıkları ve bağlı ortaklıklardaki yatırımlar | B36: 35 | C36: 125437 | D36: 66067
A37: Türev finansal varlıklar | B37: 28.29 | C37: 355823 | D37: 630614
A38: Diğer duran varlıklar | B38: 35 | C38: 0 | D38: 0
E39: Check | F39: Check
A40: Toplam varlıklar | C40: 217007029 | D40: 174307138 | E40: =[1]Varlık!$K$49-C40 -> 0 | F40: =[1]Varlık!$L$49-D40 -> 0

Sheet Kaynaklar
A1: Ford Otomotiv Sanayi A.Ş. 31 Aralık 2023 ve 31 Aralık 2022 tarihleri itibarıyla finansal durum tabloları
C2: Cari dönem bağımsız denetimden geçmiş | D2: Geçmiş dönem bağımsız denetimden geçmiş
A3: (Tutarlar, aksi belirtilmedikçe, bin Türk Lirası (“TL”) olarak Türk Lirasının 31 Aralık 2023 tarihindeki alım gücü ile ifade edilmiştir.) | B3: Notlar | C3: 45291 | D3: 44926
A4: Kaynaklar | E4: Check | F4: Check
A5: Kısa vadeli yükümlülükler | C5: 94133906 | D5: 76202568 | E5: =[1]Yükümlülük!$K$9-C5 -> 0 | F5: =[1]Yükümlülük!$L$9-D5 -> 0
A7: Kısa vadeli borçlanmalar
A8: - Banka kredileri | B8: 7 | C8: 19643464 | D8: 12397102
A9: Uzun vadeli borçlanmaların kısa vadeli kısımları
A10: - Banka kredileri | B10: 7 | C10: 14146163 | D10: 9258827
A11: - Kiralama işlemlerinden borçlar | B11: 7 | C11: 174227 | D11: 124760
A12: Ticari borçlar
A13: - İlişkili taraflara ticari borçlar | B13: 27 | C13: 9849195 | D13: 7463230
A14: - İlişkili olmayan taraflara ticari borçlar | B14: 8 | C14: 42715846 | D14: 42209644
A15: Diğer borçlar
A16: - İlişkili taraflara diğer borçlar | B16: 27 | C16: 625617 | D16: 120563
A17: - İlişkili olmayan taraflara diğer borçlar | B17: 9 | C17: 1003574 | D17: 1091104
A18: Ertelenmiş gelirler | B18: 31 | C18: 585395 | D18: 317295
A19: Kısa vadeli karşılıklar
A20: - Diğer kısa vadeli karşılıklar | B20: 14 | C20: 1273769 | D20: 948946
A21: Çalışanlara sağlanan faydalar kapsamında borçlar | B21: 16 | C21: 4042846 | D21: 2069031
A22: Dönem karı vergi yükümlülüğü | B22: 25 | C22: 73810 | D22: 0
A23: Türev finansal yükümlülükler | B23: 28.29 | C23: 0 | D23: 202066
E24: Check | F24: Check
A25: Uzun vadeli yükümlülükler | C25: 49865578 | D25: 46962929 | E25: =[1]Yükümlülük!$K$33-C25 -> 0 | F25: =[1]Yükümlülük!$L$33-D25 -> 0
A27: Uzun vadeli borçlanmalar
A28: - Banka kredileri | B28: 7 | C28: 30440768 | D28: 29947565
A29: - Kiralama işlemlerinden borçlar | B29: 7 | C29: 690138 | D29: 193796
A30: - Diğer Uzun Vadeli Borçlar | B30: 7 | C30: 10660273 | D30: 10557194
A31: Uzun vadeli karşılıklar
A32: - Çalışanlara sağlanan faydalara ilişkin uzun vadeli karşılıklar | B32: 16 | C32: 1843046 | D32: 3114599
A33: - Diğer uzun vadeli karşılıklar | B33: 14 | C33: 1374942 | D33: 1296493
A34: Ertelenmiş gelirler | B34: 31 | C34: 3759095 | D34: 908708
A35: Diğer uzun vadeli yükümlülükler | B35: 32 | C35: 0 | D35: 8962
A36: Türev finansal yükümlülükler | B36: 28.29 | C36: 163193 | D36: 0
A37: Ertelenmiş vergi yükümlülüğü | B37: 25 | C37: 934123 | D37: 935612
E38: Check | F38: Check
A39: Özkaynaklar | B39: 18 | C39: 73007545 | D39: 51141641 | E39: =[1]Yükümlülük!$K$52-C39 -> 0 | F39: =[1]Yükümlülük!$L$52-D39 -> 0
A41: Ödenmiş sermaye | C41: 350910 | D41: 350910
A42: Sermaye düzeltme farkları | C42: 5820922 | D42: 5820922
A43: Paylara ilişkin primler | C43: 8 | D43: 8
A44: Kar veya zararda yeniden sınıflandırılmayacak birikmiş diğer kapsamlı gelirler / (giderler)
A45: - Tanımlanmış fayda planları yeniden ölçüm (kayıpları) | C45: -1335671 | D45: -1419229
A46: Kar veya zararda yeniden sınıflandırılacak birikmiş diğer kapsamlı gelirler / (giderler)
A47: - Gerçeğe uygun değer farkı diğer kapsamlı gelire yansıtılan finansal varlıklardan kazançlar | C47: 112776 | D47: 100105
A48: - Yabancı para çevirim farkları | C48: -617602 | D48: 44536
A49: - Nakit akış riskinden korunma (kayıpları) | C49: -18700475 | D49: -9982397
A50: Kardan ayrılan kısıtlanmış yedekler | C50: 5882436 | D50: 5364241
A51: Geçmiş yıllar karları | C51: 32438572 | D51: 23132618
A52: Net dönem karı | C52: 49055669 | D52: 27729927
E53: Check | F53: Check
A54: Toplam kaynaklar | C54: 217007029 | D54: 174307138 | E54: 0 | F54: 0

Sheet Gelir Tablosu 
A1: Ford Otomotiv Sanayi A.Ş. 31 Aralık 2023 ve 2022 tarihlerinde sona eren yıllara ait kar veya zarar tabloları
C2: Cari dönem bağımsız denetimden geçmiş | D2: Geçmiş dönem bağımsız denetimden geçmiş
A3: (Tutarlar, aksi belirtilmedikçe, bin Türk Lirası (“TL”) olarak Türk Lirasının 31 Aralık 2023 tarihindeki alım gücü ile ifade edilmiştir.) | B3: Notlar | C3: 1 Ocak - 31 Aralık 2023 | D3: 1 Ocak - 31 Aralık 2022
A5: Sürdürülen faaliyetler
A6: Hasılat | B6: 19 | C6: 411905593 | D6: 322556451
A7: Satışların maliyeti | B7: 19 | C7: -356657683 | D7: -285957542
E8: Check | F8: Check
A9: Brüt kar | C9: 55247910 | D9: 36598909 | E9: ='[1]Kar & Zarar Tablosu'!$J$12-C9 -> 0 | F9: ='[1]Kar & Zarar Tablosu'!$K$12-D9 -> 0
A11: Pazarlama giderleri | B11: 20 | C11: -6863905 | D11: -5246165
A12: Genel yönetim giderleri | B12: 20 | C12: -6429489 | D12: -3715849
A13: Araştırma ve geliştirme giderleri | B13: 20 | C13: -5308883 | D13: -2851293
A14: Esas faaliyetlerden diğer gelirler | B14: 22 | C14: 15853675 | D14: 6476919
A15: Esas faaliyetlerden diğer giderler | B15: 22 | C15: -8482467 | D15: -3991431
E16: Check | F16: Check
A17: Esas faaliyet karı | C17: 44016841 | D17: 27271090 | E17: ='[1]Kar & Zarar Tablosu'!$J$20-C17 -> 0 | F17: ='[1]Kar & Zarar Tablosu'!$K$20-D17 -> 0
A19: Yatırım faaliyetlerinden gelirler | B19: 30 | C19: 2874131 | D19: 37066
A20: Yatırım faaliyetlerinden giderler | B20: 30 | C20: -74075 | D20: -67028
A21: Özkaynak yöntemiyle değerlenen yatırımların karlarından / (zararlarlarından) paylar | B21: 32 | C21: 0 | D21: 0
E22: Check | F22: Check
A23: Finansman geliri / (gideri) öncesi faaliyet karı | C23: 46816897 | D23: 27241128 | E23: ='[1]Kar & Zarar Tablosu'!$J$25-C23 -> 0 | F23: ='[1]Kar & Zarar Tablosu'!$K$25-D23 -> 0
A25: Finansman gelirleri | B25: 23 | C25: 14977681 | D25: 13310137
A26: Finansman giderleri | B26: 24 | C26: -29924999 | D26: -21411810
A27: Parasal kazanç/(kayıp) | C27: 15558754 | D27: 6307616
E28: Check | F28: Check
A29: Sürdürülen faaliyetler vergi öncesi karı | C29: 47428333 | D29: 25447071 | E29: ='[1]Kar & Zarar Tablosu'!$J$31-C29 -> 0 | F29: ='[1]Kar & Zarar Tablosu'!$K$31-D29 -> 0
A31: Sürdürülen faaliyetler vergi geliri / (gideri) | C31: 1627336 | D31: 2282856
A32: - Dönem vergi gideri | B32: 25 | C32: -2739929 | D32: -216612
A33: - Ertelenmiş vergi gideri | B33: 25 | C33: 4367265 | D33: 2499468
E34: Check | F34: Check
A35: Dönem karı | C35: 49055669 | D35: 27729927 | E35: ='[1]Kar & Zarar Tablosu'!$J$37-C35 -> 0 | F35: ='[1]Kar & Zarar Tablosu'!$K$37-D35 -> 0
A37: Nominal değeri 1 Kr olan pay başına kazanç | B37: 26 | C37: 139,80 Kr | D37: 79,02 Kr

Sheet Kapsamlı Gelir Tablosu 
A1: Ford Otomotiv Sanayi A.Ş. 31 Aralık 2023 ve 2022 tarihlerinde sona eren yıllara ait diğer kapsamlı gelir tabloları
C2: Cari dönem bağımsız denetimden geçmiş | D2: Geçmiş dönem bağımsız denetimden geçmiş
A3: (Tutarlar, aksi belirtilmedikçe, bin Türk Lirası (“TL”) olarak Türk Lirasının 31 Aralık 2023 tarihindeki alım gücü ile ifade edilmiştir.) | B3: Notlar | C3: 1 Ocak - 31 Aralık 2023 | D3: 1 Ocak - 31 Aralık 2022
E4: Check | F4: Check
A5: Dönem karı | C5: 49055669 | D5: 27729927 | E5: ='[1]Kar & Zarar Tablosu'!$J$49-C5 -> 0 | F5: ='[1]Kar & Zarar Tablosu'!$K$49-D5 -> 0
A7: Diğer kapsamlı gelir / (gider)
A9: Kar veya zararda yeniden sınıflandırılmayacaklar
A10: Tanımlanmış fayda planları yeniden ölçüm (kayıpları) / kazançları | B10: 18 | C10: 104448 | D10: -1774038.4
A12: Kar veya zararda yeniden sınıflandırılmayacak diğer kapsamlı gelire ilişkin vergiler
A13: Tanımlanmış fayda planları yeniden ölçüm kazançları / (kayıpları), vergi etkisi | B13: 18 | C13: -20890 | D13: 354809.35
A15: Kar veya zarar olarak yeniden sınıflandırılacaklar
A16: Gerçeğe uygun değer farkı diğer kapsamlı gelire yansıtılan finansal varlıklardan kazançlar / (kayıplar) | B16: 18 | C16: 13338 | D16: 105373
A17: Nakit akış riskinden korunmaya ilişkin diğer kapsamlı gelir / (gider) | B17: 18.29 | C17: -12852506 | D17: -1792830
A18: Yabancı para çevirim farkları | B18: 18 | C18: -662138 | D18: 44536.494
A20: Kar veya zararda yeniden sınıflandırılacak diğer kapsamlı gelire ilişkin vergiler
A21: Gerçeğe uygun değer farkı diğer kapsamlı gelire yansıtılan finansal varlıklardan kazançlar / (kayıplar), vergi etkisi | B21: 18 | C21: -667 | D21: -5268
A22: Nakit akış riskinden korunmaya ilişkin diğer kapsamlı gelir, vergi etkisi | B22: 18.29 | C22: 4134428 | D22: 448207
E23: Check | F23: Check
A24: Diğer kapsamlı gelir / (gider) | C24: -9283987 | D24: -2619210.5 | E24: ='[1]Kar & Zarar Tablosu'!$J$80-C24 -> 0 | F24: ='[1]Kar & Zarar Tablosu'!$K$80-D24 -> 0
A26: Toplam kapsamlı gelir | C26: 39771682 | D26: 25110716 | E26: ='[1]Kar & Zarar Tablosu'!$J$82-C26 -> 0 | F26: ='[1]Kar & Zarar Tablosu'!$K$82-D26 -> 0

Sheet Özkaynak Değişim Tablosu
A1: Ford Otomotiv Sanayi A.Ş. 1 Ocak - 31 Aralık 2023 ve 2022 hesap dönemlerine ait özkaynak değişim tabloları
A2: (Tutarlar, aksi belirtilmedikçe, bin Türk Lirası (“TL”) olarak Türk Lirasının 31 Aralık 2023 tarihindeki alım gücü ile ifade edilmiştir.) | E2: Kar veya zararda yeniden sınıflandırılmayacak birikmiş diğer kapsamlı gelirler veya giderler | G2: Kar veya zararda yeniden sınıflandırılacak birikmiş diğer kapsamlı gelirler veya giderler | K2: Birikmiş karlar
A3: Türk Lirası (bin TL) | B3: Ödenmiş sermaye | C3: Sermaye düzeltmesi farkları | D3: Hisse senedi ihraç primleri | E3: Tanımlanmış fayda planları yeniden ölçüm (kayıpları) / kazançları | G3: Gerçeğe uygun değer farkı diğer kapsamlı gelire yansıtılan finansal varlıklardan kazançlar / (kayıplar) | H3: Nakit akış riskinden korunma (kayıpları) / kazançları | I3: Yabancı para çevrim farkları | J3: Kardan ayrılan kısıtlanmış yedekler | K3: Geçmiş yıllar karları | L3: Net dönem karı | M3: Toplam özkaynaklar | N3: Check
A4: 1 Ocak 2022 itibarıyla bakiyeler | B4: 350910 | C4: 5820922 | D4: 8 | E4: 0 | G4: 0 | H4: -8637774 | I4: 0 | J4: 4029207 | K4: 14034815 | L4: 23821859 | M4: 39419947 | N4: 0
A6: Dönem karı | B6: 0 | C6: 0 | D6: 0 | E6: 0 | G6: 0 | H6: 0 | I6: 0 | J6: 0 | K6: 0 | L6: 27729927 | M6: 27729927 | N6: 0
A7: Diğer kapsamlı gelir / (gider) | B7: 0 | C7: 0 | D7: 0 | E7: -1419229 | G7: 100105 | H7: -1344623 | I7: 44536 | J7: 0 | K7: 0 | L7: 0 | M7: -2619211 | N7: 0
A8: Toplam kapsamlı gelir | B8: 0 | C8: 0 | D8: 0 | E8: -1419229 | F8: 0 | G8: 100105 | H8: -1344623 | I8: 44536 | J8: 0 | K8: 0 | L8: 27729927 | M8: 25110716 | N8: 0
A9: Transferler | B9: 0 | C9: 0 | D9: 0 | E9: 0 | G9: 0 | H9: 0 | I9: 0 | J9: 1001560 | K9: 22820299 | L9: -23821859 | M9: 0 | N9: 0
A10: Kar payları | B10: 0 | C10: 0 | D10: 0 | E10: 0 | G10: 0 | H10: 0 | I10: 0 | J10: 333474 | K10: -13722496 | L10: 0 | M10: -13389022 | N10: 0
A11: 31 Aralık 2022 itibarıyla bakiyeler | B11: 350910 | C11: 5820922 | D11: 8 | E11: -1419229 | G11: 100105 | H11: -9982397 | I11: 44536 | J11: 5364241 | K11: 23132618 | L11: 27729927 | M11: 51141641 | N11: 0
A13: 1 Ocak 2023 itibarıyla bakiyeler | B13: 350910 | C13: 5820922 | D13: 8 | E13: -1419229 | G13: 100105 | H13: -9982397 | I13: 44536 | J13: 5364241 | K13: 23132618 | L13: 27729927 | M13: 51141641
A15: Dönem karı | B15: - | C15: - | D15: - | E15: - | G15: - | H15: - | I15: - | J15: - | K15: - | L15: 49055669 | M15: 49055669 | N15: 0
A16: Diğer kapsamlı gelir / (gider) | B16: 0 | C16: 0 | D16: 0 | E16: 83558 | G16: 12671 | H16: -8718078 | I16: -662138 | J16: - | K16: 0 | L16: - | M16: -9283987 | N16: 0
A17: Toplam kapsamlı gelir | B17: 0 | C17: 0 | D17: 0 | E17: 83558 | F17: 0 | G17: 12671 | H17: -8718078 | I17: -662138 | J17: 0 | K17: 0 | L17: 49055669 | M17: 39771682 | N17: 0
A18: Transferler | B18: 0 | C18: 0 | D18: 0 | E18: 0 | G18: 0 | H18: 0 | I18: 0 | J18: 0 | K18: 27729927 | L18: -27729927 | M18: 0 | N18: 0
A19: Kar payları | B19: 0 | C19: 0 | D19: 0 | E19: 0 | G19: 0 | H19: 0 | I19: 0 | J19: 518195 | K19: -18423973 | L19: 0 | M19: -17905778 | N19: 0
A20: 31 Aralık 2023 itibarıyla bakiyeler | B20: 350910 | C20: 5820922 | D20: 8 | E20: -1335671 | G20: 112776 | H20: -18700475 | I20: -617602 | J20: 5882436 | K20: 32438572 | L20: 49055669 | M20: 73007545 | N20: 0
B23: 0 | C23: 5793002 | D23: 0 | E23: -300127 | G23: -126830 | H23: -7340265 | J23: 3963381 | K23: 14266002 | L23: 23961822 | M23: 32500985

Sheet Nakit Akım Tablosu
A1: Ford Otomotiv Sanayi A.Ş. 1 Ocak - 31 Aralık 2023 ve 2022 hesap dönemlerine ait nakit akış tabloları
A2: (Tutarlar, aksi belirtilmedikçe, bin Türk Lirası (“TL”) olarak Türk Lirasının 31 Aralık 2023 tarihindeki alım gücü ile ifade edilmiştir.) | B2: Notlar | C2: Cari dönem bağımsız denetimden geçmiş | D2: Geçmiş dönem bağımsız denetimden geçmiş
C3: 1 Ocak - 31 Aralık 2023 | D3: 1 Ocak - 31 Aralık 2022
E4: Check | F4: Check
A5: İşletme Faaliyetlerinden Nakit Akışları | C5: 50572807 | D5: 34249071 | E5: 0 | F5: 0
A6: Dönem karı | C6: 49055669 | D6: 27729927 | E6: 0 | F6: 0
A7: Dönem Net Karı Mutabakatı İle İlgili Düzeltmeler | C7: 12985144 | D7: 14829967 | E7: 0 | F7: 0
A8: Amortisman ve itfa gideri ile ilgili düzeltmeler | B8: 11,12,13 | C8: 6064701 | D8: 7195807 | E8: 0 | F8: 0
A9: Stok değer düşüklüğü ile ilgili düzeltmeler | B9: 10 | C9: 13331 | D9: 1052 | E9: 0 | F9: 0
A10: Çalışanlara sağlanan faydalara ilişkin karşılıklar ile ilgili düzeltmeler | C10: 2394203 | D10: 1307269 | E10: 0 | F10: 0
A11: Dava ve / veya ceza karşılıkları ile ilgili düzeltmeler | B11: 14 | C11: 94143 | D11: 94303 | E11: 0 | F11: 0
A12: Garanti karşılıkları ile ilgili düzeltmeler | B12: 14 | C12: 2779558 | D12: 2431552 | E12: 0 | F12: 0
A13: Diğer karşılıklar ile ilgili düzeltmeler | C13: 295265 | D13: -149917 | E13: 0 | F13: 0
A14: Kar payı geliri ile ilgili düzeltmeler | B14: 30 | C14: 0 | D14: -9034 | E14: 0 | F14: 0
A15: Faiz gelirleri ile ilgili düzeltmeler | B15: 23 | C15: -3277477 | D15: -1238078 | E15: 0 | F15: 0
A16: Faiz giderleri ile ilgili düzeltmeler | B16: 24 | C16: 5641892 | D16: 1959951 | E16: 0 | F16: 0
A17: Vergi gideri ile ilgili düzeltmeler | B17: 25 | C17: -1987414 | D17: -2518872 | E17: 0 | F17: 0
A18: Vadeli satışlardan kaynaklanan kazanılmamış finansman geliri | B18: 22 | C18: -4010617 | D18: -1472421 | E18: 0 | F18: 0
A19: Vadeli alımlardan kaynaklanan ertelenmiş finansman gideri | B19: 22 | C19: 5055329 | D19: 2594690 | E19: 0 | F19: 0
A20: Duran varlıkların elden çıkarılmasından kaynaklanan kayıplar ile ilgili düzeltmeler | B20: 30 | C20: 64552 | D20: 38996 | E20: 0 | F20: 0
A21: Gerçekleşmemiş yabancı para çevrim farkları | B21: 22 | C21: -1202480 | D21: -2125562 | E21: 0 | F21: 0
A22: Yatırım ya da finansman faaliyetlerinden kaynaklanan nakit akışlarına neden olan diğer kalemlere ilişkin düzeltmeler | C22: 10633656 | D22: 12812021 | E22: 0 | F22: 0
A23: Parasal (kazanç) / kayıp | C23: -9573498 | D23: -6091789.8 | E23: 0 | F23: 0
A25: İşletme Sermayesinde Gerçekleşen Değişimler | C25: -6992075 | D25: -5548011 | E25: =[1]NA!$D29-C25 -> 0 | F25: =[1]NA!$E29-D25 -> 0
A27: Ticari alacaklardaki (artış) / azalış ile ilgili düzeltmeler | C27: -3439237 | D27: -7567720 | E27: =[1]NA!$D30-C27 -> 0 | F27: =[1]NA!$E30-D27 -> 0
A28: Stoklardaki (artışlar) / azalışlar ile ilgili düzeltmeler | C28: -6090628 | D28: -2389744 | E28: =[1]NA!$D31-C28 -> 0 | F28: =[1]NA!$E31-D28 -> 0
A29: Peşin ödenmiş giderlerdeki (artış) / azalış | C29: 152955 | D29: -1013642 | E29: =[1]NA!$D32-C29 -> 0 | F29: =[1]NA!$E32-D29 -> 0
A30: Ticari borçlardaki artış / (azalış) ile ilgili düzeltmeler | C30: 3192191 | D30: 8751788 | E30: =[1]NA!$D33-C30 -> 0 | F30: =[1]NA!$E33-D30 -> 0
A31: Faaliyetlerle ilgili diğer varlıklardaki (artış) / azalış | C31: -2991896 | D31: -517001 | E31: =[1]NA!$D34-C31 -> 0 | F31: =[1]NA!$E34-D31 -> 0
A32: Faaliyetlerle ilgili diğer yükümlülüklerdeki artış / (azalış) | C32: 2184540 | D32: -2811692 | E32: =[1]NA!$D35-C32 -> 0 | F32: =[1]NA!$E35-D32 -> 0
A34: Faaliyetlerden Elde Edilen Nakit Akışları | C34: 55048738 | D34: 37011883 | E34: =[1]NA!$D39-C34 -> 0 | F34: =[1]NA!$E39-D34 -> 0
A36: Ödenen faiz | C36: -4601252 | D36: -2520225 | E36: =[1]NA!$D43-C36 -> 0 | F36: =[1]NA!$E43-D36 -> 0
A37: Alınan faiz | C37: 3710593 | D37: 1278104 | E37: =[1]NA!$D44-C37 -> 0 | F37: =[1]NA!$E44-D37 -> 0
A38: Çalışanlara sağlanan faydalara ilişkin karşılıklar kapsamında yapılan ödemeler | B38: 16 | C38: -458119 | D38: -70389 | E38: =[1]NA!$D45-C38 -> 0 | F38: =[1]NA!$E45-D38 -> 0
A39: Diğer karşılıklara ilişkin ödemeler | C39: -1423185 | D39: -1191210 | E39: =[1]NA!$D46-C39 -> 0 | F39: =[1]NA!$E46-D39 -> 0
A40: Vergi ödemeleri | C40: -1703968 | D40: -259092 | E40: =[1]NA!$D47-C40 -> 0 | F40: =[1]NA!$E47-D40 -> 0
A42: Yatırım Faaliyetlerinde Kullanılan Nakit Akışları | C42: -32071503 | D42: -34199262 | E42: =[1]NA!$D50-C42 -> 0 | F42: =[1]NA!$E50-D42 -> 0
A44: Maddi duran varlıkların satışından kaynaklanan nakit girişleri | C44: 885329 | D44: 9935 | E44: =[1]NA!$D51-C44 -> 0 | F44: =[1]NA!$E51-D44 -> 0
A45: Maddi duran varlık alımından kaynaklanan nakit çıkışları | C45: -26743460 | D45: -11437876 | E45: =[1]NA!$D52-C45 -> 0 | F45: =[1]NA!$E52-D45 -> 0
A46: Maddi olmayan duran varlık alımından kaynaklanan nakit çıkışları | C46: -5316997 | D46: -1733185 | E46: =[1]NA!$D53-C46 -> 0 | F46: =[1]NA!$E53-D46 -> 0
A47: Verilen nakit avans ve borçlar | C47: -837005 | D47: -7872105 | E47: =[1]NA!$D54-C47 -> 0 | F47: =[1]NA!$E54-D47 -> 0
A48: Alınan temettüler | B48: 30 | C48: 0 | D48: 9034 | E48: =[1]NA!$D55-C48 -> 0 | F48: =[1]NA!$E55-D48 -> 0
A49: Bağlı ortaklıkların kontrolünün elde edilmesine yönelik ödemelere ilişkin nakit çıkışları | B49: 3 | C49: 0 | D49: -13153976 | E49: =[1]NA!$D56-C49 -> 0 | F49: =[1]NA!$E56-D49 -> 0
A50: İştiraklerin pay alımı/sermaye artırımı sebebiyle oluşan nakit çıkışları | C50: -59370 | D50: -21089 | E50: =[1]NA!$D57-C50 -> 0 | F50: =[1]NA!$E57-D50 -> 0
A52: Finansman Faaliyetlerinde (Kullanılan) / Elde Edilen Nakit Akışları | C52: -8570744 | D52: -6342711 | E52: =[1]NA!$D$61-C52 -> 0 | F52: =[1]NA!$E$61-D52 -> 0
A54: Borçlanmadan kaynaklanan nakit girişleri | B54: 7 | C54: 29759166 | D54: 42342286 | E54: =[1]NA!$D62-C54 -> 0 | F54: =[1]NA!$E62-D54 -> 0
A55: Borç ödemelerine ilişkin nakit çıkışları | B55: 7 | C55: -18445446 | D55: -34567093 | E55: =[1]NA!$D63-C55 -> 0 | F55: =[1]NA!$E63-D55 -> 0
A56: Ödenen temettüler | B56: 18 | C56: -18423973 | D56: -13722496 | E56: =[1]NA!$D64-C56 -> 0 | F56: =[1]NA!$E64-D56 -> 0
A57: Ödenen faiz | C57: -4505046 | D57: -1658299 | E57: =[1]NA!$D65-C57 -> 0 | F57: =[1]NA!$E65-D57 -> 0
A58: Alınan faiz | C58: 3255141 | D58: 1412922 | E58: =[1]NA!$D66-C58 -> 0 | F58: =[1]NA!$E66-D58 -> 0
A59: Kira sözleşmelerinden kaynaklanan borç ödemelerine ilişkin nakit çıkışları | B59: 7 | C59: -210586 | D59: -150031 | E59: =[1]NA!$D67-C59 -> 0 | F59: =[1]NA!$E67-D59 -> 0
A61: Yabancı para çevirim farklarının etkisinden önce nakit ve nakit benzerlerindeki net (azalış) / artış | C61: 9930560 | D61: -6292901.8 | E61: =[1]NA!$D$71-C61 -> 0 | F61: =[1]NA!$E$71-D61 -> 0
A62: Nakit ve nakit benzerleri üzerindeki parasal (kayıp) | C62: -11894749 | D62: -15272078
A63: Yabancı para çevirim farklarının nakit ve nakit benzerleri üzerindeki etkisi | C63: 500050 | D63: 41265.955
A64: Nakit ve nakit benzerlerindeki net (azalış) / artış | C64: -1464139 | D64: -21523714
A66: Dönem başı nakit ve nakit benzerleri | C66: 16657928 | D66: 38181642 | E66: =[1]NA!$D76-C66 -> 0 | F66: =[1]NA!$E76-D66 -> 0
A68: Dönem sonu nakit ve nakit benzerleri | B68: 5 | C68: 15193789 | D68: 16657928 | E68: =[1]NA!$D$77-C68 -> 0 | F68: =[1]NA!$E$77-D68 -> 0
