Workbook
Name OLE_LINK1: 'Changes In Equity'!#REF!
Name OLE_LINK41: Liabilities!#REF!
Name OLE_LINK49: Liabilities!#REF!
Name OLE_LINK50: Liabilities!#REF!
Name OLE_LINK52: Liabilities!#REF!
Name OLE_LINK54: Liabilities!$A$38
Name OLE_LINK55: Liabilities!$A$39
Name OLE_LINK58: Liabilities!#REF!
Name OLE_LINK61: Liabilities!$A$33
Name OLE_LINK62: Liabilities!$A$48
Name OLE_LINK64: Liabilities!#REF!

Sheet Assets
A1: Ford Otomotiv Sanayi A.Ş. Statement of financial position as of 31 December 2017 and 31 December 2016
C2: Current period Audited | D2: Prior period Audited
A3: Turkish Lira (thousand TL) | B3: Notes | C3: 31 December 2017 | D3: 31 December 2016
A4: Assets
A5: Current assets | C5: =SUM(C7:C17) -> 6827040 | D5: =SUM(D7:D17) -> 4675977
A7: Cash and cash equivalents | B7: =+[1]Varlıklar!B7 -> 4 | C7: =[1]Varlıklar!C7 -> 1805945 | D7: =[1]Varlıklar!D7 -> 1189033
A8: Trade receivables
A9: - Due from related parties | B9: =+[1]Varlıklar!B9 -> 26 | C9: =[1]Varlıklar!C9 -> 2057267 | D9: =[1]Varlıklar!D9 -> 1362949
A10: - Due from third parties | B10: =+[1]Varlıklar!B10 -> 7 | C10: =[1]Varlıklar!C10 -> 1299746 | D10: =[1]Varlıklar!D10 -> 794771
A11: Other receivables
A12: - Due from third parties | B12: =+[1]Varlıklar!B12 -> 8 | C12: =[1]Varlıklar!C12 -> 521 | D12: =[1]Varlıklar!D12 -> 504
A13: Inventories | B13: =+[1]Varlıklar!B13 -> 9 | C13: =[1]Varlıklar!C13 -> 1152490 | D13: =[1]Varlıklar!D13 -> 1054426
A14: Prepaid expenses | B14: =+[1]Varlıklar!B14 -> 12 | C14: =[1]Varlıklar!C14 -> 101979 | D14: =[1]Varlıklar!D14 -> 59011
A15: Other current assets | B15: =+[1]Varlıklar!B15 -> 16 | C15: =[1]Varlıklar!C15 -> 404561 | D15: =[1]Varlıklar!D15 -> 213526
A16: Current tax assets | B16: =+[1]Varlıklar!B16 -> 24 | C16: =[1]Varlıklar!C16 -> - | D16: =[1]Varlıklar!D16 -> 1757
A17: Derivative financial assets | B17: =+[1]Varlıklar!B17 -> 28 | C17: =[1]Varlıklar!C17 -> 4531 | D17: =[1]Varlıklar!D17 -> -
A19: Non-current assets | C19: =SUM(C21:C27) -> 5184700 | D19: =SUM(D21:D27) -> 4610175
A21: Financial assets | B21: =+[1]Varlıklar!B21 -> 5 | C21: =[1]Varlıklar!C21 -> 17406 | D21: =[1]Varlıklar!D21 -> 18756
A22: Trade receivables
A23: - Due from third parties | B23: =+[1]Varlıklar!B23 -> 7 | C23: =[1]Varlıklar!C23 -> 3002 | D23: =[1]Varlıklar!D23 -> 1464
A24: Property, plant and equipment | B24: =+[1]Varlıklar!B24 -> 10 | C24: =[1]Varlıklar!C24 -> 3536220 | D24: =[1]Varlıklar!D24 -> 3302745
A25: Intangible assets | B25: =+[1]Varlıklar!B25 -> 11 | C25: =[1]Varlıklar!C25 -> 690337 | D25: =[1]Varlıklar!D25 -> 552563
A26: Prepaid expenses | B26: =+[1]Varlıklar!B26 -> 12 | C26: =[1]Varlıklar!C26 -> 311292 | D26: =[1]Varlıklar!D26 -> 178333
A27: Deferred tax asset | B27: =+[1]Varlıklar!B27 -> 24 | C27: =[1]Varlıklar!C27 -> 626443 | D27: =[1]Varlıklar!D27 -> 556314
A29: Total assets | C29: =+C5+C19 -> 12011740 | D29: =+D5+D19 -> 9286152

Sheet Liabilities
A1: =+Assets!A1 -> Ford Otomotiv Sanayi A.Ş. Statement of financial position as of 31 December 2017 and 31 December 2016
C2: =+Assets!C2 -> Current period Audited | D2: =+Assets!D2 -> Prior period Audited
A3: Turkish Lira (thousand TL) | B3: Notes | C3: =+Assets!C3 -> 31 December 2017 | D3: =+Assets!D3 -> 31 December 2016
A4: Liabilities
A5: Current liabilities | C5: =SUM(C8:C21) -> 6049677 | D5: =SUM(D8:D21) -> 4307860
A7: Current borrowings
A8: - Bank borrowings | B8: =+[1]Kaynaklar!B8 -> 6 | C8: =[1]Kaynaklar!C8 -> 1061621 | D8: =[1]Kaynaklar!D8 -> 771572
A9: Short- term portion of long-term borrowings
A10: - Bank borrowings | B10: =+[1]Kaynaklar!B10 -> 6 | C10: =[1]Kaynaklar!C10 -> 722259 | D10: =[1]Kaynaklar!D10 -> 576703
A11: Trade payables
A12: - Due to related parties | B12: =+[1]Kaynaklar!B12 -> 26 | C12: =[1]Kaynaklar!C12 -> 895559 | D12: =[1]Kaynaklar!D12 -> 794183
A13: - Due to third parties | B13: =+[1]Kaynaklar!B13 -> 7 | C13: =[1]Kaynaklar!C13 -> 2921390 | D13: =[1]Kaynaklar!D13 -> 1823160
A14: Other payables
A15: - Due to related parties | B15: =+[1]Kaynaklar!B15 -> 26 | C15: =[1]Kaynaklar!C15 -> 31438 | D15: =[1]Kaynaklar!D15 -> 18763
A16: - Due to third parties | B16: =+[1]Kaynaklar!B16 -> 8 | C16: =[1]Kaynaklar!C16 -> 56385 | D16: =[1]Kaynaklar!D16 -> 76129
A17: Deferred revenue | B17: =+[1]Kaynaklar!B17 -> 30 | C17: =[1]Kaynaklar!C17 -> 10929 | D17: =[1]Kaynaklar!D17 -> 8811
A18: Short-term provisions
A19: - Other provisions | B19: =+[1]Kaynaklar!B19 -> 13 | C19: =[1]Kaynaklar!C19 -> 159614 | D19: =[1]Kaynaklar!D19 -> 136240
A20: Employee benefit liabilities | B20: =+[1]Kaynaklar!B20 -> 15 | C20: =[1]Kaynaklar!C20 -> 184092 | D20: =[1]Kaynaklar!D20 -> 102299
A21: Current tax liabilities | B21: =+[1]Kaynaklar!B21 -> 24 | C21: =+[1]Kaynaklar!$C$21 -> 6390 | D21: =+[1]Kaynaklar!$D$21 -> -
A23: Non-current liabilities | C23: =SUM(C26:C32) -> 2266204 | D23: =SUM(D26:D32) -> 1814673
A25: Long Term Borrowings
A26: - Bank borrowings | B26: =+[1]Kaynaklar!B26 -> 6 | C26: =[1]Kaynaklar!C26 -> 1820167 | D26: =[1]Kaynaklar!D26 -> 1503855
A27: Long-term provisions
A28: - Provision for employment termination benefits | B28: =+[1]Kaynaklar!B28 -> 15 | C28: =[1]Kaynaklar!C28 -> 153484 | D28: =[1]Kaynaklar!D28 -> 130326
A29: - Other provisions | B29: =+[1]Kaynaklar!B29 -> 13 | C29: =[1]Kaynaklar!C29 -> 169285 | D29: =[1]Kaynaklar!D29 -> 100115
A30: Deferred revenue | B30: =+[1]Kaynaklar!B30 -> 30 | C30: =[1]Kaynaklar!C30 -> 7450 | D30: =[1]Kaynaklar!D30 -> 4757
A31: Other non-current liabilities | B31: =+[1]Kaynaklar!B31 -> 31 | C31: =[1]Kaynaklar!C31 -> 115631 | D31: =[1]Kaynaklar!D31 -> 75620
A32: Derivative financial liabilities | B32: =+[1]Kaynaklar!B32 -> 28 | C32: =[1]Kaynaklar!C32 -> 187 | D32: =[1]Kaynaklar!D32 -> -
A34: Equity | B34: =+[1]Kaynaklar!B34 -> 17 | C34: =SUM(C36:C46) -> 3695859 | D34: =SUM(D36:D46) -> 3163619
A36: Paid-in capital | C36: =[1]Kaynaklar!C36 -> 350910 | D36: =[1]Kaynaklar!D36 -> 350910
A37: Inflation adjustments on capital | C37: =[1]Kaynaklar!C37 -> 27920 | D37: =[1]Kaynaklar!D37 -> 27920
A38: Share premium | C38: =[1]Kaynaklar!C38 -> 8 | D38: =[1]Kaynaklar!D38 -> 8
A39: Other comprehensive income/ (loss) not to be reclassified under profit or loss
A40: - Losses on remeasurements of defined benefit plans | C40: =[1]Kaynaklar!C40 -> -14001 | D40: =[1]Kaynaklar!D40 -> -14019
A41: Other comprehensive income/ (loss) to be reclassified in profit or loss
A42: -Gains on remeasurements and/or reclassification of available- for- sale financial assets | C42: =[1]Kaynaklar!C42 -> 15608 | D42: =[1]Kaynaklar!D42 -> 16890
A43: -Losses on cash flow hedges | C43: =[1]Kaynaklar!C43 -> -503120 | D43: =[1]Kaynaklar!D43 -> -336189
A44: Restricted reserves | C44: =[1]Kaynaklar!C44 -> 254404 | D44: =[1]Kaynaklar!D44 -> 284207
A45: Retained earnings | C45: =[1]Kaynaklar!C45 -> 2074147 | D45: =[1]Kaynaklar!D45 -> 1878584
...

Sheet Profit or Loss
A1: Ford Otomotiv Sanayi A.Ş. Statement of profit or loss for the years ended 31 December 2017 and 2016
C2: =+Liabilities!C2 -> Current period Audited | D2: =+Liabilities!D2 -> Prior period Audited
A3: Turkish Lira (thousand TL) | B3: Notes | C3: 1 January- 31 December 2017 | D3: 1 January- 31 December 2016
A5: Continued operations
A6: Revenue | B6: ='[1]Gelir Tablosu'!B6 -> 18 | C6: ='[1]Gelir Tablosu'!C6 -> 25341290 | D6: ='[1]Gelir Tablosu'!D6 -> 18289107 | E6: ='[1]Gelir Tablosu'!E6 -> 0 | F6: ='[1]Gelir Tablosu'!F6 -> 0
A7: Cost of sales | B7: ='[1]Gelir Tablosu'!B7 -> 18 | C7: ='[1]Gelir Tablosu'!C7 -> -22704095 | D7: ='[1]Gelir Tablosu'!D7 -> -16203045 | E7: ='[1]Gelir Tablosu'!E7 -> 0 | F7: ='[1]Gelir Tablosu'!F7 -> 0
A9: Gross profit | C9: =+SUM(C6:C7) -> 2637195 | D9: =+SUM(D6:D7) -> 2086062 | E9: =+SUM(E6:E7) -> 0 | F9: =+SUM(F6:F7) -> 0
A11: Marketing expenses | B11: ='[1]Gelir Tablosu'!B11 -> 19 | C11: ='[1]Gelir Tablosu'!C11 -> -544303 | D11: ='[1]Gelir Tablosu'!D11 -> -448266 | E11: ='[1]Gelir Tablosu'!E11 -> 0 | F11: ='[1]Gelir Tablosu'!F11 -> 0
A12: General administrative expenses | B12: ='[1]Gelir Tablosu'!B12 -> 19 | C12: ='[1]Gelir Tablosu'!C12 -> -249480 | D12: ='[1]Gelir Tablosu'!D12 -> -225038 | E12: ='[1]Gelir Tablosu'!E12 -> 0 | F12: ='[1]Gelir Tablosu'!F12 -> 0
A13: Research and development expenses | B13: ='[1]Gelir Tablosu'!B13 -> 19 | C13: ='[1]Gelir Tablosu'!C13 -> -317192 | D13: ='[1]Gelir Tablosu'!D13 -> -383844 | E13: ='[1]Gelir Tablosu'!E13 -> 0 | F13: ='[1]Gelir Tablosu'!F13 -> 0
A14: Other income from operating activities | B14: ='[1]Gelir Tablosu'!B14 -> 21 | C14: ='[1]Gelir Tablosu'!C14 -> 460462 | D14: ='[1]Gelir Tablosu'!D14 -> 281426 | E14: ='[1]Gelir Tablosu'!E14 -> 0 | F14: ='[1]Gelir Tablosu'!F14 -> 0
A15: Other expenses from operating activities | B15: ='[1]Gelir Tablosu'!B15 -> 21 | C15: ='[1]Gelir Tablosu'!C15 -> -278508 | D15: ='[1]Gelir Tablosu'!D15 -> -199316 | E15: ='[1]Gelir Tablosu'!E15 -> 0 | F15: ='[1]Gelir Tablosu'!F15 -> 0
A17: Profit from operating activities | C17: =+SUM(C9:C15) -> 1708174 | D17: =+SUM(D9:D15) -> 1111024 | E17: =+SUM(E9:E15) -> 0 | F17: =+SUM(F9:F15) -> 0
A19: Income from investing activities | B19: ='[1]Gelir Tablosu'!B19 -> 29 | C19: ='[1]Gelir Tablosu'!C19 -> 363 | D19: ='[1]Gelir Tablosu'!D19 -> 422 | E19: ='[1]Gelir Tablosu'!E19 -> 0 | F19: ='[1]Gelir Tablosu'!F19 -> 0
A20: Expenses from investing activities | B20: ='[1]Gelir Tablosu'!B20 -> 29 | C20: ='[1]Gelir Tablosu'!C20 -> -3407 | D20: ='[1]Gelir Tablosu'!D20 -> -6263 | E20: ='[1]Gelir Tablosu'!E20 -> 0 | F20: ='[1]Gelir Tablosu'!F20 -> 0
A22: Operating profit before financial income/ (expense) | C22: =+SUM(C17:C20) -> 1705130 | D22: =+SUM(D17:D20) -> 1105183 | E22: =+SUM(E17:E20) -> 0 | F22: =+SUM(F17:F20) -> 0
A24: Financial income | B24: ='[1]Gelir Tablosu'!B24 -> 22 | C24: ='[1]Gelir Tablosu'!C24 -> 562262 | D24: ='[1]Gelir Tablosu'!D24 -> 310182 | E24: ='[1]Gelir Tablosu'!E24 -> 0 | F24: ='[1]Gelir Tablosu'!F24 -> 0
A25: Financial expenses | B25: ='[1]Gelir Tablosu'!B25 -> 23 | C25: ='[1]Gelir Tablosu'!C25 -> -786231 | D25: ='[1]Gelir Tablosu'!D25 -> -445194 | E25: ='[1]Gelir Tablosu'!E25 -> 0 | F25: ='[1]Gelir Tablosu'!F25 -> 0
A27: Profit before tax from continued operations | C27: =+SUM(C22:C25) -> 1481161 | D27: =+SUM(D22:D25) -> 970171 | E27: =+SUM(E22:E25) -> 0 | F27: =+SUM(F22:F25) -> 0
A29: Tax income/ (expense) from continued operations | C29: =+SUM(C30:C31) -> 8822 | D29: =+SUM(D30:D31) -> -14863 | E29: =+SUM(E30:E31) -> 0 | F29: =+SUM(F30:F31) -> 0
A30: Current tax expenses | B30: ='[1]Gelir Tablosu'!B30 -> 24 | C30: ='[1]Gelir Tablosu'!C30 -> -19511 | D30: ='[1]Gelir Tablosu'!D30 -> -20414 | E30: ='[1]Gelir Tablosu'!E30 -> 0 | F30: ='[1]Gelir Tablosu'!F30 -> 0
A31: Deferred tax income | B31: ='[1]Gelir Tablosu'!B31 -> 24 | C31: ='[1]Gelir Tablosu'!C31 -> 28333 | D31: ='[1]Gelir Tablosu'!D31 -> 5551 | E31: ='[1]Gelir Tablosu'!E31 -> 0 | F31: ='[1]Gelir Tablosu'!F31 -> 0
A33: Net profit from continued operations | C33: =+C27+C30+C31 -> 1489983 | D33: =+D27+D30+D31 -> 955308 | E33: =+E27+E30+E31 -> 0 | F33: =+F27+F30+F31 -> 0
A35: Earnings per share with a nominal value Kr 1 | B35: ='[1]Gelir Tablosu'!B35 -> 25 | C35: ='[1]Gelir Tablosu'!C35 -> 4,25 Kr | D35: ='[1]Gelir Tablosu'!D35 -> 2,72 Kr

Sheet Comprehensive Income Statement
A1: Ford Otomotiv Sanayi A.Ş. Statement of other comprehensive income for the years ended 31 December 2017 and 2016
C2: =+'Profit or Loss'!C2 -> Current period Audited | D2: =+'Profit or Loss'!D2 -> Prior period Audited
A3: Turkish Lira (thousand TL) | B3: Notes | C3: =+'Profit or Loss'!C3 -> 1 January- 31 December 2017 | D3: =+'Profit or Loss'!D3 -> 1 January- 31 December 2016
A5: Net profit | C5: ='[1]Kapsamlı Gelir Tablosu'!C5 -> 1489983 | D5: ='[1]Kapsamlı Gelir Tablosu'!D5 -> 955308 | E5: ='[1]Kapsamlı Gelir Tablosu'!E5 -> 0 | F5: ='[1]Kapsamlı Gelir Tablosu'!F5 -> 0
A7: Other comprehensive income
A9: Other comprehensive income not to be reclassified to profit or loss
A10: Gains (losses) on remeasurements of defined benefit plans | B10: =+'[1]Kapsamlı Gelir Tablosu'!B10 -> 17 | C10: ='[1]Kapsamlı Gelir Tablosu'!C10 -> 23 | D10: ='[1]Kapsamlı Gelir Tablosu'!D10 -> -15458 | E10: ='[1]Kapsamlı Gelir Tablosu'!E10 -> 0 | F10: ='[1]Kapsamlı Gelir Tablosu'!F10 -> 0
A12: Other comprehensive income tax not to be reclassified to profit or loss
A13: Taxes Relating to Remeasurements of Defined Benefit Plans | B13: =+'[1]Kapsamlı Gelir Tablosu'!B13 -> 17 | C13: ='[1]Kapsamlı Gelir Tablosu'!C13 -> -5 | D13: ='[1]Kapsamlı Gelir Tablosu'!D13 -> 3091 | E13: ='[1]Kapsamlı Gelir Tablosu'!E13 -> 0 | F13: ='[1]Kapsamlı Gelir Tablosu'!F13 -> 0
A15: Other comprehensive income to be reclassified to profit or loss
A16: (Losses) / gains on remeasurements or reclassification adjustments on available-for-sale financial assets | B16: =+'[1]Kapsamlı Gelir Tablosu'!B16 -> 17 | C16: ='[1]Kapsamlı Gelir Tablosu'!C16 -> -1350 | D16: ='[1]Kapsamlı Gelir Tablosu'!D16 -> 6130 | E16: ='[1]Kapsamlı Gelir Tablosu'!E16 -> 0 | F16: ='[1]Kapsamlı Gelir Tablosu'!F16 -> 0
A17: (Losses) / gains on cash flow hedges | B17: =+'[1]Kapsamlı Gelir Tablosu'!B17 -> 17 | C17: ='[1]Kapsamlı Gelir Tablosu'!C17 -> -208664 | D17: ='[1]Kapsamlı Gelir Tablosu'!D17 -> -227226 | E17: ='[1]Kapsamlı Gelir Tablosu'!E17 -> 0 | F17: ='[1]Kapsamlı Gelir Tablosu'!F17 -> 0
A18: Other comprehensive income taxes to be reclassified to profit or loss
A19: Taxes relating to gains/ (losses) on remeasurements or reclassification adjustments on available- for- sale financial assets | B19: =+'[1]Kapsamlı Gelir Tablosu'!B19 -> 17 | C19: ='[1]Kapsamlı Gelir Tablosu'!C19 -> 68 | D19: ='[1]Kapsamlı Gelir Tablosu'!D19 -> -306 | E19: ='[1]Kapsamlı Gelir Tablosu'!E19 -> 0 | F19: ='[1]Kapsamlı Gelir Tablosu'!F19 -> 0
A20: Taxes relating to cash flow hedges | B20: =+'[1]Kapsamlı Gelir Tablosu'!B20 -> 17 | C20: ='[1]Kapsamlı Gelir Tablosu'!C20 -> 41733 | D20: ='[1]Kapsamlı Gelir Tablosu'!D20 -> 45445 | E20: ='[1]Kapsamlı Gelir Tablosu'!E20 -> 0 | F20: ='[1]Kapsamlı Gelir Tablosu'!F20 -> 0
A22: Other comprehensive (loss)/ income | C22: =+SUM(C10:C20) -> -168195 | D22: =+SUM(D10:D20) -> -188324 | E22: =+SUM(E10:E20) -> 0 | F22: =+SUM(F10:F20) -> 0
A24: Total comprehensive income | C24: =+C5+C22 -> 1321788 | D24: =+D5+D22 -> 766984 | E24: =+E5+E22 -> 0 | F24: =+F5+F22 -> 0

Sheet Changes In Equity
A1: Ford Otomotiv Sanayi A.Ş. Statement of changes in equity for the periods ended 31 December 2017 and 2016
E2: Other comprehensive income to be reclassified in profit or loss | H2: Other comprehensive income not to be reclassfied in profit or loss | J2: Retained Earnings
A3: Turkish Lira (thousand TL) | B3: Paid-in capital | C3: Inflation adjustments on capital | D3: Share premium | E3: Gains / (Losses) on Remeasurements and/or reclassification of avaible-for-sale financial assets | F3: Cash flow hedge reserve | H3: Gains / (losses) on remeasurements of defined benefit plans | I3: Restricted Reserves | J3: Retained earnings | K3: Net Profit | L3: Total equity
A4: Balances at January 1, 2016 | B4: ='[1]Özkaynak Değişim Tablosu'!B4 -> 350910 | C4: ='[1]Özkaynak Değişim Tablosu'!C4 -> 27920 | D4: ='[1]Özkaynak Değişim Tablosu'!D4 -> 8 | E4: ='[1]Özkaynak Değişim Tablosu'!E4 -> 11066 | F4: ='[1]Özkaynak Değişim Tablosu'!F4 -> -154408 | H4: ='[1]Özkaynak Değişim Tablosu'!H4 -> -1652 | I4: ='[1]Özkaynak Değişim Tablosu'!I4 -> 438411 | J4: ='[1]Özkaynak Değişim Tablosu'!J4 -> 1545689 | K4: ='[1]Özkaynak Değişim Tablosu'!K4 -> 841911 | L4: ='[1]Özkaynak Değişim Tablosu'!L4 -> 3059855
A6: Profit for the period | B6: ='[1]Özkaynak Değişim Tablosu'!B6 -> 0 | C6: ='[1]Özkaynak Değişim Tablosu'!C6 -> 0 | D6: ='[1]Özkaynak Değişim Tablosu'!D6 -> 0 | E6: ='[1]Özkaynak Değişim Tablosu'!E6 -> - | F6: ='[1]Özkaynak Değişim Tablosu'!F6 -> - | H6: ='[1]Özkaynak Değişim Tablosu'!H6 -> 0 | I6: ='[1]Özkaynak Değişim Tablosu'!I6 -> 0 | J6: ='[1]Özkaynak Değişim Tablosu'!J6 -> 0 | K6: ='[1]Özkaynak Değişim Tablosu'!K6 -> 955308 | L6: ='[1]Özkaynak Değişim Tablosu'!L6 -> 955308
A7: Other comprehensive income/ (loss) | B7: ='[1]Özkaynak Değişim Tablosu'!B7 -> 0 | C7: ='[1]Özkaynak Değişim Tablosu'!C7 -> 0 | D7: ='[1]Özkaynak Değişim Tablosu'!D7 -> 0 | E7: ='[1]Özkaynak Değişim Tablosu'!E7 -> 5824 | F7: ='[1]Özkaynak Değişim Tablosu'!F7 -> -181781 | H7: ='[1]Özkaynak Değişim Tablosu'!H7 -> -12367 | I7: ='[1]Özkaynak Değişim Tablosu'!I7 -> 0 | J7: ='[1]Özkaynak Değişim Tablosu'!J7 -> 0 | K7: ='[1]Özkaynak Değişim Tablosu'!K7 -> 0 | L7: ='[1]Özkaynak Değişim Tablosu'!L7 -> -188324
A8: Total comprehensive income | B8: =+SUM(B6:B7) -> 0 | C8: =+SUM(C6:C7) -> 0 | D8: =+SUM(D6:D7) -> 0 | E8: =+SUM(E6:E7) -> 5824 | F8: =+SUM(F6:F7) -> -181781 | H8: =+SUM(H6:H7) -> -12367 | I8: =+SUM(I6:I7) -> 0 | J8: =+SUM(J6:J7) -> 0 | K8: =+SUM(K6:K7) -> 955308 | L8: =+SUM(L6:L7) -> 766984
A9: Transfers | B9: ='[1]Özkaynak Değişim Tablosu'!B9 -> 0 | C9: ='[1]Özkaynak Değişim Tablosu'!C9 -> 0 | D9: ='[1]Özkaynak Değişim Tablosu'!D9 -> 0 | E9: ='[1]Özkaynak Değişim Tablosu'!E9 -> 0 | F9: ='[1]Özkaynak Değişim Tablosu'!F9 -> 0 | H9: ='[1]Özkaynak Değişim Tablosu'!H9 -> 0 | I9: ='[1]Özkaynak Değişim Tablosu'!I9 -> 64567 | J9: ='[1]Özkaynak Değişim Tablosu'!J9 -> 777344 | K9: ='[1]Özkaynak Değişim Tablosu'!K9 -> -841911 | L9: ='[1]Özkaynak Değişim Tablosu'!L9 -> 0
A10: Dividends paid (Note 17) | B10: ='[1]Özkaynak Değişim Tablosu'!B10 -> 0 | C10: ='[1]Özkaynak Değişim Tablosu'!C10 -> 0 | D10: ='[1]Özkaynak Değişim Tablosu'!D10 -> 0 | E10: ='[1]Özkaynak Değişim Tablosu'!E10 -> 0 | F10: ='[1]Özkaynak Değişim Tablosu'!F10 -> 0 | H10: ='[1]Özkaynak Değişim Tablosu'!H10 -> 0 | I10: ='[1]Özkaynak Değişim Tablosu'!I10 -> -218771 | J10: ='[1]Özkaynak Değişim Tablosu'!J10 -> -444449 | K10: ='[1]Özkaynak Değişim Tablosu'!K10 -> 0 | L10: ='[1]Özkaynak Değişim Tablosu'!L10 -> -663220
A11: Balances at December 31, 2016 | B11: =+B4+B8+B9+B10 -> 350910 | C11: =+C4+C8+C9+C10 -> 27920 | D11: =+D4+D8+D9+D10 -> 8 | E11: =+E4+E8+E9+E10 -> 16890 | F11: =+F4+F8+F9+F10 -> -336189 | H11: =+H4+H8+H9+H10 -> -14019 | I11: =+I4+I8+I9+I10 -> 284207 | J11: =+J4+J8+J9+J10 -> 1878584 | K11: =+K4+K8+K9+K10 -> 955308 | L11: =+L4+L8+L9+L10 -> 3163619
A13: Balances at January 1, 2017 | B13: ='[1]Özkaynak Değişim Tablosu'!B13 -> 350910 | C13: ='[1]Özkaynak Değişim Tablosu'!C13 -> 27920 | D13: ='[1]Özkaynak Değişim Tablosu'!D13 -> 8 | E13: ='[1]Özkaynak Değişim Tablosu'!E13 -> 16890 | F13: ='[1]Özkaynak Değişim Tablosu'!F13 -> -336189 | H13: ='[1]Özkaynak Değişim Tablosu'!H13 -> -14019 | I13: ='[1]Özkaynak Değişim Tablosu'!I13 -> 284207 | J13: ='[1]Özkaynak Değişim Tablosu'!J13 -> 1878584 | K13: ='[1]Özkaynak Değişim Tablosu'!K13 -> 955308 | L13: ='[1]Özkaynak Değişim Tablosu'!L13 -> 3163619
A15: Profit/ (loss) for the period | B15: ='[1]Özkaynak Değişim Tablosu'!B15 -> 0 | C15: ='[1]Özkaynak Değişim Tablosu'!C15 -> 0 | D15: ='[1]Özkaynak Değişim Tablosu'!D15 -> 0 | E15: ='[1]Özkaynak Değişim Tablosu'!E15 -> - | F15: ='[1]Özkaynak Değişim Tablosu'!F15 -> - | H15: ='[1]Özkaynak Değişim Tablosu'!H15 -> - | I15: ='[1]Özkaynak Değişim Tablosu'!I15 -> - | J15: ='[1]Özkaynak Değişim Tablosu'!J15 -> - | K15: ='[1]Özkaynak Değişim Tablosu'!K15 -> 1489983 | L15: ='[1]Özkaynak Değişim Tablosu'!L15 -> 1489983
A16: Other comprehensive income/ (loss) | B16: ='[1]Özkaynak Değişim Tablosu'!B16 -> 0 | C16: ='[1]Özkaynak Değişim Tablosu'!C16 -> 0 | D16: ='[1]Özkaynak Değişim Tablosu'!D16 -> 0 | E16: ='[1]Özkaynak Değişim Tablosu'!E16 -> -1282 | F16: ='[1]Özkaynak Değişim Tablosu'!F16 -> -166931 | H16: ='[1]Özkaynak Değişim Tablosu'!H16 -> 18 | I16: ='[1]Özkaynak Değişim Tablosu'!I16 -> - | J16: ='[1]Özkaynak Değişim Tablosu'!J16 -> - | K16: ='[1]Özkaynak Değişim Tablosu'!K16 -> - | L16: ='[1]Özkaynak Değişim Tablosu'!L16 -> -168195
A17: Total comprehensive income | B17: =+SUM(B15:B16) -> 0 | C17: =+SUM(C15:C16) -> 0 | D17: =+SUM(D15:D16) -> 0 | E17: =+SUM(E15:E16) -> -1282 | F17: =+SUM(F15:F16) -> -166931 | H17: =+SUM(H15:H16) -> 18 | I17: =+SUM(I15:I16) -> 0 | J17: =+SUM(J15:J16) -> 0 | K17: =+SUM(K15:K16) -> 1489983 | L17: =+SUM(L15:L16) -> 1321788
A18: Transfers | B18: ='[1]Özkaynak Değişim Tablosu'!B18 -> 0 | C18: ='[1]Özkaynak Değişim Tablosu'!C18 -> 0 | D18: ='[1]Özkaynak Değişim Tablosu'!D18 -> 0 | E18: ='[1]Özkaynak Değişim Tablosu'!E18 -> 0 | F18: ='[1]Özkaynak Değişim Tablosu'!F18 -> 0 | H18: ='[1]Özkaynak Değişim Tablosu'!H18 -> 0 | I18: ='[1]Özkaynak Değişim Tablosu'!I18 -> 77200 | J18: ='[1]Özkaynak Değişim Tablosu'!J18 -> 878108 | K18: ='[1]Özkaynak Değişim Tablosu'!K18 -> -955308 | L18: ='[1]Özkaynak Değişim Tablosu'!L18 -> 0
A19: Dividends paid (Note 17) | B19: ='[1]Özkaynak Değişim Tablosu'!B19 -> 0 | C19: ='[1]Özkaynak Değişim Tablosu'!C19 -> 0 | D19: ='[1]Özkaynak Değişim Tablosu'!D19 -> 0 | E19: ='[1]Özkaynak Değişim Tablosu'!E19 -> 0 | F19: ='[1]Özkaynak Değişim Tablosu'!F19 -> 0 | H19: ='[1]Özkaynak Değişim Tablosu'!H19 -> 0 | I19: ='[1]Özkaynak Değişim Tablosu'!I19 -> -107003 | J19: ='[1]Özkaynak Değişim Tablosu'!J19 -> -682545 | K19: ='[1]Özkaynak Değişim Tablosu'!K19 -> 0 | L19: ='[1]Özkaynak Değişim Tablosu'!L19 -> -789548
A20: Balances at December 31, 2017 | B20: =+B13+B17+B18+B19 -> 350910 | C20: =+C13+C17+C18+C19 -> 27920 | D20: =+D13+D17+D18+D19 -> 8 | E20: =+E13+E17+E18+E19 -> 15608 | F20: =+F13+F17+F18+F19 -> -503120 | H20: =+H13+H17+H18+H19 -> -14001 | I20: =+I13+I17+I18+I19 -> 254404 | J20: =+J13+J17+J18+J19 -> 2074147 | K20: =+K13+K17+K18+K19 -> 1489983 | L20: =+SUM(B20:K20) -> 3695859

Sheet Statement of Cash Flow
A1: Ford Otomotiv Sanayi A.Ş. Statement of cash flows for the periods ended 31 December 2017 and 2016
A2: Turkish lira (thousand TL) | B2: Notlar | C2: Current Period Audited 31 December 2017 | D2: Prior period Audited 31 December 2016
A5: Cash flows generated from/ (used in) operating activities | C5: =+SUM(C32:C38) -> 2158569 | D5: =+SUM(D32:D38) -> 1612405
A6: Net profit for the period | C6: ='[1]Nakit Akım Tablosu'!C6 -> 1489983 | D6: ='[1]Nakit Akım Tablosu'!D6 -> 955308
A7: Adjustments to reconcile profit for the period | C7: =+SUM(C8:C21) -> 1176370 | D7: =+SUM(D8:D21) -> 930238
A8: Adjustments for depreciation and amortisation expense | B8: 10.11 | C8: ='[1]Nakit Akım Tablosu'!C8 -> 473624 | D8: ='[1]Nakit Akım Tablosu'!D8 -> 456387
A9: Adjustments for impairment loss of inventories | B9: 9 | C9: ='[1]Nakit Akım Tablosu'!C9 -> -1326 | D9: ='[1]Nakit Akım Tablosu'!D9 -> 903
A10: Adjustments for provisions related with employee benefits | C10: ='[1]Nakit Akım Tablosu'!C10 -> 115416 | D10: ='[1]Nakit Akım Tablosu'!D10 -> 36650
A11: Adjustments for lawsuit and/ or penalty provisions | B11: 13 | C11: ='[1]Nakit Akım Tablosu'!C11 -> 12706 | D11: ='[1]Nakit Akım Tablosu'!D11 -> 7372
A12: Adjustments for warranty provisions | B12: 13 | C12: ='[1]Nakit Akım Tablosu'!C12 -> 188087 | D12: ='[1]Nakit Akım Tablosu'!D12 -> 155559
A13: Adjustments for other provisions | C13: ='[1]Nakit Akım Tablosu'!C13 -> 8041 | D13: ='[1]Nakit Akım Tablosu'!D13 -> 14267
A14: Adjustments for dividend income | B14: 29 | C14: ='[1]Nakit Akım Tablosu'!C14 -> -351 | D14: ='[1]Nakit Akım Tablosu'!D14 -> -422
A15: Adjustments for interest income | B15: 22 | C15: ='[1]Nakit Akım Tablosu'!C15 -> -74896 | D15: ='[1]Nakit Akım Tablosu'!D15 -> -22587
A16: Adjustments for interest expense | B16: 23 | C16: ='[1]Nakit Akım Tablosu'!C16 -> 42394 | D16: ='[1]Nakit Akım Tablosu'!D16 -> 40739
A17: Adjustments for tax expenses | B17: 24 | C17: ='[1]Nakit Akım Tablosu'!C17 -> -8822 | D17: ='[1]Nakit Akım Tablosu'!D17 -> 14863
A18: Adjustments for unearned financing income | B18: 21 | C18: ='[1]Nakit Akım Tablosu'!C18 -> -139378 | D18: ='[1]Nakit Akım Tablosu'!D18 -> -92716
A19: Adjustments for deferred financing expense | B19: 21 | C19: ='[1]Nakit Akım Tablosu'!C19 -> 177790 | D19: ='[1]Nakit Akım Tablosu'!D19 -> 118062
A20: Adjustments for gain/ (loss) on sales of property, plant and equipment | B20: 29 | C20: ='[1]Nakit Akım Tablosu'!C20 -> 3395 | D20: ='[1]Nakit Akım Tablosu'!D20 -> 6263
A21: Other adjustments for which cash effects are investing or financing cash flow | C21: ='[1]Nakit Akım Tablosu'!C21 -> 379690 | D21: ='[1]Nakit Akım Tablosu'!D21 -> 194898
A23: Changes in working capital | C23: =+SUM(C25:C30) -> -332578 | D23: =+SUM(D25:D30) -> -102135
A25: (Increase) / decrease in trade receivable | C25: ='[1]Nakit Akım Tablosu'!C25 -> -1213698 | D25: ='[1]Nakit Akım Tablosu'!D25 -> -374652
A26: (Increase) / decrease in inventories | C26: ='[1]Nakit Akım Tablosu'!C26 -> -129440 | D26: ='[1]Nakit Akım Tablosu'!D26 -> -77448
A27: (Increase) / decrease in prepaid expenses | C27: ='[1]Nakit Akım Tablosu'!C27 -> -42968 | D27: ='[1]Nakit Akım Tablosu'!D27 -> -23885
A28: Increase/ (decrease) in trade payable | C28: ='[1]Nakit Akım Tablosu'!C28 -> 1211171 | D28: ='[1]Nakit Akım Tablosu'!D28 -> 302813
A29: (Increase) / decrease in other assets | C29: ='[1]Nakit Akım Tablosu'!C29 -> -195396 | D29: ='[1]Nakit Akım Tablosu'!D29 -> 16439
A30: Increase/ (decrease) in other payables | C30: ='[1]Nakit Akım Tablosu'!C30 -> 37753 | D30: ='[1]Nakit Akım Tablosu'!D30 -> 54598
A32: Cash flows generated from/ (used in) operations | C32: =+C6+C7+C23 -> 2333775 | D32: =+D6+D7+D23 -> 1783411
A34: Interest paid | C34: ='[1]Nakit Akım Tablosu'!C34 -> -164923 | D34: ='[1]Nakit Akım Tablosu'!D34 -> -118674
A35: Interest received | C35: ='[1]Nakit Akım Tablosu'!C35 -> 127813 | D35: ='[1]Nakit Akım Tablosu'!D35 -> 93596
A36: Payments related with provisions for employee benefits | B36: 15 | C36: ='[1]Nakit Akım Tablosu'!C36 -> -10442 | D36: ='[1]Nakit Akım Tablosu'!D36 -> -14522
A37: Payments related with other provisions | C37: ='[1]Nakit Akım Tablosu'!C37 -> -116290 | D37: ='[1]Nakit Akım Tablosu'!D37 -> -110259
A38: Taxes paid | C38: ='[1]Nakit Akım Tablosu'!C38 -> -11364 | D38: ='[1]Nakit Akım Tablosu'!D38 -> -21147
A40: Cash flows used in investing activities | C40: =+SUM(C42:C46) -> -938317 | D40: =+SUM(D42:D46) -> -585715
A42: Proceeds from sales of property, plant and equipment | C42: ='[1]Nakit Akım Tablosu'!C42 -> 571 | D42: ='[1]Nakit Akım Tablosu'!D42 -> 10425
A43: Purchase of property, plant and equipment | C43: ='[1]Nakit Akım Tablosu'!C43 -> -590897 | D43: ='[1]Nakit Akım Tablosu'!D43 -> -419075
A44: Purchase of intangible assets | C44: ='[1]Nakit Akım Tablosu'!C44 -> -215383 | D44: ='[1]Nakit Akım Tablosu'!D44 -> -90710
A45: Cash advances given | C45: ='[1]Nakit Akım Tablosu'!C45 -> -132959 | D45: ='[1]Nakit Akım Tablosu'!D45 -> -86777
A46: Dividends received | C46: ='[1]Nakit Akım Tablosu'!C46 -> 351 | D46: ='[1]Nakit Akım Tablosu'!D46 -> 422
A48: Cash flows used by financing activities | C48: =+SUM(C50:C54) -> -605875 | D48: =+SUM(D50:D54) -> -818294
A50: Proceeds from borrowings | C50: ='[1]Nakit Akım Tablosu'!C50 -> 2304890 | D50: ='[1]Nakit Akım Tablosu'!D50 -> 1780922
...

Sheet Sheet1
