Workbook
Name OLE_LINK1: 'Özkaynak Değişim Tablosu'!#REF!
Name OLE_LINK154: 'Nakit Akım Tablosu'!$G$57
Name OLE_LINK3: 'Nakit Akım Tablosu'!$G$5
Name OLE_LINK41: Kaynaklar!$D$26
Name OLE_LINK43: Varlıklar!#REF!
Name OLE_LINK64: Kaynaklar!#REF!

Sheet Varlıklar
A1: Ford Otomotiv Sanayi A.Ş. 31 Aralık 2017 ve 31 Aralık 2016 tarihleri itibarıyla finansal durum tabloları
C2: Cari dönem bağımsız denetimden geçmiş | D2: Geçmiş dönem bağımsız denetimden geçmiş
A3: Türk Lirası (bin TL) | B3: Notlar | C3: 43100 | D3: 42735
A4: Varlıklar | E4: Check | F4: Check
A5: Dönen varlıklar | C5: =SUM(C7:C17) -> 6827040 | D5: =SUM(D7:D17) -> 4675977 | E5: =+C5-[1]Assets!C5 -> 0 | F5: =+D5-[1]Assets!D5 -> 0
A7: Nakit ve nakit benzerleri | B7: 4 | C7: 1805945 | D7: 1189033
A8: Ticari alacaklar
A9: - İlişkili taraflardan ticari alacaklar | B9: 26 | C9: 2057267 | D9: 1362949
A10: - İlişkili olmayan taraflardan ticari alacaklar | B10: 7 | C10: 1299746 | D10: 794771
A11: Diğer alacaklar
A12: - İlişkili olmayan taraflardan diğer alacaklar | B12: 8 | C12: 521 | D12: 504
A13: Stoklar | B13: 9 | C13: 1152490 | D13: 1054426
A14: Peşin ödenmiş giderler | B14: 12 | C14: 101979 | D14: 59011
A15: Diğer dönen varlıklar | B15: 16 | C15: 404561 | D15: 213526
A16: Cari dönem vergisi ile ilgili varlıklar | B16: 24 | C16: - | D16: 1757
A17: Türev finansal varlıklar | B17: 28 | C17: 4531 | D17: -
E18: Check | F18: Check
A19: Duran varlıklar | C19: =SUM(C21:C27) -> 5184700 | D19: =SUM(D21:D27) -> 4610175 | E19: =+C19-[1]Assets!C19 -> 0 | F19: =+D19-[1]Assets!D19 -> 0
A21: Finansal yatırımlar | B21: 5 | C21: 17406 | D21: 18756
A22: Ticari alacaklar
A23: - İlişkili olmayan taraflardan ticari alacaklar | B23: 7 | C23: 3002 | D23: 1464
A24: Maddi duran varlıklar | B24: 10 | C24: 3536220 | D24: 3302745
A25: Maddi olmayan duran varlıklar | B25: 11 | C25: 690337 | D25: 552563
A26: Peşin ödenmiş giderler | B26: 12 | C26: 311292 | D26: 178333
A27: Ertelenmiş vergi varlığı | B27: 24 | C27: 626443 | D27: 556314
E28: Check | F28: Check
A29: Toplam varlıklar | C29: =+C5+C19 -> 12011740 | D29: =+D5+D19 -> 9286152 | E29: =+C29-[1]Assets!C29 -> 0 | F29: =+D29-[1]Assets!D29 -> 0

Sheet Kaynaklar
A1: =+Varlıklar!A1 -> Ford Otomotiv Sanayi A.Ş. 31 Aralık 2017 ve 31 Aralık 2016 tarihleri itibarıyla finansal durum tabloları
C2: =+Varlıklar!C2 -> Cari dönem bağımsız denetimden geçmiş | D2: =+Varlıklar!D2 -> Geçmiş dönem bağımsız denetimden geçmiş
A3: Türk Lirası (bin TL) | B3: Notlar | C3: =+Varlıklar!C3 -> 43100 | D3: =+Varlıklar!D3 -> 42735
A4: Kaynaklar | E4: Check | F4: Check
A5: Kısa vadeli yükümlülükler | C5: =SUM(C8:C21) -> 6049677 | D5: =SUM(D8:D21) -> 4307860 | E5: =+C5-[1]Liabilities!C5 -> 0 | F5: =+D5-[1]Liabilities!D5 -> 0
A7: Kısa vadeli borçlanmalar
A8: - Banka kredileri | B8: 6 | C8: 1061621 | D8: 771572
A9: Uzun vadeli borçlanmaların kısa vadeli kısımları
A10: - Banka kredileri | B10: 6 | C10: 722259 | D10: 576703
A11: Ticari borçlar
A12: - İlişkili taraflara ticari borçlar | B12: 26 | C12: 895559 | D12: 794183
A13: - İlişkili olmayan taraflara ticari borçlar | B13: 7 | C13: 2921390 | D13: 1823160
A14: Diğer borçlar
A15: - İlişkili taraflara diğer borçlar | B15: 26 | C15: 31438 | D15: 18763
A16: - İlişkili olmayan taraflara diğer borçlar | B16: 8 | C16: 56385 | D16: 76129
A17: Ertelenmiş gelirler | B17: 30 | C17: 10929 | D17: 8811
A18: Kısa vadeli karşılıklar
A19: - Diğer kısa vadeli karşılıklar | B19: 13 | C19: 159614 | D19: 136240
A20: Çalışanlara sağlanan faydalar kapsamında borçlar | B20: 15 | C20: 184092 | D20: 102299
A21: Cari dönem vergisi ile ilgili yükümlülükler | B21: 24 | C21: 6390 | D21: -
E22: Check | F22: Check
A23: Uzun vadeli yükümlülükler | C23: =SUM(C26:C32) -> 2266204 | D23: =SUM(D26:D32) -> 1814673 | E23: =+C23-[1]Liabilities!C23 -> 0 | F23: =+D23-[1]Liabilities!D23 -> 0
A25: Uzun vadeli borçlanmalar
A26: - Banka kredileri | B26: 6 | C26: 1820167 | D26: 1503855
A27: Uzun vadeli karşılıklar
A28: - Çalışanlara sağlanan faydalara ilişkin uzun vadeli karşılıklar | B28: 15 | C28: 153484 | D28: 130326
A29: - Diğer uzun vadeli karşılıklar | B29: 13 | C29: 169285 | D29: 100115
A30: Ertelenmiş gelirler | B30: 30 | C30: 7450 | D30: 4757
A31: Diğer uzun vadeli yükümlülükler | B31: 31 | C31: 115631 | D31: 75620
A32: Türev finansal yükümlülükler | B32: 28 | C32: 187 | D32: -
E33: Check | F33: Check
A34: Özkaynaklar | B34: 17 | C34: =SUM(C36:C46) -> 3695859 | D34: =SUM(D36:D46) -> 3163619 | E34: =+C34-[1]Liabilities!C34 -> 0 | F34: =+D34-[1]Liabilities!D34 -> 0
A36: Ödenmiş sermaye | C36: 350910 | D36: 350910
A37: Sermaye düzeltme farkları | C37: 27920 | D37: 27920
A38: Paylara ilişkin primler | C38: 8 | D38: 8
A39: Kar veya zararda yeniden sınıflandırılmayacak birikmiş diğer kapsamlı gelirler / (giderler)
A40: - Tanımlanmış fayda planları yeniden ölçüm (kayıpları) | C40: -14001 | D40: -14019
A41: Kar veya zararda yeniden sınıflandırılacak birikmiş diğer kapsamlı gelirler / (giderler)
A42: - Satılmaya hazır finansal varlıkların yeniden değerleme ve / veya sınıflandırma kazançları | C42: 15608 | D42: 16890
A43: - Nakit akış riskinden korunma (kayıpları) | C43: -503120 | D43: -336189
...

Sheet Gelir Tablosu
A1: Ford Otomotiv Sanayi A.Ş. 31 Aralık 2017 ve 2016 tarihlerinde sona eren yıllara ait kar veya zarar tabloları
C2: =+Kaynaklar!C2 -> Cari dönem bağımsız denetimden geçmiş | D2: =+Kaynaklar!D2 -> Geçmiş dönem bağımsız denetimden geçmiş
A3: Türk Lirası (bin TL) | B3: Notlar | C3: 1 Ocak- 31 Aralık 2017 | D3: 1 Ocak- 31 Aralık 2016
A5: Sürdürülen faaliyetler
A6: Hasılat | B6: 18 | C6: 25341290 | D6: 18289107
A7: Satışların maliyeti | B7: 18 | C7: -22704095 | D7: -16203045
G8: Check | H8: Check
A9: Brüt kar | C9: =+SUM(C6:C7) -> 2637195 | D9: =+SUM(D6:D7) -> 2086062 | G9: =+C9-'[1]Profit or Loss'!C9 -> 0 | H9: =+D9-'[1]Profit or Loss'!D9 -> 0
A11: Pazarlama giderleri | B11: 19 | C11: -544303 | D11: -448266
A12: Genel yönetim giderleri | B12: 19 | C12: -249480 | D12: -225038
A13: Araştırma ve geliştirme giderleri | B13: 19 | C13: -317192 | D13: -383844
A14: Esas faaliyetlerden diğer gelirler | B14: 21 | C14: 460462 | D14: 281426
A15: Esas faaliyetlerden diğer giderler | B15: 21 | C15: -278508 | D15: -199316
G16: Check | H16: Check
A17: Esas faaliyet karı | C17: =+SUM(C9:C15) -> 1708174 | D17: =+SUM(D9:D15) -> 1111024 | G17: =+C17-'[1]Profit or Loss'!C17 -> 0 | H17: =+D17-'[1]Profit or Loss'!D17 -> 0
A19: Yatırım faaliyetlerinden gelirler | B19: 29 | C19: 363 | D19: 422
A20: Yatırım faaliyetlerinden giderler | B20: 29 | C20: -3407 | D20: -6263
G21: Check | H21: Check
A22: Finansman geliri / (gideri) öncesi faaliyet karı | C22: =+SUM(C17:C20) -> 1705130 | D22: =+SUM(D17:D20) -> 1105183 | G22: =+C22-'[1]Profit or Loss'!C22 -> 0 | H22: =+D22-'[1]Profit or Loss'!D22 -> 0
A24: Finansman gelirleri | B24: 22 | C24: 562262 | D24: 310182
A25: Finansman giderleri | B25: 23 | C25: -786231 | D25: -445194
G26: Check | H26: Check
A27: Sürdürülen faaliyetler vergi öncesi karı | C27: =+SUM(C22:C25) -> 1481161 | D27: =+SUM(D22:D25) -> 970171 | G27: =+C27-'[1]Profit or Loss'!C27 -> 0 | H27: =+D27-'[1]Profit or Loss'!D27 -> 0
A29: Sürdürülen faaliyetler vergi geliri / (gideri) | C29: =+SUM(C30:C31) -> 8822 | D29: =+SUM(D30:D31) -> -14863
A30: - Dönem vergi gideri | B30: 24 | C30: -19511 | D30: -20414
A31: - Ertelenmiş vergi geliri | B31: 24 | C31: 28333 | D31: 5551
G32: Check | H32: Check
A33: Dönem karı | C33: =+C27+C30+C31 -> 1489983 | D33: =+D27+D30+D31 -> 955308 | G33: =+C33-'[1]Profit or Loss'!C33 -> 0 | H33: =+D33-'[1]Profit or Loss'!D33 -> 0
A35: Nominal değeri 1 Kr olan pay başına kazanç | B35: 25 | C35: 4,25 Kr | D35: 2,72 Kr

Sheet Kapsamlı Gelir Tablosu
A1: Ford Otomotiv Sanayi A.Ş. 31 Aralık 2017 ve 2016 tarihlerinde sona eren yıllara ait diğer kapsamlı gelir tabloları
C2: =+'Gelir Tablosu'!C2 -> Cari dönem bağımsız denetimden geçmiş | D2: =+'Gelir Tablosu'!D2 -> Geçmiş dönem bağımsız denetimden geçmiş
A3: Türk Lirası (bin TL) | B3: Notlar | C3: =+'Gelir Tablosu'!C3 -> 1 Ocak- 31 Aralık 2017 | D3: =+'Gelir Tablosu'!D3 -> 1 Ocak- 31 Aralık 2016
G4: Check | H4: Check
A5: Dönem karı | C5: =+'Gelir Tablosu'!C33 -> 1489983 | D5: =+'Gelir Tablosu'!D33 -> 955308 | G5: =+C5-'[1]Comprehensive Income Statement'!C5 -> 0 | H5: =+D5-'[1]Comprehensive Income Statement'!D5 -> 0
A7: Diğer kapsamlı gelir / (gider)
A9: Kar veya zararda yeniden sınıflandırılmayacaklar
A10: Tanımlanmış fayda planları yeniden ölçüm (kayıpları) / kazançları | B10: 17 | C10: 23 | D10: -15458
A12: Kar veya zararda yeniden sınıflandırılmayacak diğer kapsamlı gelire ilişkin vergiler
A13: Tanımlanmış fayda planları yeniden ölçüm kazançları / (kayıpları), vergi etkisi | B13: 17 | C13: -5 | D13: 3091
A15: Kar veya zarar olarak yeniden sınıflandırılacaklar
A16: Satılmaya hazır finansal varlıkların yeniden değerleme ve/veya sınıflandırma kazançları / (kayıpları) | B16: 17 | C16: -1350 | D16: 6130
A17: Nakit akış riskinden korunmaya ilişkin diğer kapsamlı gelir / (gider) | B17: 17 | C17: -208664 | D17: -227226
A18: Kar veya zararda yeniden sınıflandırılacak diğer kapsamlı gelire ilişkin vergiler
A19: Satılmaya hazır finansal varlıkların yeniden değerleme ve/veya sınıflandırma kazançları / (kayıpları), vergi etkisi | B19: 17 | C19: 68 | D19: -306
A20: Nakit akış riskinden korunmaya ilişkin diğer kapsamlı gelir, vergi etkisi | B20: 17 | C20: 41733 | D20: 45445
G21: Check | H21: Check
A22: Diğer kapsamlı gelir / (gider) | C22: =+SUM(C10:C20) -> -168195 | D22: =+SUM(D10:D20) -> -188324 | G22: =+C22-'[1]Comprehensive Income Statement'!C22 -> 0 | H22: =+D22-'[1]Comprehensive Income Statement'!D22 -> 0
A24: Toplam kapsamlı gelir | C24: =+C5+C22 -> 1321788 | D24: =+D5+D22 -> 766984 | G24: =+C24-'[1]Comprehensive Income Statement'!C24 -> 0 | H24: =+D24-'[1]Comprehensive Income Statement'!D24 -> 0

Sheet Özkaynak Değişim Tablosu
A1: Ford Otomotiv Sanayi A.Ş. 1 Ocak - 31 Aralık 2017 ve 2016 hesap dönemlerine ait özkaynak değişim tabloları
E2: Kar veya zararda yeniden sınıflandırılacak birikmiş diğer kapsamlı gelirler veya giderler | H2: Kar veya zarara sınıflandırılmayacak birikmiş diğer kapsamlı gelirler veya giderler | J2: Birikmiş karlar
A3: Türk Lirası (bin TL) | B3: Ödenmiş sermaye | C3: Sermaye düzeltme farkları | D3: Paylara İlişkin Primler | E3: Satılmaya hazır finansal varlıkların yeniden değerleme ve/veya sınıflandırma kazançları / (kayıpları) | F3: Nakit akış riskinden korunma (kayıpları) / kazançları | H3: Tanımlanmış fayda planları yeniden ölçüm (kayıpları) / kazançları | I3: Kardan ayrılan kısıtlanmış yedekler | J3: Geçmiş yıllar karları | K3: Net dönem karı | L3: Toplam özkaynaklar | M3: Check
A4: 1 Ocak 2016 itibarıyla bakiyeler | B4: 350910 | C4: 27920 | D4: 8 | E4: 11066 | F4: -154408 | H4: -1652 | I4: 438411 | J4: 1545689 | K4: 841911 | L4: 3059855 | M4: =+L4-'[1]Changes In Equity'!L4 -> 0
A6: Dönem karı | B6: 0 | C6: 0 | D6: 0 | E6: - | F6: - | H6: 0 | I6: 0 | J6: 0 | K6: 955308 | L6: =+SUM(B6:K6) -> 955308 | M6: =+L6-'[1]Changes In Equity'!L6 -> 0
A7: Diğer kapsamlı gelir / (gider) | B7: 0 | C7: 0 | D7: 0 | E7: 5824 | F7: -181781 | H7: -12367 | I7: 0 | J7: 0 | K7: 0 | L7: =+SUM(B7:K7) -> -188324 | M7: =+L7-'[1]Changes In Equity'!L7 -> 0
A8: Toplam kapsamlı gelir | B8: =+SUM(B6:B7) -> 0 | C8: =+SUM(C6:C7) -> 0 | D8: =+SUM(D6:D7) -> 0 | E8: =+SUM(E6:E7) -> 5824 | F8: =+SUM(F6:F7) -> -181781 | G8: =+SUM(G6:G7) -> 0 | H8: =+SUM(H6:H7) -> -12367 | I8: =+SUM(I6:I7) -> 0 | ... K8: =+SUM(K6:K7) -> 955308 | L8: =+SUM(B8:K8) -> 766984 | M8: =+L8-'[1]Changes In Equity'!L8 -> 0
A9: Transferler | B9: 0 | C9: 0 | D9: 0 | E9: 0 | F9: 0 | H9: 0 | I9: 64567 | J9: 777344 | K9: -841911 | L9: 0 | M9: =+L9-'[1]Changes In Equity'!L9 -> 0
A10: Kar payları (Not 17) | B10: 0 | C10: 0 | D10: 0 | E10: 0 | F10: 0 | H10: 0 | I10: -218771 | J10: -444449 | K10: 0 | L10: =+SUM(B10:K10) -> -663220 | M10: =+L10-'[1]Changes In Equity'!L10 -> 0
A11: 31 Aralık 2016 itibarıyla bakiyeler | B11: =+B4+B8+B9+B10 -> 350910 | C11: =+C4+C8+C9+C10 -> 27920 | D11: =+D4+D8+D9+D10 -> 8 | E11: =+E4+E8+E9+E10 -> 16890 | F11: =+F4+F8+F9+F10 -> -336189 | H11: =+H4+H8+H9+H10 -> -14019 | I11: =+I4+I8+I9+I10 -> 284207 | J11: =+J4+J8+J9+J10 -> 1878584 | K11: =+K4+K8+K9+K10 -> 955308 | L11: =+L4+L8+L9+L10 -> 3163619 | M11: =+L11-'[1]Changes In Equity'!L11 -> 0
A13: 1 Ocak 2017 itibarıyla bakiyeler | B13: =+B11 -> 350910 | C13: =+C11 -> 27920 | D13: =+D11 -> 8 | E13: =+E11 -> 16890 | F13: =+F11 -> -336189 | G13: =+G11 -> 0 | H13: =+H11 -> -14019 | I13: =+I11 -> 284207 | ... K13: =+K11 -> 955308 | L13: =+SUM(B13:K13) -> 3163619 | M13: =+L13-'[1]Changes In Equity'!L13 -> 0
A15: Dönem karı | B15: 0 | C15: 0 | D15: 0 | E15: - | F15: - | H15: - | I15: - | J15: - | K15: 1489983 | L15: =+SUM(B15:K15) -> 1489983 | M15: =+L15-'[1]Changes In Equity'!L15 -> 0
A16: Diğer kapsamlı gelir / (gider) | B16: 0 | C16: 0 | D16: 0 | E16: -1282 | F16: -166931 | H16: 18 | I16: - | J16: - | K16: - | L16: =+SUM(B16:K16) -> -168195 | M16: =+L16-'[1]Changes In Equity'!L16 -> 0
A17: Toplam kapsamlı gelir | B17: =+SUM(B15:B16) -> 0 | C17: =+SUM(C15:C16) -> 0 | D17: =+SUM(D15:D16) -> 0 | E17: =+SUM(E15:E16) -> -1282 | F17: =+SUM(F15:F16) -> -166931 | G17: =+SUM(G15:G16) -> 0 | H17: =+SUM(H15:H16) -> 18 | I17: =+SUM(I15:I16) -> 0 | ... K17: =+SUM(K15:K16) -> 1489983 | L17: =+SUM(B17:K17) -> 1321788 | M17: =+L17-'[1]Changes In Equity'!L17 -> 0
A18: Transferler | B18: 0 | C18: 0 | D18: 0 | E18: 0 | F18: 0 | H18: 0 | I18: 77200 | J18: 878108 | K18: -955308 | L18: 0 | M18: =+L18-'[1]Changes In Equity'!L18 -> 0
A19: Kar payları (Not 17) | B19: 0 | C19: 0 | D19: 0 | E19: 0 | F19: 0 | H19: 0 | I19: -107003 | J19: -682545 | K19: 0 | L19: =+SUM(B19:K19) -> -789548 | M19: =+L19-'[1]Changes In Equity'!L19 -> 0
A20: 31 Aralık 2017 itibarıyla bakiyeler | B20: =+B13+B17+B18+B19 -> 350910 | C20: =+C13+C17+C18+C19 -> 27920 | D20: =+D13+D17+D18+D19 -> 8 | E20: =+E13+E17+E18+E19 -> 15608 | F20: =+F13+F17+F18+F19 -> -503120 | H20: =+H13+H17+H18+H19 -> -14001 | I20: =+I13+I17+I18+I19 -> 254404 | J20: =+J13+J17+J18+J19 -> 2074147 | K20: =+K13+K17+K18+K19 -> 1489983 | L20: =+SUM(B20:K20) -> 3695859 | M20: =+L20-'[1]Changes In Equity'!L20 -> 0

Sheet Nakit Akım Tablosu
A1: Ford Otomotiv Sanayi A.Ş. 1 Ocak - 31 Aralık 2017 ve 2016 hesap dönemlerine ait nakit akış tabloları
A2: Türk Lirası (bin TL) | B2: Notlar | C2: Cari dönem bağımsız denetimden geçmiş 31 Aralık 2017 | D2: Geçmiş dönem bağımsız denetimden geçmiş 31 Aralık 2016
E4: Check | F4: Check
A5: İşletme Faaliyetlerinden Nakit Akışları | C5: =+SUM(C32:C38) -> 2158569 | D5: =+SUM(D32:D38) -> 1612405 | E5: =+C5-'[1]Statement of Cash Flow'!C5 -> 0 | F5: =+D5-'[1]Statement of Cash Flow'!D5 -> 0
A6: Dönem karı | C6: =+'Özkaynak Değişim Tablosu'!K20 -> 1489983 | D6: =+'Özkaynak Değişim Tablosu'!K11 -> 955308 | E6: =+C6-'[1]Statement of Cash Flow'!C6 -> 0 | F6: =+D6-'[1]Statement of Cash Flow'!D6 -> 0
A7: Dönem Net Karı Mutabakatı İle İlgili Düzeltmeler | C7: =+SUM(C8:C21) -> 1176370 | D7: =+SUM(D8:D21) -> 930238 | E7: =+C7-'[1]Statement of Cash Flow'!C7 -> 0 | F7: =+D7-'[1]Statement of Cash Flow'!D7 -> 0
A8: Amortisman ve itfa gideri ile ilgili düzeltmeler | B8: 10.11 | C8: 473624 | D8: 456387 | E8: =+C8-'[1]Statement of Cash Flow'!C8 -> 0 | F8: =+D8-'[1]Statement of Cash Flow'!D8 -> 0
A9: Stok değer düşüklüğü ile ilgili düzeltmeler | B9: 9 | C9: -1326 | D9: 903 | E9: =+C9-'[1]Statement of Cash Flow'!C9 -> 0 | F9: =+D9-'[1]Statement of Cash Flow'!D9 -> 0
A10: Çalışanlara sağlanan faydalara ilişkin karşılıklar ile ilgili düzeltmeler | C10: 115416 | D10: 36650 | E10: =+C10-'[1]Statement of Cash Flow'!C10 -> 0 | F10: =+D10-'[1]Statement of Cash Flow'!D10 -> 0
A11: Dava ve / veya ceza karşılıkları ile ilgili düzeltmeler | B11: 13 | C11: 12706 | D11: 7372 | E11: =+C11-'[1]Statement of Cash Flow'!C11 -> 0 | F11: =+D11-'[1]Statement of Cash Flow'!D11 -> 0
A12: Garanti karşılıkları ile ilgili düzeltmeler | B12: 13 | C12: 188087 | D12: 155559 | E12: =+C12-'[1]Statement of Cash Flow'!C12 -> 0 | F12: =+D12-'[1]Statement of Cash Flow'!D12 -> 0
A13: Diğer karşılıklar ile ilgili düzeltmeler | C13: 8041 | D13: 14267 | E13: =+C13-'[1]Statement of Cash Flow'!C13 -> 0 | F13: =+D13-'[1]Statement of Cash Flow'!D13 -> 0
A14: Kar payı geliri ile ilgili düzeltmeler | B14: 29 | C14: -351 | D14: -422 | E14: =+C14-'[1]Statement of Cash Flow'!C14 -> 0 | F14: =+D14-'[1]Statement of Cash Flow'!D14 -> 0
A15: Faiz gelirleri ile ilgili düzeltmeler | B15: 22 | C15: -74896 | D15: -22587 | E15: =+C15-'[1]Statement of Cash Flow'!C15 -> 0 | F15: =+D15-'[1]Statement of Cash Flow'!D15 -> 0
A16: Faiz giderleri ile ilgili düzeltmeler | B16: 23 | C16: 42394 | D16: 40739 | E16: =+C16-'[1]Statement of Cash Flow'!C16 -> 0 | F16: =+D16-'[1]Statement of Cash Flow'!D16 -> 0
A17: Vergi gideri ile ilgili düzeltmeler | B17: 24 | C17: -8822 | D17: 14863 | E17: =+C17-'[1]Statement of Cash Flow'!C17 -> 0 | F17: =+D17-'[1]Statement of Cash Flow'!D17 -> 0
A18: Vadeli satışlardan kaynaklanan kazanılmamış finansman geliri | B18: 21 | C18: -139378 | D18: -92716 | E18: =+C18-'[1]Statement of Cash Flow'!C18 -> 0 | F18: =+D18-'[1]Statement of Cash Flow'!D18 -> 0
A19: Vadeli alımlardan kaynaklanan ertelenmiş finansman gideri | B19: 21 | C19: 177790 | D19: 118062 | E19: =+C19-'[1]Statement of Cash Flow'!C19 -> 0 | F19: =+D19-'[1]Statement of Cash Flow'!D19 -> 0
A20: Duran varlıkların elden çıkarılmasından kaynaklanan kayıplar ile ilgili düzeltmeler | B20: 29 | C20: 3395 | D20: 6263 | E20: =+C20-'[1]Statement of Cash Flow'!C20 -> 0 | F20: =+D20-'[1]Statement of Cash Flow'!D20 -> 0
A21: Yatırım ya da finansman faaliyetlerinden kaynaklanan nakit akışlarına neden olan diğer kalemlere ilişkin düzeltmeler | C21: 379690 | D21: 194898 | E21: =+C21-'[1]Statement of Cash Flow'!C21 -> 0 | F21: =+D21-'[1]Statement of Cash Flow'!D21 -> 0
E22: =+C22-'[1]Statement of Cash Flow'!C22 -> 0 | F22: =+D22-'[1]Statement of Cash Flow'!D22 -> 0
A23: İşletme Sermayesinde Gerçekleşen Değişimler | C23: =+SUM(C25:C30) -> -332578 | D23: =+SUM(D25:D30) -> -102135 | E23: =+C23-'[1]Statement of Cash Flow'!C23 -> 0 | F23: =+D23-'[1]Statement of Cash Flow'!D23 -> 0
E24: =+C24-'[1]Statement of Cash Flow'!C24 -> 0 | F24: =+D24-'[1]Statement of Cash Flow'!D24 -> 0
A25: Ticari alacaklardaki azalış / (artış) ile ilgili düzeltmeler | C25: -1213698 | D25: -374652 | E25: =+C25-'[1]Statement of Cash Flow'!C25 -> 0 | F25: =+D25-'[1]Statement of Cash Flow'!D25 -> 0
A26: Stoklardaki (artışlar) / azalışlar ile ilgili düzeltmeler | C26: -129440 | D26: -77448 | E26: =+C26-'[1]Statement of Cash Flow'!C26 -> 0 | F26: =+D26-'[1]Statement of Cash Flow'!D26 -> 0
A27: Peşin ödenmiş giderlerdeki (artış) / azalış | C27: -42968 | D27: -23885 | E27: =+C27-'[1]Statement of Cash Flow'!C27 -> 0 | F27: =+D27-'[1]Statement of Cash Flow'!D27 -> 0
A28: Ticari borçlardaki artış / (azalış) ile ilgili düzeltmeler | C28: 1211171 | D28: 302813 | E28: =+C28-'[1]Statement of Cash Flow'!C28 -> 0 | F28: =+D28-'[1]Statement of Cash Flow'!D28 -> 0
A29: Faaliyetlerle ilgili diğer varlıklardaki (artış) / azalış | C29: -195396 | D29: 16439 | E29: =+C29-'[1]Statement of Cash Flow'!C29 -> 0 | F29: =+D29-'[1]Statement of Cash Flow'!D29 -> 0
A30: Faaliyetlerle ilgili diğer yükümlülüklerdeki artış / (azalış) | C30: 37753 | D30: 54598 | E30: =+C30-'[1]Statement of Cash Flow'!C30 -> 0 | F30: =+D30-'[1]Statement of Cash Flow'!D30 -> 0
E31: =+C31-'[1]Statement of Cash Flow'!C31 -> 0 | F31: =+D31-'[1]Statement of Cash Flow'!D31 -> 0
A32: Faaliyetlerden Elde Edilen Nakit Akışları | C32: =+C6+C7+C23 -> 2333775 | D32: =+D6+D7+D23 -> 1783411 | E32: =+C32-'[1]Statement of Cash Flow'!C32 -> 0 | F32: =+D32-'[1]Statement of Cash Flow'!D32 -> 0
E33: =+C33-'[1]Statement of Cash Flow'!C33 -> 0 | F33: =+D33-'[1]Statement of Cash Flow'!D33 -> 0
A34: Ödenen faiz | C34: -164923 | D34: -118674 | E34: =+C34-'[1]Statement of Cash Flow'!C34 -> 0 | F34: =+D34-'[1]Statement of Cash Flow'!D34 -> 0
A35: Alınan faiz | C35: 127813 | D35: 93596 | E35: =+C35-'[1]Statement of Cash Flow'!C35 -> 0 | F35: =+D35-'[1]Statement of Cash Flow'!D35 -> 0
A36: Çalışanlara sağlanan faydalara ilişkin karşılıklar kapsamında yapılan ödemeler | B36: 15 | C36: -10442 | D36: -14522 | E36: =+C36-'[1]Statement of Cash Flow'!C36 -> 0 | F36: =+D36-'[1]Statement of Cash Flow'!D36 -> 0
A37: Diğer karşılıklara ilişkin ödemeler | C37: -116290 | D37: -110259 | E37: =+C37-'[1]Statement of Cash Flow'!C37 -> 0 | F37: =+D37-'[1]Statement of Cash Flow'!D37 -> 0
A38: Vergi ödemeleri | C38: -11364 | D38: -21147 | E38: =+C38-'[1]Statement of Cash Flow'!C38 -> 0 | F38: =+D38-'[1]Statement of Cash Flow'!D38 -> 0
E39: =+C39-'[1]Statement of Cash Flow'!C39 -> 0 | F39: =+D39-'[1]Statement of Cash Flow'!D39 -> 0
A40: Yatırım Faaliyetlerinden Kaynaklanan Nakit Akışları | C40: =+SUM(C42:C46) -> -938317 | D40: =+SUM(D42:D46) -> -585715 | E40: =+C40-'[1]Statement of Cash Flow'!C40 -> 0 | F40: =+D40-'[1]Statement of Cash Flow'!D40 -> 0
E41: =+C41-'[1]Statement of Cash Flow'!C41 -> 0 | F41: =+D41-'[1]Statement of Cash Flow'!D41 -> 0
...
