Workbook
Name OLE_LINK1: 'Changes In Equity'!#REF!
Name OLE_LINK41: Liabilities!#REF!
Name OLE_LINK49: Liabilities!#REF!
Name OLE_LINK50: Liabilities!#REF!
Name OLE_LINK52: Liabilities!#REF!
Name OLE_LINK54: Liabilities!$A$41
Name OLE_LINK55: Liabilities!$A$42
Name OLE_LINK58: Liabilities!#REF!
Name OLE_LINK61: Liabilities!$A$36
Name OLE_LINK62: Liabilities!$A$51
Name OLE_LINK64: Liabilities!#REF!

Sheet Assets
A1: Ford Otomotiv Sanayi A.Ş. Statement of financial position as at 30 June 2021 and 31 December 2020
C2: Current period Limited Reviewed | D2: Prior period Audited
A3: Turkish Lira (thousand TL) | B3: Notes | C3: 30 June 2021 | D3: 31 December 2020
A4: Assets
A5: Current assets | C5: =SUM(C7:C18) -> 16178935 | D5: =SUM(D7:D18) -> 17604522
A7: Cash and cash equivalents | B7: =+[1]Varlıklar!B7 -> 4 | C7: =+[1]Varlıklar!C7 -> 5033590 | D7: =+[1]Varlıklar!D7 -> 8124073
A8: Trade receivables
A9: - Due from related parties | B9: =+[1]Varlıklar!B9 -> 26 | C9: =+[1]Varlıklar!C9 -> 4130583 | D9: =+[1]Varlıklar!D9 -> 3207939
A10: - Due from third parties | B10: =+[1]Varlıklar!B10 -> 7 | C10: =+[1]Varlıklar!C10 -> 1487380 | D10: =+[1]Varlıklar!D10 -> 2546243
A11: Other receivables
A12: - Due from third parties | B12: =+[1]Varlıklar!B12 -> 8 | C12: =+[1]Varlıklar!C12 -> 6477 | D12: =+[1]Varlıklar!D12 -> 1457
A13: Inventories | B13: =+[1]Varlıklar!B13 -> 9 | C13: =+[1]Varlıklar!C13 -> 4623782 | D13: =+[1]Varlıklar!D13 -> 2449043
A14: Prepaid expenses | B14: =+[1]Varlıklar!B14 -> 12 | C14: =+[1]Varlıklar!C14 -> 396075 | D14: =+[1]Varlıklar!D14 -> 221872
A15: Other current assets | B15: =+[1]Varlıklar!B15 -> 16 | C15: =+[1]Varlıklar!C15 -> 498173 | D15: =+[1]Varlıklar!D15 -> 1053895
A16: Current tax assets | B16: =+[2]Varlıklar!B16 -> 24 | C16: =+[1]Varlıklar!C16 -> - | D16: =+[1]Varlıklar!D16 -> -
A17: Current tax assets | B17: =+[1]Varlıklar!B17 -> 24 | C17: =+[1]Varlıklar!C17 -> 2875 | D17: =+[1]Varlıklar!D17 -> -
A18: Derivative financial assets | B18: 28 | C18: =+[1]Varlıklar!C18 -> - | D18: =+[1]Varlıklar!D18 -> -
A20: Non-current assets | C20: =SUM(C22:C31) -> 7476797 | D20: =SUM(D22:D31) -> 6744657
A22: Financial assets | B22: =+[1]Varlıklar!B22 -> 5 | C22: =+[1]Varlıklar!C22 -> 39087 | D22: =+[1]Varlıklar!D22 -> 44767
A23: Trade receivables
A24: - Due from third parties | B24: =+[1]Varlıklar!B24 -> 7 | C24: =+[1]Varlıklar!C24 -> 4521 | D24: =+[1]Varlıklar!D24 -> 3950
A25: Property, plant and equipment | B25: =+[1]Varlıklar!B25 -> 10 | C25: =+[1]Varlıklar!C25 -> 4438241 | D25: =+[1]Varlıklar!D25 -> 4403373
A26: Intangible assets | B26: =+[1]Varlıklar!B26 -> 11 | C26: =+[1]Varlıklar!C26 -> 1047703 | D26: =+[1]Varlıklar!D26 -> 904839
A27: The right-of- use assets | B27: =+[1]Varlıklar!B27 -> 32 | C27: =+[1]Varlıklar!C27 -> 75002 | D27: =+[1]Varlıklar!D27 -> 68919
A28: Prepaid expenses | B28: =+[1]Varlıklar!B28 -> 12 | C28: =+[1]Varlıklar!C28 -> 688367 | D28: =+[1]Varlıklar!D28 -> 359729
A29: Deferred tax asset | B29: =+[1]Varlıklar!B29 -> 24 | C29: =+[1]Varlıklar!C29 -> 1176542 | D29: =+[1]Varlıklar!D29 -> 954246
A30: Investments accounted for by the equity method | B30: =+[2]Varlıklar!B30 -> 32 | C30: =+[1]Varlıklar!C30 -> 0 | D30: =+[1]Varlıklar!D30 -> 0
A31: Investments in associates and joint ventures | B31: =+[1]Varlıklar!B31 -> 34 | C31: =+[1]Varlıklar!C31 -> 7334 | D31: =+[1]Varlıklar!D31 -> 4834
A33: Total assets | C33: =+C5+C20 -> 23655732 | D33: =+D5+D20 -> 24349179

Sheet Liabilities
A1: =+Assets!A1 -> Ford Otomotiv Sanayi A.Ş. Statement of financial position as at 30 June 2021 and 31 December 2020
C2: =+Assets!C2 -> Current period Limited Reviewed | D2: =+Assets!D2 -> Prior period Audited
A3: Turkish Lira (thousand TL) | B3: Notes | C3: =+Assets!C3 -> 30 June 2021 | D3: =+Assets!D3 -> 31 December 2020
A4: Liabilities
A5: Current liabilities | C5: =SUM(C8:C23) -> 12002385 | D5: =SUM(D8:D23) -> 12480781
A7: Current borrowings
A8: - Bank borrowings | B8: =+[1]Kaynaklar!B8 -> 6 | C8: =+[1]Kaynaklar!C8 -> 2535715 | D8: =+[1]Kaynaklar!$D$8 -> 2240949
A9: Short- term portion of long-term borrowings
A10: - Bank borrowings | B10: =+[1]Kaynaklar!B10 -> 6 | C10: =+[1]Kaynaklar!C10 -> 2553783 | D10: =+[1]Kaynaklar!$D$10 -> 1660704
A11: - Lease liabilities | B11: =+[1]Kaynaklar!B11 -> 6 | C11: =+[1]Kaynaklar!C11 -> 40898 | D11: =+[1]Kaynaklar!$D$11 -> 31228
A12: Trade payables
A13: - Due to related parties | B13: =+[1]Kaynaklar!B13 -> 26 | C13: =+[1]Kaynaklar!C13 -> 2200336 | D13: =+[1]Kaynaklar!$D$13 -> 1178339
A14: - Due to third parties | B14: =+[1]Kaynaklar!B14 -> 7 | C14: =+[1]Kaynaklar!C14 -> 4038923 | D14: =+[1]Kaynaklar!$D$14 -> 6569454
A15: Other payables
A16: - Due to related parties | B16: =+[1]Kaynaklar!B16 -> 26 | C16: =+[1]Kaynaklar!C16 -> 5511 | D16: =+[1]Kaynaklar!$D$16 -> 34350
A17: - Due to third parties | B17: =+[1]Kaynaklar!B17 -> 8 | C17: =+[1]Kaynaklar!C17 -> 145214 | D17: =+[1]Kaynaklar!$D$17 -> 141846
A18: Deferred revenue | B18: =+[1]Kaynaklar!B18 -> 30 | C18: =+[1]Kaynaklar!C18 -> 55139 | D18: =+[1]Kaynaklar!$D$18 -> 43037
A19: Short-term provisions
A20: - Other provisions | B20: =+[1]Kaynaklar!B20 -> 13 | C20: =+[1]Kaynaklar!C20 -> 219655 | D20: =+[1]Kaynaklar!$D$20 -> 273245
A21: Employee benefit liabilities | B21: =+[1]Kaynaklar!B21 -> 15 | C21: =+[1]Kaynaklar!C21 -> 207211 | D21: =+[1]Kaynaklar!$D$21 -> 290077
A22: Current tax liabilities | B22: =+[1]Kaynaklar!B22 -> 24 | C22: =+[1]Kaynaklar!C22 -> - | D22: =+[1]Kaynaklar!$D$22 -> 17552
A23: Derivative financial liabilities | B23: =+[2]Kaynaklar!B23 -> 28 | C23: =+[1]Kaynaklar!C23 -> - | D23: =+[1]Kaynaklar!$D$23 -> -
A25: Non-current liabilities | C25: =SUM(C28:C35) -> 4677594 | D25: =SUM(D28:D35) -> 4824496
A27: Long Term Borrowings
A28: - Bank borrowings | B28: =+[1]Kaynaklar!B28 -> 6 | C28: =+[1]Kaynaklar!C28 -> 3831912 | D28: =+[1]Kaynaklar!OLE_LINK41 -> 4096515
A29: - Lease liabilities | B29: =+[1]Kaynaklar!B29 -> 6 | C29: =+[1]Kaynaklar!$C$29 -> 52784 | D29: =+[1]Kaynaklar!$D$29 -> 51478
A30: Long-term provisions
A31: - Provision for employment termination benefits | B31: =+[1]Kaynaklar!B31 -> 15 | C31: =+[1]Kaynaklar!C31 -> 426597 | D31: =+[1]Kaynaklar!$D$31 -> 361058
A32: - Other provisions | B32: =+[1]Kaynaklar!B32 -> 13 | C32: =+[1]Kaynaklar!C32 -> 312232 | D32: =+[1]Kaynaklar!$D$32 -> 273453
A33: Deferred revenue | B33: =+[1]Kaynaklar!B33 -> 30 | C33: =+[1]Kaynaklar!C33 -> 35173 | D33: =+[1]Kaynaklar!$D$33 -> 22040
A34: Other non-current liabilities | B34: =+[1]Kaynaklar!B34 -> 31 | C34: =+[1]Kaynaklar!C34 -> 17835 | D34: =+[1]Kaynaklar!$D$34 -> 18699
A35: Derivative financial liabilities | B35: =+[1]Kaynaklar!B35 -> 28 | C35: =+[1]Kaynaklar!$C$35 -> 1061 | D35: =+[1]Kaynaklar!$D$35 -> 1253
A37: Equity | B37: =+[1]Kaynaklar!B37 -> 17 | C37: =SUM(C39:C49) -> 6975753 | D37: =SUM(D39:D49) -> 7043902
A39: Paid-in capital | C39: =+[1]Kaynaklar!C39 -> 350910 | D39: =+[1]Kaynaklar!$D$39 -> 350910
A40: Inflation adjustments on capital | C40: =+[1]Kaynaklar!C40 -> 27920 | D40: =+[1]Kaynaklar!$D$40 -> 27920
A41: Share premium | C41: =+[1]Kaynaklar!C41 -> 8 | D41: =+[1]Kaynaklar!$D$41 -> 8
A42: Other comprehensive income/ (loss) not to be reclassified under profit or loss
A43: - Losses on remeasurements of defined benefit plans | C43: =+[1]Kaynaklar!C43 -> -31573 | D43: =+[1]Kaynaklar!$D$43 -> -18359
A44: -Gains from financial assets measured at fair value through other comprehensive income | C44: =+[1]Kaynaklar!C44 -> 36204 | D44: =+[1]Kaynaklar!$D$44 -> 41600
A45: Other comprehensive income / (loss) to be reclassified in profit or loss
...

Sheet Profit or Loss 
A1: Ford Otomotiv Sanayi A.Ş. Statement of profit or loss for the interim periods ended 30 June 2021 and 2020
C2: Limited Reviewed | D2: Not Reviewed | E2: =+C2 -> Limited Reviewed | F2: =+D2 -> Not Reviewed
A3: Turkish Lira (thousand TL) | B3: Notes | C3: 1 January- 30 June 2021 | D3: 1 April- 30 June 2021 | E3: 1 January- 30 June 2020 | F3: 1 April- 30 June 2020
A5: Continued operations
A6: Revenue | B6: ='[3]Gelir Tablosu'!B6 -> 18 | C6: =+'[1]Gelir Tablosu '!$C6 -> 26786744 | D6: =+'[1]Gelir Tablosu '!$D6 -> 10532602 | E6: =+'[1]Gelir Tablosu '!$E6 -> 15093915 | F6: =+'[1]Gelir Tablosu '!$F6 -> 5727306
A7: Cost of sales | B7: ='[3]Gelir Tablosu'!B7 -> 18 | C7: =+'[1]Gelir Tablosu '!$C7 -> -23201463 | D7: =+'[1]Gelir Tablosu '!$D7 -> -9015394 | E7: =+'[1]Gelir Tablosu '!$E7 -> -13343546 | F7: =+'[1]Gelir Tablosu '!$F7 -> -5048454
A9: Gross profit | C9: =+SUM(C6:C7) -> 3585281 | D9: =+SUM(D6:D7) -> 1517208 | E9: =+SUM(E6:E7) -> 1750369 | F9: =+SUM(F6:F7) -> 678852
A11: Marketing expenses | B11: ='[3]Gelir Tablosu'!B11 -> 19 | C11: =+'[1]Gelir Tablosu '!$C11 -> -441659 | D11: =+'[1]Gelir Tablosu '!$D11 -> -232435 | E11: =+'[1]Gelir Tablosu '!$E11 -> -275225 | F11: =+'[1]Gelir Tablosu '!$F11 -> -115843
A12: General administrative expenses | B12: ='[3]Gelir Tablosu'!B12 -> 19 | C12: =+'[1]Gelir Tablosu '!$C12 -> -309260 | D12: =+'[1]Gelir Tablosu '!$D12 -> -139213 | E12: =+'[1]Gelir Tablosu '!$E12 -> -188107 | F12: =+'[1]Gelir Tablosu '!$F12 -> -74375
A13: Research and development expenses | B13: ='[3]Gelir Tablosu'!B13 -> 19 | C13: =+'[1]Gelir Tablosu '!$C13 -> -274316 | D13: =+'[1]Gelir Tablosu '!$D13 -> -144797 | E13: =+'[1]Gelir Tablosu '!$E13 -> -204185 | F13: =+'[1]Gelir Tablosu '!$F13 -> -83056
A14: Other income from operating activities | B14: ='[3]Gelir Tablosu'!B14 -> 21 | C14: =+'[1]Gelir Tablosu '!$C14 -> 601796 | D14: =+'[1]Gelir Tablosu '!$D14 -> 220536 | E14: =+'[1]Gelir Tablosu '!$E14 -> 333074 | F14: =+'[1]Gelir Tablosu '!$F14 -> 116016
A15: Other expenses from operating activities | B15: ='[3]Gelir Tablosu'!B15 -> 21 | C15: =+'[1]Gelir Tablosu '!$C15 -> -359602 | D15: =+'[1]Gelir Tablosu '!$D15 -> -139715 | E15: =+'[1]Gelir Tablosu '!$E15 -> -151408 | F15: =+'[1]Gelir Tablosu '!$F15 -> -50732
A17: Profit from operating activities | C17: =+SUM(C9:C15) -> 2802240 | D17: =+SUM(D9:D15) -> 1081584 | E17: =+SUM(E9:E15) -> 1264518 | F17: =+SUM(F9:F15) -> 470862
A19: Income from investing activities | B19: ='[3]Gelir Tablosu'!B19 -> 29 | C19: =+'[1]Gelir Tablosu '!$C19 -> 2464 | D19: =+'[1]Gelir Tablosu '!$D19 -> 0 | E19: =+'[1]Gelir Tablosu '!$E19 -> 1172 | F19: =+'[1]Gelir Tablosu '!$F19 -> 0
A20: Expenses from investing activities | B20: ='[3]Gelir Tablosu'!B20 -> 29 | C20: =+'[1]Gelir Tablosu '!$C20 -> -1466 | D20: =+'[1]Gelir Tablosu '!$D20 -> -1466 | E20: =+'[1]Gelir Tablosu '!$E20 -> -728 | F20: =+'[1]Gelir Tablosu '!$F20 -> -442
A21: Share of profit / (loss) of invesments accounted for | B21: 32 | C21: =+'[1]Gelir Tablosu '!$C21 -> 0 | D21: =+'[1]Gelir Tablosu '!$D21 -> 0 | E21: =+'[1]Gelir Tablosu '!$E21 -> 0 | F21: =+'[1]Gelir Tablosu '!$F21 -> 0
A22: by the equity method
A24: Operating profit before financial income/ (expense) | C24: =+SUM(C17:C21) -> 2803238 | D24: =+SUM(D17:D21) -> 1080118 | E24: =+SUM(E17:E21) -> 1264962 | F24: =+SUM(F17:F21) -> 470420
A26: Financial income | B26: ='[3]Gelir Tablosu'!B24 -> 22 | C26: =+'[1]Gelir Tablosu '!$C25 -> 1279414 | D26: =+'[1]Gelir Tablosu '!$D25 -> 508840 | E26: =+'[1]Gelir Tablosu '!$E25 -> 436259 | F26: =+'[1]Gelir Tablosu '!$F25 -> 235210
A27: Financial expenses | B27: ='[3]Gelir Tablosu'!B25 -> 23 | C27: =+'[1]Gelir Tablosu '!$C26 -> -1290127 | D27: =+'[1]Gelir Tablosu '!$D26 -> -613612 | E27: =+'[1]Gelir Tablosu '!$E26 -> -809429 | F27: =+'[1]Gelir Tablosu '!$F26 -> -425687
A29: Profit before tax from continued operations | C29: =+SUM(C24:C27) -> 2792525 | D29: =+SUM(D24:D27) -> 975346 | E29: =+SUM(E24:E27) -> 891792 | F29: =+SUM(F24:F27) -> 279943
A31: Tax income/ (expense) from continued operations | C31: =+SUM(C32:C33) -> 26052 | D31: =+SUM(D32:D33) -> 23857 | E31: =+SUM(E32:E33) -> 17645 | F31: =+SUM(F32:F33) -> 65
A32: Current tax expenses | B32: ='[3]Gelir Tablosu'!B30 -> 24 | C32: =+'[1]Gelir Tablosu '!$C31 -> -25929 | D32: =+'[1]Gelir Tablosu '!$D31 -> -13028 | E32: =+'[1]Gelir Tablosu '!$E31 -> -4025 | F32: =+'[1]Gelir Tablosu '!$F31 -> 632
A33: Deferred tax expenses | B33: ='[3]Gelir Tablosu'!B31 -> 24 | C33: =+'[1]Gelir Tablosu '!$C32 -> 51981 | D33: =+'[1]Gelir Tablosu '!$D32 -> 36885 | E33: =+'[1]Gelir Tablosu '!$E32 -> 21670 | F33: =+'[1]Gelir Tablosu '!$F32 -> -567
A35: Net profit from continued operations | C35: =+C29+C32+C33 -> 2818577 | D35: =+D29+D32+D33 -> 999203 | E35: =+E29+E32+E33 -> 909437 | F35: =+F29+F32+F33 -> 280008
A37: Earnings per share with a nominal value Kr 1 | B37: ='[3]Gelir Tablosu'!B35 -> 25 | C37: =+'[1]Gelir Tablosu '!$C$36 -> 8,03 Kr | D37: =+'[1]Gelir Tablosu '!$D$36 -> 2,85 Kr | E37: =+'[1]Gelir Tablosu '!$E$36 -> 2,59 Kr | F37: =+'[1]Gelir Tablosu '!$F$36 -> 0,80 Kr

Sheet Comprehensive Income Statement
A1: Ford Otomotiv Sanayi A.Ş. Statement of other comprehensive income for the periods ended 30 June 2021 and 2020
C2: =+'Profit or Loss '!C2 -> Limited Reviewed | D2: =+'Profit or Loss '!D2 -> Not Reviewed | E2: =+'Profit or Loss '!E2 -> Limited Reviewed | F2: =+'Profit or Loss '!F2 -> Not Reviewed
A3: Turkish Lira (thousand TL) | B3: Notes | C3: =+'Profit or Loss '!C3 -> 1 January- 30 June 2021 | D3: =+'Profit or Loss '!D3 -> 1 April- 30 June 2021 | E3: =+'Profit or Loss '!E3 -> 1 January- 30 June 2020 | F3: =+'Profit or Loss '!F3 -> 1 April- 30 June 2020
A5: Net profit | C5: =+'[1]Gelir Tablosu '!C34 -> 2818577 | D5: =+'[1]Gelir Tablosu '!D34 -> 999203 | E5: =+'[1]Gelir Tablosu '!E34 -> 909437 | F5: =+'[1]Gelir Tablosu '!F34 -> 280008
A7: Other comprehensive income / (expense)
A9: Other comprehensive income not to be reclassified to profit or loss
A10: (Losses) / gains on remeasurements of defined benefit plans | B10: 17 | C10: =+'[1]Kapsamlı Gelir Tablosu '!$C$10 -> -16517 | D10: =+'[1]Kapsamlı Gelir Tablosu '!$D$10 -> -20578 | E10: =+'[1]Kapsamlı Gelir Tablosu '!$E$10 -> -3380 | F10: =+'[1]Kapsamlı Gelir Tablosu '!$F$10 -> -9681
A11: Gains/(losses) from financial assets measured at fair value through other comprehensive income | B11: 17 | C11: =+'[1]Kapsamlı Gelir Tablosu '!$C11 -> -5680 | D11: =+'[1]Kapsamlı Gelir Tablosu '!$D11 -> -11937 | E11: =+'[1]Kapsamlı Gelir Tablosu '!$E11 -> -1301 | F11: =+'[1]Kapsamlı Gelir Tablosu '!$F11 -> 6474
A13: Other comprehensive income tax not to be reclassified to profit or loss
A14: Taxes relating to remeasurements of defined benefit plans | B14: 17 | C14: =+'[1]Kapsamlı Gelir Tablosu '!$C$14 -> 3303 | D14: =+'[1]Kapsamlı Gelir Tablosu '!$D$14 -> 4115 | E14: =+'[1]Kapsamlı Gelir Tablosu '!$E$14 -> 676 | F14: =+'[1]Kapsamlı Gelir Tablosu '!$F$14 -> 1936
A15: Taxes relating to gains / (losses) from financial assets measured at fair value through other comprehensive income | B15: 17 | C15: =+'[1]Kapsamlı Gelir Tablosu '!$C$15 -> 284 | D15: =+'[1]Kapsamlı Gelir Tablosu '!$D$15 -> 597 | E15: =+'[1]Kapsamlı Gelir Tablosu '!$E$15 -> 65 | F15: =+'[1]Kapsamlı Gelir Tablosu '!$F$15 -> -324
A17: Other comprehensive income to be reclassified to profit or loss
A18: Other comprehensive income relating to cash flow hedges | B18: 17 | C18: =+'[1]Kapsamlı Gelir Tablosu '!$C$18 -> -459002 | D18: =+'[1]Kapsamlı Gelir Tablosu '!$D$18 -> -83898 | E18: =+'[1]Kapsamlı Gelir Tablosu '!$E$18 -> -406021 | F18: =+'[1]Kapsamlı Gelir Tablosu '!$F$18 -> -180979
A20: Other comprehensive income taxes to be reclassified to profit or loss
A21: Taxes relating to cash flow hedges | B21: 17 | C21: =+'[1]Kapsamlı Gelir Tablosu '!$C$21 -> 102128 | D21: =+'[1]Kapsamlı Gelir Tablosu '!$D$21 -> 29530 | E21: =+'[1]Kapsamlı Gelir Tablosu '!$E$21 -> 80275 | F21: =+'[1]Kapsamlı Gelir Tablosu '!$F$21 -> 35145
A23: Other comprehensive (loss) / income | C23: =+SUM(C10:C21) -> -375484 | D23: =+SUM(D10:D21) -> -82171 | E23: =+SUM(E10:E21) -> -329686 | F23: =+SUM(F10:F21) -> -147429
A25: Total comprehensive income | C25: =+C5+C23 -> 2443093 | D25: =+D5+D23 -> 917032 | E25: =+E5+E23 -> 579751 | F25: =+F5+F23 -> 132579

Sheet Changes In Equity
A1: Ford Otomotiv Sanayi A.Ş. Statement of changes in equity for the periods 30 June 2021 and 2020
E2: Other comprehensive income not to be reclassified in profit or loss | H2: Other comprehensive income to be reclassfied in profit or loss | J2: Retained Earnings
A3: Turkish Lira (thousand TL) | B3: Paid-in capital | C3: Inflation adjustments on capital | D3: Share premium | E3: Gain / (losses) from financial assets measured at fair value through other comprehensive income | F3: Gains / (losses) on remeasurements of defined benefit plans | H3: Cash flow hedge reserve | I3: Restricted Reserves | J3: Accumulated profit | K3: Net Profit | L3: Total equity
A4: Balances at January 1, 2020 | B4: =+'[1]Özkaynak Değişim Tablosu'!B4 -> 350910 | C4: =+'[1]Özkaynak Değişim Tablosu'!C4 -> 27920 | D4: =+'[1]Özkaynak Değişim Tablosu'!D4 -> 8 | E4: =+'[1]Özkaynak Değişim Tablosu'!E4 -> 20309 | F4: =+'[1]Özkaynak Değişim Tablosu'!F4 -> -2060 | H4: =+'[1]Özkaynak Değişim Tablosu'!H4 -> -705427 | I4: =+'[1]Özkaynak Değişim Tablosu'!I4 -> 302764 | J4: =+'[1]Özkaynak Değişim Tablosu'!J4 -> 2711013 | K4: =+'[1]Özkaynak Değişim Tablosu'!K4 -> 1959484 | L4: =+SUM(B4:K4) -> 4664921
A6: Profit for the period | B6: =+'[1]Özkaynak Değişim Tablosu'!B6 -> 0 | C6: =+'[1]Özkaynak Değişim Tablosu'!C6 -> 0 | D6: =+'[1]Özkaynak Değişim Tablosu'!D6 -> 0 | E6: =+'[1]Özkaynak Değişim Tablosu'!E6 -> 0 | F6: =+'[1]Özkaynak Değişim Tablosu'!F6 -> 0 | H6: =+'[1]Özkaynak Değişim Tablosu'!H6 -> 0 | I6: =+'[1]Özkaynak Değişim Tablosu'!I6 -> 0 | J6: =+'[1]Özkaynak Değişim Tablosu'!J6 -> 0 | K6: =+'[1]Özkaynak Değişim Tablosu'!K6 -> 909437 | L6: =+SUM(B6:K6) -> 909437
A7: Other comprehensive income/ (loss) | B7: =+'[1]Özkaynak Değişim Tablosu'!B7 -> 0 | C7: =+'[1]Özkaynak Değişim Tablosu'!C7 -> 0 | D7: =+'[1]Özkaynak Değişim Tablosu'!D7 -> 0 | E7: =+'[1]Özkaynak Değişim Tablosu'!E7 -> -1236 | F7: =+'[1]Özkaynak Değişim Tablosu'!F7 -> -2704 | H7: =+'[1]Özkaynak Değişim Tablosu'!H7 -> -325746 | I7: =+'[1]Özkaynak Değişim Tablosu'!I7 -> 0 | J7: =+'[1]Özkaynak Değişim Tablosu'!J7 -> 0 | K7: =+'[1]Özkaynak Değişim Tablosu'!K7 -> 0 | L7: =+SUM(B7:K7) -> -329686
A8: Total comprehensive income | B8: =+SUM(B6:B7) -> 0 | C8: =+SUM(C6:C7) -> 0 | D8: =+SUM(D6:D7) -> 0 | E8: =+SUM(E6:E7) -> -1236 | F8: =+SUM(F6:F7) -> -2704 | H8: =+SUM(H6:H7) -> -325746 | I8: =+SUM(I6:I7) -> 0 | J8: =+SUM(J6:J7) -> 0 | K8: =+SUM(K6:K7) -> 909437 | L8: =+SUM(B8:K8) -> 579751
A9: Transfers | B9: =+'[1]Özkaynak Değişim Tablosu'!B9 -> 0 | C9: =+'[1]Özkaynak Değişim Tablosu'!C9 -> 0 | D9: =+'[1]Özkaynak Değişim Tablosu'!D9 -> 0 | E9: =+'[1]Özkaynak Değişim Tablosu'!E9 -> 0 | F9: =+'[1]Özkaynak Değişim Tablosu'!F9 -> 0 | H9: =+'[1]Özkaynak Değişim Tablosu'!H9 -> 0 | I9: =+'[1]Özkaynak Değişim Tablosu'!I9 -> 107729 | J9: =+'[1]Özkaynak Değişim Tablosu'!J9 -> 1851755 | K9: =+'[1]Özkaynak Değişim Tablosu'!K9 -> -1959484 | L9: =+SUM(B9:K9) -> 0
A10: Dividends paid (Note 17) | B10: =+'[1]Özkaynak Değişim Tablosu'!B10 -> 0 | C10: =+'[1]Özkaynak Değişim Tablosu'!C10 -> 0 | D10: =+'[1]Özkaynak Değişim Tablosu'!D10 -> 0 | E10: =+'[1]Özkaynak Değişim Tablosu'!E10 -> 0 | F10: =+'[1]Özkaynak Değişim Tablosu'!F10 -> 0 | H10: =+'[1]Özkaynak Değişim Tablosu'!H10 -> 0 | I10: =+'[1]Özkaynak Değişim Tablosu'!I10 -> 0 | J10: =+'[1]Özkaynak Değişim Tablosu'!J10 -> -1094839 | K10: =+'[1]Özkaynak Değişim Tablosu'!K10 -> 0 | L10: =+SUM(B10:K10) -> -1094839
A11: Balances at June 30, 2020 | B11: =+B4+B8+B9+B10 -> 350910 | C11: =+C4+C8+C9+C10 -> 27920 | D11: =+D4+D8+D9+D10 -> 8 | E11: =+E4+E8+E9+E10 -> 19073 | F11: =+F4+F8+F9+F10 -> -4764 | H11: =+H4+H8+H9+H10 -> -1031173 | I11: =+I4+I8+I9+I10 -> 410493 | J11: =+J4+J8+J9+J10 -> 3467929 | K11: =+K4+K8+K9+K10 -> 909437 | L11: =+L4+L8+L9+L10 -> 4149833
A13: Balances at January 1, 2021 | B13: =+'[1]Özkaynak Değişim Tablosu'!B13 -> 350910 | C13: =+'[1]Özkaynak Değişim Tablosu'!C13 -> 27920 | D13: =+'[1]Özkaynak Değişim Tablosu'!D13 -> 8 | E13: =+'[1]Özkaynak Değişim Tablosu'!E13 -> 41600 | F13: =+'[1]Özkaynak Değişim Tablosu'!F13 -> -18359 | H13: =+'[1]Özkaynak Değişim Tablosu'!H13 -> -1431512 | I13: =+'[1]Özkaynak Değişim Tablosu'!I13 -> 410493 | J13: =+'[1]Özkaynak Değişim Tablosu'!J13 -> 3467929 | K13: =+'[1]Özkaynak Değişim Tablosu'!K13 -> 4194913 | L13: =+SUM(B13:K13) -> 7043902
A15: Impact of correction of errors | B15: 0 | C15: 0 | D15: 0 | E15: 0 | F15: 0 | H15: 0 | I15: 0 | J15: =+'[1]Özkaynak Değişim Tablosu'!$J$15 -> -258400 | K15: 0 | L15: =+'[1]Özkaynak Değişim Tablosu'!$L$15 -> -258400
A17: Revised balances at January 1, 2021 | B17: =+B13+B15 -> 350910 | C17: =+C13+C15 -> 27920 | D17: =+D13+D15 -> 8 | E17: =+E13+E15 -> 41600 | F17: =+F13+F15 -> -18359 | H17: =+H13+H15 -> -1431512 | I17: =+I13+I15 -> 410493 | J17: =+J13+J15 -> 3209529 | K17: =+K13+K15 -> 4194913 | L17: =+L13+L15 -> 6785502
A19: Profit/ (loss) for the period | B19: =+'[1]Özkaynak Değişim Tablosu'!B20 -> 0 | C19: =+'[1]Özkaynak Değişim Tablosu'!C20 -> 0 | D19: =+'[1]Özkaynak Değişim Tablosu'!D20 -> 0 | E19: =+'[1]Özkaynak Değişim Tablosu'!E20 -> 0 | F19: =+'[1]Özkaynak Değişim Tablosu'!F20 -> 0 | H19: =+'[1]Özkaynak Değişim Tablosu'!H20 -> 0 | I19: =+'[1]Özkaynak Değişim Tablosu'!I20 -> 0 | J19: =+'[1]Özkaynak Değişim Tablosu'!J20 -> 0 | K19: =+'[1]Özkaynak Değişim Tablosu'!K20 -> 2818577 | L19: =+'[1]Özkaynak Değişim Tablosu'!L20 -> 2818577
A20: Other comprehensive income/ (loss) | B20: =+'[1]Özkaynak Değişim Tablosu'!B21 -> 0 | C20: =+'[1]Özkaynak Değişim Tablosu'!C21 -> 0 | D20: =+'[1]Özkaynak Değişim Tablosu'!D21 -> 0 | E20: =+'[1]Özkaynak Değişim Tablosu'!E21 -> -5396 | F20: =+'[1]Özkaynak Değişim Tablosu'!F21 -> -13214 | H20: =+'[1]Özkaynak Değişim Tablosu'!H21 -> -356874 | I20: =+'[1]Özkaynak Değişim Tablosu'!I21 -> 0 | J20: =+'[1]Özkaynak Değişim Tablosu'!J21 -> 0 | K20: =+'[1]Özkaynak Değişim Tablosu'!K21 -> 0 | L20: =+'[1]Özkaynak Değişim Tablosu'!L21 -> -375484
A21: Total comprehensive income | B21: =+SUM(B19:B20) -> 0 | C21: =+SUM(C19:C20) -> 0 | D21: =+SUM(D19:D20) -> 0 | E21: =+SUM(E19:E20) -> -5396 | F21: =+SUM(F19:F20) -> -13214 | H21: =+SUM(H19:H20) -> -356874 | I21: =+SUM(I19:I20) -> 0 | J21: =+SUM(J19:J20) -> 0 | K21: =+SUM(K19:K20) -> 2818577 | L21: =+SUM(B21:K21) -> 2443093
A22: Transfers | B22: =+'[1]Özkaynak Değişim Tablosu'!B23 -> 0 | C22: =+'[1]Özkaynak Değişim Tablosu'!C23 -> 0 | D22: =+'[1]Özkaynak Değişim Tablosu'!D23 -> 0 | E22: =+'[1]Özkaynak Değişim Tablosu'!E23 -> 0 | F22: =+'[1]Özkaynak Değişim Tablosu'!F23 -> 0 | H22: =+'[1]Özkaynak Değişim Tablosu'!H23 -> 0 | I22: =+'[1]Özkaynak Değişim Tablosu'!I23 -> 223530 | J22: =+'[1]Özkaynak Değişim Tablosu'!J23 -> 3971383 | K22: =+'[1]Özkaynak Değişim Tablosu'!K23 -> -4194913 | L22: =+'[1]Özkaynak Değişim Tablosu'!L23 -> 0
A23: Dividends paid (Note 17) | B23: =+'[1]Özkaynak Değişim Tablosu'!B24 -> 0 | C23: =+'[1]Özkaynak Değişim Tablosu'!C24 -> 0 | D23: =+'[1]Özkaynak Değişim Tablosu'!D24 -> 0 | E23: =+'[1]Özkaynak Değişim Tablosu'!E24 -> 0 | F23: =+'[1]Özkaynak Değişim Tablosu'!F24 -> 0 | H23: =+'[1]Özkaynak Değişim Tablosu'!H24 -> 0 | I23: =+'[1]Özkaynak Değişim Tablosu'!I24 -> 0 | J23: =+'[1]Özkaynak Değişim Tablosu'!J24 -> -2252842 | K23: =+'[1]Özkaynak Değişim Tablosu'!K24 -> 0 | L23: =+'[1]Özkaynak Değişim Tablosu'!L24 -> -2252842
A24: Balances at June 30, 2021 | B24: =+B17+B21+B22+B23 -> 350910 | C24: =+C17+C21+C22+C23 -> 27920 | D24: =+D17+D21+D22+D23 -> 8 | E24: =+E17+E21+E22+E23 -> 36204 | F24: =+F17+F21+F22+F23 -> -31573 | H24: =+H17+H21+H22+H23 -> -1788386 | I24: =+I17+I21+I22+I23 -> 634023 | J24: =+J17+J21+J22+J23 -> 4928070 | K24: =+K17+K21+K22+K23 -> 2818577 | L24: =+L17+L21+L22+L23 -> 6975753

Sheet Statement of Cash Flow
A1: Ford Otomotiv Sanayi A.Ş. Statement of cash flows for the periods ended 30 June 2021 and 2020
A2: Turkish lira (thousand TL) | B2: Notes | C2: Current period Limited Reviewed 30 June 2021 | D2: Prior period Limited Reviewed 30 June 2020
A5: Cash flows generated from/ (used in) operating activities | C5: =+SUM(C33:C39) -> 248800 | D5: =+SUM(D33:D39) -> 1459253
A6: Net profit for the period | C6: =+'[1]Nakit Akım Tablosu'!C6 -> 2818577 | D6: =+'[1]Nakit Akım Tablosu'!D6 -> 909437
A7: Adjustments to reconcile profit or loss | C7: =+SUM(C8:C22) -> 1214403 | D7: =+SUM(D8:D22) -> 1148892
A8: Adjustments for depreciation and amortisation expense | B8: =+'[1]Nakit Akım Tablosu'!B8 -> 10,11,32 | C8: =+'[1]Nakit Akım Tablosu'!C8 -> 509926 | D8: =+'[1]Nakit Akım Tablosu'!D8 -> 443599
A9: Adjustments for impairment loss of inventories | B9: =+'[1]Nakit Akım Tablosu'!B9 -> 9 | C9: =+'[1]Nakit Akım Tablosu'!C9 -> -8913 | D9: =+'[1]Nakit Akım Tablosu'!D9 -> 3911
A10: Adjustments for provisions related with employee benefits | C10: =+'[1]Nakit Akım Tablosu'!C10 -> -23982 | D10: =+'[1]Nakit Akım Tablosu'!D10 -> 42976
A11: Adjustments for lawsuit and/ or penalty provisions | B11: =+'[1]Nakit Akım Tablosu'!B11 -> 13 | C11: =+'[1]Nakit Akım Tablosu'!C11 -> 15490 | D11: =+'[1]Nakit Akım Tablosu'!D11 -> 8372
A12: Adjustments for warranty provisions | B12: =+'[1]Nakit Akım Tablosu'!B12 -> 13 | C12: =+'[1]Nakit Akım Tablosu'!C12 -> 158427 | D12: =+'[1]Nakit Akım Tablosu'!D12 -> 78450
A13: Adjustments for other provisions | C13: =+'[1]Nakit Akım Tablosu'!C13 -> -63748 | D13: =+'[1]Nakit Akım Tablosu'!D13 -> -21053
A14: Adjustments for dividend income | B14: =+'[1]Nakit Akım Tablosu'!B14 -> 29 | C14: =+'[1]Nakit Akım Tablosu'!C14 -> -2343 | D14: =+'[1]Nakit Akım Tablosu'!D14 -> -1172
A15: Adjustments for interest income | B15: =+'[1]Nakit Akım Tablosu'!B15 -> 22 | C15: =+'[1]Nakit Akım Tablosu'!C15 -> -514165 | D15: =+'[1]Nakit Akım Tablosu'!D15 -> -98237
A16: Adjustments for interest expense | B16: =+'[1]Nakit Akım Tablosu'!B16 -> 23 | C16: =+'[1]Nakit Akım Tablosu'!C16 -> 110898 | D16: =+'[1]Nakit Akım Tablosu'!D16 -> 80232
A17: Adjustments for tax expenses | B17: =+'[1]Nakit Akım Tablosu'!B17 -> 24 | C17: =+'[1]Nakit Akım Tablosu'!C17 -> -26052 | D17: =+'[1]Nakit Akım Tablosu'!D17 -> -17645
A18: Adjustments for unearned financing income | B18: =+'[1]Nakit Akım Tablosu'!B18 -> 21 | C18: =+'[1]Nakit Akım Tablosu'!C18 -> -184815 | D18: =+'[1]Nakit Akım Tablosu'!D18 -> -63510
A19: Adjustments for deferred financing expense | B19: =+'[1]Nakit Akım Tablosu'!B19 -> 21 | C19: =+'[1]Nakit Akım Tablosu'!C19 -> 303064 | D19: =+'[1]Nakit Akım Tablosu'!D19 -> 110352
A20: Adjustments for gain/ (loss) on sales of property, plant and equipment | B20: =+'[1]Nakit Akım Tablosu'!B20 -> 29 | C20: =+'[1]Nakit Akım Tablosu'!C20 -> 1345 | D20: =+'[1]Nakit Akım Tablosu'!D20 -> 728
A21: Other adjustments for which cash effects are investing or financing cash flow | C21: =+'[1]Nakit Akım Tablosu'!C21 -> 939271 | D21: =+'[1]Nakit Akım Tablosu'!D21 -> 581889
A22: Undistributed profits of investments accounted for by the equity method | B22: =+'[1]Nakit Akım Tablosu'!B22 -> 32 | C22: =+'[1]Nakit Akım Tablosu'!C22 -> 0 | D22: =+'[1]Nakit Akım Tablosu'!D22 -> 0
A24: Changes in working capital | C24: =+SUM(C26:C31) -> -3474295 | D24: =+SUM(D26:D31) -> -440587
A26: (Increase) / decrease in trade receivable | C26: =+'[1]Nakit Akım Tablosu'!C26 -> -172403 | D26: =+'[1]Nakit Akım Tablosu'!D26 -> 309816
A27: (Increase) / decrease in inventories | C27: =+'[1]Nakit Akım Tablosu'!C27 -> -2172507 | D27: =+'[1]Nakit Akım Tablosu'!D27 -> -352523
A28: (Increase) / decrease in prepaid expenses | C28: =+'[1]Nakit Akım Tablosu'!C28 -> -170662 | D28: =+'[1]Nakit Akım Tablosu'!D28 -> -27233
A29: Increase/ (decrease) in trade payable | C29: =+'[1]Nakit Akım Tablosu'!C29 -> -1513045 | D29: =+'[1]Nakit Akım Tablosu'!D29 -> -952641
A30: (Increase) / decrease in other assets | C30: =+'[1]Nakit Akım Tablosu'!C30 -> 555422 | D30: =+'[1]Nakit Akım Tablosu'!D30 -> 486530
A31: Increase/ (decrease) in other liabilities | C31: =+'[1]Nakit Akım Tablosu'!C31 -> -1100 | D31: =+'[1]Nakit Akım Tablosu'!D31 -> 95464
A33: Cash flows generated from operations | C33: =+C6+C7+C24 -> 558685 | D33: =+D6+D7+D24 -> 1617742
A35: Interest paid | C35: =+'[1]Nakit Akım Tablosu'!C35 -> -318013 | D35: =+'[1]Nakit Akım Tablosu'!D35 -> -117576
A36: Interest received | C36: =+'[1]Nakit Akım Tablosu'!C36 -> 189326 | D36: =+'[1]Nakit Akım Tablosu'!D36 -> 79984
A37: Payments related with provisions for employee benefits | B37: =+'[1]Nakit Akım Tablosu'!B37 -> 15 | C37: =+'[1]Nakit Akım Tablosu'!C37 -> -9862 | D37: =+'[1]Nakit Akım Tablosu'!D37 -> -7251
A38: Payments related with other provisions | C38: =+'[1]Nakit Akım Tablosu'!C38 -> -124980 | D38: =+'[1]Nakit Akım Tablosu'!D38 -> -80371
A39: Taxes paid | C39: =+'[1]Nakit Akım Tablosu'!C39 -> -46356 | D39: =+'[1]Nakit Akım Tablosu'!D39 -> -33275 | G39: =10.5853658536585-1 -> 9.5853659
A41: Cash flows used in investing activities | C41: =+SUM(C43:C48) -> -994063 | D41: =+SUM(D43:D48) -> -339910
A43: Proceeds from sales of property, plant and equipment | C43: =+'[1]Nakit Akım Tablosu'!C43 -> 9400 | D43: =+'[1]Nakit Akım Tablosu'!D43 -> 1726
A44: Purchase of property, plant and equipment | C44: =+'[1]Nakit Akım Tablosu'!C44 -> -434119 | D44: =+'[1]Nakit Akım Tablosu'!D44 -> -262853
A45: Purchase of intangible assets | C45: =+'[1]Nakit Akım Tablosu'!C45 -> -239508 | D45: =+'[1]Nakit Akım Tablosu'!D45 -> -97980
A46: Cash advances given | C46: =+'[1]Nakit Akım Tablosu'!C46 -> -332179 | D46: =+'[1]Nakit Akım Tablosu'!D46 -> 18025
A47: Dividends received | B47: =+'[1]Nakit Akım Tablosu'!B47 -> 29 | C47: =+'[1]Nakit Akım Tablosu'!C47 -> 2343 | D47: =+'[1]Nakit Akım Tablosu'!D47 -> 1172
A48: Cash outflows from acquisition or share | C48: =+'[1]Nakit Akım Tablosu'!C48 -> 0 | D48: =+'[1]Nakit Akım Tablosu'!D48 -> 0
...

Sheet Sheet1
