Workbook
Name OLE_LINK1: 'Changes In Equity'!#REF!
Name OLE_LINK41: Liabilities!#REF!
Name OLE_LINK49: Liabilities!#REF!
Name OLE_LINK50: Liabilities!#REF!
Name OLE_LINK52: Liabilities!#REF!
Name OLE_LINK54: Liabilities!$A$41
Name OLE_LINK55: Liabilities!$A$42
Name OLE_LINK58: Liabilities!#REF!
Name OLE_LINK61: Liabilities!$A$36
Name OLE_LINK62: Liabilities!$A$51
Name OLE_LINK64: Liabilities!#REF!

Sheet Assets
A1: Ford Otomotiv Sanayi A.Ş. Statement of financial position as at 31 March 2019 and 31 December 2018
C2: Current period Unaudited | D2: Previous period Audited
A3: Turkish Lira (thousand TL) | B3: Notes | C3: 31 March 2019 | D3: 31 December 2018
A4: Assets
A5: Current assets | C5: =SUM(C7:C18) -> 8946171 | D5: =SUM(D7:D18) -> 7395461
A7: Cash and cash equivalents | B7: =+[1]Varlıklar!B7 -> 4 | C7: =+[1]Varlıklar!C7 -> 2105155 | D7: =+[1]Varlıklar!D7 -> 1392772
A8: Trade receivables
A9: - Due from related parties | B9: =+[1]Varlıklar!B9 -> 26 | C9: =+[1]Varlıklar!C9 -> 2519694 | D9: =+[1]Varlıklar!D9 -> 2082263
A10: - Due from third parties | B10: =+[1]Varlıklar!B10 -> 7 | C10: =+[1]Varlıklar!C10 -> 1073563 | D10: =+[1]Varlıklar!D10 -> 1058926
A11: Other receivables
A12: - Due from third parties | B12: =+[1]Varlıklar!B12 -> 8 | C12: =+[1]Varlıklar!C12 -> 5831 | D12: =+[1]Varlıklar!D12 -> 2788
A13: Inventories | B13: =+[1]Varlıklar!B13 -> 9 | C13: =+[1]Varlıklar!C13 -> 2047564 | D13: =+[1]Varlıklar!D13 -> 1864645
A14: Prepaid expenses | B14: =+[1]Varlıklar!B14 -> 12 | C14: =+[1]Varlıklar!C14 -> 52362 | D14: =+[1]Varlıklar!D14 -> 74375
A15: Other current assets | B15: =+[1]Varlıklar!B15 -> 16 | C15: =+[1]Varlıklar!C15 -> 1140224 | D15: =+[1]Varlıklar!D15 -> 919692
A16: Current tax assets | B16: =+[1]Varlıklar!B16 -> 24 | C16: =+[1]Varlıklar!C16 -> - | D16: =+[1]Varlıklar!D16 -> -
A17: Current tax assets | B17: =+[1]Varlıklar!B17 -> 24 | C17: =+[1]Varlıklar!C17 -> 1778 | D17: =+[1]Varlıklar!D17 -> -
A18: Derivative financial assets | B18: 28 | C18: =+[1]Varlıklar!C18 -> - | D18: =+[1]Varlıklar!D18 -> 0
A20: Non-current assets | C20: =SUM(C22:C30) -> 6008478 | D20: =SUM(D22:D30) -> 5788979
A22: Financial assets | B22: =+[1]Varlıklar!B22 -> 5 | C22: =+[1]Varlıklar!C22 -> 14749 | D22: =+[1]Varlıklar!D22 -> 12408
A23: Trade receivables
A24: - Due from third parties | B24: =+[1]Varlıklar!B24 -> 7 | C24: =+[1]Varlıklar!C24 -> 2984 | D24: =+[1]Varlıklar!D24 -> 2954
A25: Property, plant and equipment | B25: =+[1]Varlıklar!B25 -> 10 | C25: =+[1]Varlıklar!C25 -> 4010649.8 | D25: =+[1]Varlıklar!D25 -> 3922747
A26: Intangible assets | B26: =+[1]Varlıklar!B26 -> 11 | C26: =+[1]Varlıklar!C26 -> 825513 | D26: =+[1]Varlıklar!D26 -> 823342
A27: The right-of- use assets | B27: =+[1]Varlıklar!B27 -> 33 | C27: =+[1]Varlıklar!C27 -> 126267.23 | D27: =+[1]Varlıklar!D27 -> -
A28: Prepaid expenses | B28: =+[1]Varlıklar!B28 -> 12 | C28: =+[1]Varlıklar!C28 -> 367145 | D28: =+[1]Varlıklar!D28 -> 382420
A29: Deferred tax asset | B29: =+[1]Varlıklar!B29 -> 24 | C29: =+[1]Varlıklar!C29 -> 660269 | D29: =+[1]Varlıklar!D29 -> 644175
A30: Investments accounted for by the equity method | B30: =+[1]Varlıklar!B30 -> 32 | C30: =+[1]Varlıklar!C30 -> 901 | D30: =+[1]Varlıklar!D30 -> 933
A32: Total assets | C32: =+C5+C20 -> 14954649 | D32: =+D5+D20 -> 13184440

Sheet Liabilities
A1: =+Assets!A1 -> Ford Otomotiv Sanayi A.Ş. Statement of financial position as at 31 March 2019 and 31 December 2018
C2: =+Assets!C2 -> Current period Unaudited | D2: =+Assets!D2 -> Previous period Audited
A3: Turkish Lira (thousand TL) | B3: Notes | C3: =+Assets!C3 -> 31 March 2019 | D3: =+Assets!D3 -> 31 December 2018
A4: Liabilities
A5: Current liabilities | C5: =SUM(C8:C23) -> 9267844 | D5: =SUM(D8:D23) -> 7219612
A7: Current borrowings
A8: - Bank borrowings | B8: =+[1]Kaynaklar!B8 -> 6 | C8: =+[1]Kaynaklar!C8 -> 2689729 | D8: =+[1]Kaynaklar!$D$8 -> 2030806
A9: Short- term portion of long-term borrowings
A10: - Bank borrowings | B10: =+[1]Kaynaklar!B10 -> 6 | C10: =+[1]Kaynaklar!C10 -> 825817 | D10: =+[1]Kaynaklar!$D$10 -> 773457
A11: - Lease liabilities | B11: =+[1]Kaynaklar!B11 -> 6 | C11: =+'[2]FORMSRK WORD'!$C$46 -> 35100 | D11: =+[1]Kaynaklar!$D$11 -> -
A12: Trade payables
A13: - Due to related parties | B13: =+[1]Kaynaklar!B13 -> 26 | C13: =+[1]Kaynaklar!C13 -> 980206 | D13: =+[1]Kaynaklar!$D$13 -> 703567
A14: - Due to third parties | B14: =+[1]Kaynaklar!B14 -> 7 | C14: =+[1]Kaynaklar!C14 -> 3501315 | D14: =+[1]Kaynaklar!$D$14 -> 3319120
A15: Other payables
A16: - Due to related parties | B16: =+[1]Kaynaklar!B16 -> 26 | C16: =+[1]Kaynaklar!C16 -> 856608 | D16: =+[1]Kaynaklar!$D$16 -> 31321
A17: - Due to third parties | B17: =+[1]Kaynaklar!B17 -> 8 | C17: =+[1]Kaynaklar!C17 -> 63697 | D17: =+[1]Kaynaklar!$D$17 -> 34661
A18: Deferred revenue | B18: =+[1]Kaynaklar!B18 -> 30 | C18: =+[1]Kaynaklar!C18 -> 12293 | D18: =+[1]Kaynaklar!$D$18 -> 13219
A19: Short-term provisions
A20: - Other provisions | B20: =+[1]Kaynaklar!B20 -> 13 | C20: =+[1]Kaynaklar!C20 -> 178009 | D20: =+[1]Kaynaklar!$D$20 -> 155227
A21: Employee benefit liabilities | B21: =+[1]Kaynaklar!B21 -> 15 | C21: =+[1]Kaynaklar!C21 -> 124972 | D21: =+[1]Kaynaklar!$D$21 -> 149611
A22: Current tax liabilities | B22: =+[1]Kaynaklar!B22 -> 24 | C22: =+[1]Kaynaklar!C22 -> - | D22: =+[1]Kaynaklar!$D$22 -> 8530
A23: Derivative financial liabilities | B23: =+[1]Kaynaklar!B23 -> 28 | C23: =+[1]Kaynaklar!C23 -> 98 | D23: =+[1]Kaynaklar!$D$23 -> 93
A25: Non-current liabilities | C25: =SUM(C28:C35) -> 2195571 | D25: =SUM(D28:D35) -> 2071589
A27: Long Term Borrowings
A28: - Bank borrowings | B28: =+[1]Kaynaklar!B28 -> 6 | C28: =+[1]Kaynaklar!C28 -> 1718911 | D28: =+[1]Kaynaklar!OLE_LINK41 -> 1678554
A29: - Lease liabilities | B29: =+[1]Kaynaklar!B29 -> 6 | C29: =+[1]Kaynaklar!$C$29 -> 71358 | D29: =+[1]Kaynaklar!$D$29 -> -
A30: Long-term provisions
A31: - Provision for employment termination benefits | B31: =+[1]Kaynaklar!B31 -> 15 | C31: =+[1]Kaynaklar!C31 -> 211171 | D31: =+[1]Kaynaklar!$D$31 -> 196368
A32: - Other provisions | B32: =+[1]Kaynaklar!B32 -> 13 | C32: =+[1]Kaynaklar!C32 -> 133078 | D32: =+[1]Kaynaklar!$D$32 -> 136680
A33: Deferred revenue | B33: =+[1]Kaynaklar!B33 -> 30 | C33: =+[1]Kaynaklar!C33 -> 7841 | D33: =+[1]Kaynaklar!$D$33 -> 7479
A34: Other non-current liabilities | B34: =+[1]Kaynaklar!B34 -> 31 | C34: =+[1]Kaynaklar!C34 -> 53212 | D34: =+[1]Kaynaklar!$D$34 -> 52508
A35: Derivative financial liabilities | B35: =+[1]Kaynaklar!B35 -> 28 | C35: - | D35: =+[1]Kaynaklar!$D$35 -> -
A37: Equity | B37: =+[1]Kaynaklar!B37 -> 17 | C37: =SUM(C39:C49) -> 3491234 | D37: =SUM(D39:D49) -> 3893239
A39: Paid-in capital | C39: =+[1]Kaynaklar!C39 -> 350910 | D39: =+[1]Kaynaklar!$D$39 -> 350910
A40: Inflation adjustments on capital | C40: =+[1]Kaynaklar!C40 -> 27920 | D40: =+[1]Kaynaklar!$D$40 -> 27920
A41: Share premium | C41: =+[1]Kaynaklar!C41 -> 8 | D41: =+[1]Kaynaklar!$D$41 -> 8
A42: Other comprehensive income/ (loss) not to be reclassified under profit or loss
A43: - Losses on remeasurements of defined benefit plans | C43: =+[1]Kaynaklar!C43 -> 11799 | D43: =+[1]Kaynaklar!$D$43 -> -279
A44: -Gains from financial assets measured at fair value through other comprehensive income | C44: =+[1]Kaynaklar!C44 -> 13083 | D44: =+[1]Kaynaklar!$D$44 -> 10859
A45: Other comprehensive income / (loss) to be reclassified in profit or loss
...

Sheet Profit or Loss
A1: Ford Otomotiv Sanayi A.Ş. Statement of profit or loss for the periods ended 31 March 2019 and 2018
C2: =+Liabilities!C2 -> Current period Unaudited | D2: Previous period Unaudited
A3: Turkish Lira (thousand TL) | B3: Notes | C3: 1 January- 31 March 2019 | D3: 1 January- 31 March 2018
A5: Continuing operations
A6: Revenue | B6: =+'[1]Gelir Tablosu'!B6 -> 18 | C6: =+'[1]Gelir Tablosu'!C6 -> 9284052 | D6: =+'[1]Gelir Tablosu'!D6 -> 7282010
A7: Cost of sales | B7: =+'[1]Gelir Tablosu'!B7 -> 18 | C7: =+'[1]Gelir Tablosu'!C7 -> -8340280 | D7: =+'[1]Gelir Tablosu'!D7 -> -6524689
A9: Gross profit | C9: =+SUM(C6:C7) -> 943772 | D9: =+SUM(D6:D7) -> 757321
A11: Marketing expenses | B11: =+'[1]Gelir Tablosu'!B11 -> 19 | C11: =+'[1]Gelir Tablosu'!C11 -> -151014 | D11: =+'[1]Gelir Tablosu'!D11 -> -118113
A12: General administrative expenses | B12: =+'[1]Gelir Tablosu'!B12 -> 19 | C12: =+'[1]Gelir Tablosu'!C12 -> -86188 | D12: =+'[1]Gelir Tablosu'!D12 -> -74953
A13: Research and development expenses | B13: =+'[1]Gelir Tablosu'!B13 -> 19 | C13: =+'[1]Gelir Tablosu'!C13 -> -103943 | D13: =+'[1]Gelir Tablosu'!D13 -> -98580
A14: Other income from operating activities | B14: =+'[1]Gelir Tablosu'!B14 -> 21 | C14: =+'[1]Gelir Tablosu'!C14 -> 162216 | D14: =+'[1]Gelir Tablosu'!D14 -> 148573
A15: Other expenses from operating activities | B15: =+'[1]Gelir Tablosu'!B15 -> 21 | C15: =+'[1]Gelir Tablosu'!C15 -> -161586 | D15: =+'[1]Gelir Tablosu'!D15 -> -100886
A17: Profit from operating activities | C17: =+SUM(C9:C15) -> 603257 | D17: =+SUM(D9:D15) -> 513362
A19: Income from investing activities | B19: =+'[1]Gelir Tablosu'!B19 -> 29 | C19: =+'[1]Gelir Tablosu'!C19 -> 422 | D19: =+'[1]Gelir Tablosu'!D19 -> 410
A20: Expenses from investing activities | B20: =+'[1]Gelir Tablosu'!B20 -> 29 | C20: =+'[1]Gelir Tablosu'!C20 -> -876 | D20: =+'[1]Gelir Tablosu'!D20 -> -1480
A21: Share of profit / (loss) of invesments accounted for | B21: =+'[1]Gelir Tablosu'!B21 -> 32 | C21: =+'[1]Gelir Tablosu'!C21 -> -32 | D21: =+'[1]Gelir Tablosu'!D21 -> 0
A22: by the equity method
A23: Operating income before financial income / (expense) | C23: =+SUM(C17:C21) -> 602771 | D23: =+SUM(D17:D21) -> 512292
A25: Financial income | B25: =+'[1]Gelir Tablosu'!B25 -> 22 | C25: =+'[1]Gelir Tablosu'!C25 -> 109550 | D25: =+'[1]Gelir Tablosu'!D25 -> 106305
A26: Financial expenses | B26: =+'[1]Gelir Tablosu'!B26 -> 23 | C26: =+'[1]Gelir Tablosu'!C26 -> -235662 | D26: =+'[1]Gelir Tablosu'!D26 -> -177245
A28: Profit from continuing operations before tax | C28: =+SUM(C23:C26) -> 476659 | D28: =+SUM(D23:D26) -> 441352
A30: Tax income / (expense) from continuing operations | C30: =+SUM(C31:C32) -> 1301 | D30: =+SUM(D31:D32) -> -9087
A31: Tax expenses for the period | B31: =+'[1]Gelir Tablosu'!B31 -> 24 | C31: =+'[1]Gelir Tablosu'!C31 -> -6660.6804 | D31: =+'[1]Gelir Tablosu'!D31 -> -5381
A32: Deferred tax (expense) / income | B32: =+'[1]Gelir Tablosu'!B32 -> 24 | C32: =+'[1]Gelir Tablosu'!C32 -> 7961.6804 | D32: =+'[1]Gelir Tablosu'!D32 -> -3706
A34: Net profit | C34: =+C28+C31+C32 -> 477960 | D34: =+D28+D31+D32 -> 432265
A36: Earnings per share with a nominal value Kr 1 | B36: =+'[1]Gelir Tablosu'!B36 -> 25 | C36: 1,36 Kr | D36: 1,23 Kr

Sheet Comprehensive Income Statement
A1: Ford Otomotiv Sanayi A.Ş. Statement of other comprehensive income for the periods ended 31 March 2019 and 2018
C2: =+'Profit or Loss'!C2 -> Current period Unaudited | D2: =+'Profit or Loss'!D2 -> Previous period Unaudited
A3: Turkish Lira (thousand TL) | B3: Notes | C3: =+'Profit or Loss'!C3 -> 1 January- 31 March 2019 | D3: =+'Profit or Loss'!D3 -> 1 January- 31 March 2018
A5: Net profit | C5: =+'Profit or Loss'!C34 -> 477960 | D5: =+'Profit or Loss'!D34 -> 432265
A7: Other comprehensive income / (expense)
A9: Other comprehensive income not to be reclassified to profit or loss
A10: (Losses) / gains on remeasurements of defined benefit plans | B10: =+'[1]Kapsamlı Gelir Tablosu'!B10 -> 17 | C10: =+'[1]Kapsamlı Gelir Tablosu'!C10 -> 15097 | D10: =+'[1]Kapsamlı Gelir Tablosu'!D10 -> -1753
A11: Gains/(losses) from financial assets measured at fair value through other comprehensive income | B11: =+'[1]Kapsamlı Gelir Tablosu'!B11 -> 17 | C11: =+'[1]Kapsamlı Gelir Tablosu'!C11 -> 2341 | D11: =+'[1]Kapsamlı Gelir Tablosu'!D11 -> -1351
A13: Other comprehensive income tax not to be reclassified to profit or loss
A14: Taxes relating to remeasurements of defined benefit plans | B14: =+'[1]Kapsamlı Gelir Tablosu'!B14 -> 17 | C14: =+'[1]Kapsamlı Gelir Tablosu'!C14 -> -3019 | D14: =+'[1]Kapsamlı Gelir Tablosu'!D14 -> 351
A15: Taxes relating to gains / (losses) from financial assets measured at fair value through other comprehensive income | B15: =+'[1]Kapsamlı Gelir Tablosu'!B15 -> 17 | C15: =+'[1]Kapsamlı Gelir Tablosu'!C15 -> -117 | D15: =+'[1]Kapsamlı Gelir Tablosu'!D15 -> 68
A17: Other comprehensive income to be reclassified to profit or loss
A18: Other comprehensive income relating to cash flow hedges | B18: =+'[1]Kapsamlı Gelir Tablosu'!B18 -> 17 | C18: =+'[1]Kapsamlı Gelir Tablosu'!C18 -> -52824 | D18: =+'[1]Kapsamlı Gelir Tablosu'!D18 -> -125583
A20: Other comprehensive income taxes to be reclassified to profit or loss
A21: Taxes relating to cash flow hedges | B21: =+'[1]Kapsamlı Gelir Tablosu'!B21 -> 17 | C21: =+'[1]Kapsamlı Gelir Tablosu'!C21 -> 11268 | D21: =+'[1]Kapsamlı Gelir Tablosu'!D21 -> 27603
A23: Other comprehensive (loss) / income | C23: =+SUM(C10:C21) -> -27254 | D23: =+SUM(D10:D21) -> -100665
A25: Total comprehensive income | C25: =+C5+C23 -> 450706 | D25: =+D5+D23 -> 331600

Sheet Changes In Equity
A1: Ford Otomotiv Sanayi A.Ş. Statement of changes in equity for the periods 31 March 2019 and 2018
E2: Other comprehensive income not to be reclassified in profit or loss | H2: Other comprehensive income to be reclassfied in profit or loss | J2: Retained Earnings
A3: Turkish Lira (thousand TL) | B3: Paid-in capital | C3: Inflation adjustments on capital | D3: Share premium | E3: Gain / (losses) from financial assets measured at fair value through other comprehensive income | F3: Gains / (losses) on remeasurements of defined benefit plans | H3: Cash flow hedge reserve | I3: Restricted Reserves | J3: Accumulated profit | K3: Net Profit | L3: Total equity
A4: Balances at January 1, 2018 | B4: =+'[1]Özkaynak Değişim Tablosu'!B4 -> 350910 | C4: =+'[1]Özkaynak Değişim Tablosu'!C4 -> 27920 | D4: =+'[1]Özkaynak Değişim Tablosu'!D4 -> 8 | E4: =+'[1]Özkaynak Değişim Tablosu'!E4 -> 15608 | F4: =+'[1]Özkaynak Değişim Tablosu'!F4 -> -14001 | H4: =+'[1]Özkaynak Değişim Tablosu'!H4 -> -503120 | I4: =+'[1]Özkaynak Değişim Tablosu'!I4 -> 254404 | J4: =+'[1]Özkaynak Değişim Tablosu'!J4 -> 2074147 | K4: =+'[1]Özkaynak Değişim Tablosu'!K4 -> 1489983 | L4: =+SUM(B4:K4) -> 3695859
A6: Profit for the period | B6: =+'[1]Özkaynak Değişim Tablosu'!B6 -> 0 | C6: =+'[1]Özkaynak Değişim Tablosu'!C6 -> 0 | D6: =+'[1]Özkaynak Değişim Tablosu'!D6 -> 0 | E6: =+'[1]Özkaynak Değişim Tablosu'!E6 -> 0 | F6: =+'[1]Özkaynak Değişim Tablosu'!F6 -> 0 | H6: =+'[1]Özkaynak Değişim Tablosu'!H6 -> 0 | I6: =+'[1]Özkaynak Değişim Tablosu'!I6 -> 0 | J6: =+'[1]Özkaynak Değişim Tablosu'!J6 -> 0 | K6: =+'[1]Özkaynak Değişim Tablosu'!K6 -> 432265 | L6: =+SUM(B6:K6) -> 432265
A7: Other comprehensive income/ (loss) | B7: =+'[1]Özkaynak Değişim Tablosu'!B7 -> 0 | C7: =+'[1]Özkaynak Değişim Tablosu'!C7 -> 0 | D7: =+'[1]Özkaynak Değişim Tablosu'!D7 -> 0 | E7: =+'[1]Özkaynak Değişim Tablosu'!E7 -> -1283 | F7: =+'[1]Özkaynak Değişim Tablosu'!F7 -> -1402 | H7: =+'[1]Özkaynak Değişim Tablosu'!H7 -> -97980 | I7: =+'[1]Özkaynak Değişim Tablosu'!I7 -> 0 | J7: =+'[1]Özkaynak Değişim Tablosu'!J7 -> 0 | K7: =+'[1]Özkaynak Değişim Tablosu'!K7 -> 0 | L7: =+SUM(B7:K7) -> -100665
A8: Total comprehensive income | B8: =+SUM(B6:B7) -> 0 | C8: =+SUM(C6:C7) -> 0 | D8: =+SUM(D6:D7) -> 0 | E8: =+SUM(E6:E7) -> -1283 | F8: =+SUM(F6:F7) -> -1402 | H8: =+SUM(H6:H7) -> -97980 | I8: =+SUM(I6:I7) -> 0 | J8: =+SUM(J6:J7) -> 0 | K8: =+SUM(K6:K7) -> 432265 | L8: =+SUM(B8:K8) -> 331600
A9: Transfers | B9: =+'[1]Özkaynak Değişim Tablosu'!B9 -> 0 | C9: =+'[1]Özkaynak Değişim Tablosu'!C9 -> 0 | D9: =+'[1]Özkaynak Değişim Tablosu'!D9 -> 0 | E9: =+'[1]Özkaynak Değişim Tablosu'!E9 -> 0 | F9: =+'[1]Özkaynak Değişim Tablosu'!F9 -> 0 | H9: =+'[1]Özkaynak Değişim Tablosu'!H9 -> 0 | I9: =+'[1]Özkaynak Değişim Tablosu'!I9 -> 78253 | J9: =+'[1]Özkaynak Değişim Tablosu'!J9 -> 1411730 | K9: =+'[1]Özkaynak Değişim Tablosu'!K9 -> -1489983 | L9: =+SUM(B9:K9) -> 0
A10: Dividends paid (Note 17) | B10: =+'[1]Özkaynak Değişim Tablosu'!B10 -> 0 | C10: =+'[1]Özkaynak Değişim Tablosu'!C10 -> 0 | D10: =+'[1]Özkaynak Değişim Tablosu'!D10 -> 0 | E10: =+'[1]Özkaynak Değişim Tablosu'!E10 -> 0 | F10: =+'[1]Özkaynak Değişim Tablosu'!F10 -> 0 | H10: =+'[1]Özkaynak Değişim Tablosu'!H10 -> 0 | I10: =+'[1]Özkaynak Değişim Tablosu'!I10 -> 0 | J10: =+'[1]Özkaynak Değişim Tablosu'!J10 -> -800075 | K10: =+'[1]Özkaynak Değişim Tablosu'!K10 -> 0 | L10: =+SUM(B10:K10) -> -800075
A11: Balances at March 31, 2018 | B11: =+B4+B8+B9+B10 -> 350910 | C11: =+C4+C8+C9+C10 -> 27920 | D11: =+D4+D8+D9+D10 -> 8 | E11: =+E4+E8+E9+E10 -> 14325 | F11: =+F4+F8+F9+F10 -> -15403 | H11: =+H4+H8+H9+H10 -> -601100 | I11: =+I4+I8+I9+I10 -> 332657 | J11: =+J4+J8+J9+J10 -> 2685802 | K11: =+K4+K8+K9+K10 -> 432265 | L11: =+L4+L8+L9+L10 -> 3227384
A13: Balances at January 1, 2019 | B13: =+'[1]Özkaynak Değişim Tablosu'!B13 -> 350910 | C13: =+'[1]Özkaynak Değişim Tablosu'!C13 -> 27920 | D13: =+'[1]Özkaynak Değişim Tablosu'!D13 -> 8 | E13: =+'[1]Özkaynak Değişim Tablosu'!E13 -> 10859 | F13: =+'[1]Özkaynak Değişim Tablosu'!F13 -> -279 | H13: =+'[1]Özkaynak Değişim Tablosu'!H13 -> -794287 | I13: =+'[1]Özkaynak Değişim Tablosu'!I13 -> 370599 | J13: =+'[1]Özkaynak Değişim Tablosu'!J13 -> 2244313 | K13: =+'[1]Özkaynak Değişim Tablosu'!K13 -> 1683196 | L13: =+SUM(B13:K13) -> 3893239
A15: Profit/ (loss) for the period | B15: =+'[1]Özkaynak Değişim Tablosu'!B15 -> 0 | C15: =+'[1]Özkaynak Değişim Tablosu'!C15 -> 0 | D15: =+'[1]Özkaynak Değişim Tablosu'!D15 -> 0 | E15: =+'[1]Özkaynak Değişim Tablosu'!E15 -> 0 | F15: =+'[1]Özkaynak Değişim Tablosu'!F15 -> 0 | H15: =+'[1]Özkaynak Değişim Tablosu'!H15 -> 0 | I15: =+'[1]Özkaynak Değişim Tablosu'!I15 -> 0 | J15: =+'[1]Özkaynak Değişim Tablosu'!J15 -> 0 | K15: =+'[1]Özkaynak Değişim Tablosu'!K15 -> 477960 | L15: =+SUM(B15:K15) -> 477960
A16: Other comprehensive income/ (loss) | B16: =+'[1]Özkaynak Değişim Tablosu'!B16 -> 0 | C16: =+'[1]Özkaynak Değişim Tablosu'!C16 -> 0 | D16: =+'[1]Özkaynak Değişim Tablosu'!D16 -> 0 | E16: =+'[1]Özkaynak Değişim Tablosu'!E16 -> 2224 | F16: =+'[1]Özkaynak Değişim Tablosu'!F16 -> 12078 | H16: =+'[1]Özkaynak Değişim Tablosu'!H16 -> -41556 | I16: =+'[1]Özkaynak Değişim Tablosu'!I16 -> 0 | J16: =+'[1]Özkaynak Değişim Tablosu'!J16 -> 0 | K16: =+'[1]Özkaynak Değişim Tablosu'!K16 -> 0 | L16: =+SUM(B16:K16) -> -27254
A17: Total comprehensive income | B17: =+SUM(B15:B16) -> 0 | C17: =+SUM(C15:C16) -> 0 | D17: =+SUM(D15:D16) -> 0 | E17: =+SUM(E15:E16) -> 2224 | F17: =+SUM(F15:F16) -> 12078 | H17: =+SUM(H15:H16) -> -41556 | I17: =+SUM(I15:I16) -> 0 | J17: =+SUM(J15:J16) -> 0 | K17: =+SUM(K15:K16) -> 477960 | L17: =+SUM(B17:K17) -> 450706
A18: Transfers | B18: =+'[1]Özkaynak Değişim Tablosu'!B18 -> 0 | C18: =+'[1]Özkaynak Değişim Tablosu'!C18 -> 0 | D18: =+'[1]Özkaynak Değişim Tablosu'!D18 -> 0 | E18: =+'[1]Özkaynak Değişim Tablosu'!E18 -> 0 | F18: =+'[1]Özkaynak Değişim Tablosu'!F18 -> 0 | H18: =+'[1]Özkaynak Değişim Tablosu'!H18 -> 0 | I18: =+'[1]Özkaynak Değişim Tablosu'!I18 -> 83517 | J18: =+'[1]Özkaynak Değişim Tablosu'!J18 -> 1599679 | K18: =+'[1]Özkaynak Değişim Tablosu'!K18 -> -1683196 | L18: =+SUM(B18:K18) -> 0
A19: Dividends paid (Note 17) | B19: =+'[1]Özkaynak Değişim Tablosu'!B19 -> 0 | C19: =+'[1]Özkaynak Değişim Tablosu'!C19 -> 0 | D19: =+'[1]Özkaynak Değişim Tablosu'!D19 -> 0 | E19: =+'[1]Özkaynak Değişim Tablosu'!E19 -> 0 | F19: =+'[1]Özkaynak Değişim Tablosu'!F19 -> 0 | H19: =+'[1]Özkaynak Değişim Tablosu'!H19 -> 0 | I19: =+'[1]Özkaynak Değişim Tablosu'!I19 -> 0 | J19: =+'[1]Özkaynak Değişim Tablosu'!J19 -> -852711 | K19: =+'[1]Özkaynak Değişim Tablosu'!K19 -> 0 | L19: =+SUM(B19:K19) -> -852711
A20: Balances at March 31, 2019 | B20: =+B13+B17+B18+B19 -> 350910 | C20: =+C13+C17+C18+C19 -> 27920 | D20: =+D13+D17+D18+D19 -> 8 | E20: =+E13+E17+E18+E19 -> 13083 | F20: =+F13+F17+F18+F19 -> 11799 | H20: =+H13+H17+H18+H19 -> -835843 | I20: =+I13+I17+I18+I19 -> 454116 | J20: =+J13+J17+J18+J19 -> 2991281 | K20: =+K13+K17+K18+K19 -> 477960 | L20: =+SUM(B20:K20) -> 3491234

Sheet Statement of Cash Flow
A1: Ford Otomotiv Sanayi A.Ş. Statement of cash flows for the periods ended 31 March 2019 and 2018
A2: Turkish lira (thousand TL) | B2: Notes | C2: Current period Unaudited 31 March 2019 | D2: Previous period Unaudited 31 March 2018
A5: Cash flows generated from/ (used in) operating activities | C5: =+SUM(C33:C39) -> 436603 | D5: =+SUM(D33:D39) -> 241963
A6: Net profit for the period | C6: =+'[1]Nakit Akım Tablosu'!C6 -> 477960 | D6: =+'[1]Nakit Akım Tablosu'!D6 -> 432265
A7: Adjustments to reconcile profit or loss | C7: =+SUM(C8:C22) -> 494894 | D7: =+SUM(D8:D22) -> 289642
A8: Adjustments for depreciation and amortisation expense | B8: 10,11,33 | C8: =+'[1]Nakit Akım Tablosu'!C8 -> 178053 | D8: =+'[1]Nakit Akım Tablosu'!D8 -> 128162
A9: Adjustments for impairment loss of inventories | B9: 9 | C9: =+'[1]Nakit Akım Tablosu'!C9 -> -749 | D9: =+'[1]Nakit Akım Tablosu'!D9 -> 463
A10: Adjustments for provisions related with employee benefits | C10: =+'[1]Nakit Akım Tablosu'!C10 -> 10249 | D10: =+'[1]Nakit Akım Tablosu'!D10 -> -41280
A11: Adjustments for lawsuit and/ or penalty provisions | B11: 13 | C11: =+'[1]Nakit Akım Tablosu'!C11 -> 3304 | D11: =+'[1]Nakit Akım Tablosu'!D11 -> 3687
A12: Adjustments for warranty provisions | B12: 13 | C12: =+'[1]Nakit Akım Tablosu'!C12 -> 50621 | D12: =+'[1]Nakit Akım Tablosu'!D12 -> 25042
A13: Adjustments for other provisions | C13: =+'[1]Nakit Akım Tablosu'!C13 -> 5077 | D13: =+'[1]Nakit Akım Tablosu'!D13 -> 5256
A14: Adjustments for dividend income | B14: 29 | C14: =+'[1]Nakit Akım Tablosu'!C14 -> -422 | D14: =+'[1]Nakit Akım Tablosu'!D14 -> -410
A15: Adjustments for interest income | B15: 22 | C15: =+'[1]Nakit Akım Tablosu'!C15 -> -31358 | D15: =+'[1]Nakit Akım Tablosu'!D15 -> -20032
A16: Adjustments for interest expense | B16: 23 | C16: =+'[1]Nakit Akım Tablosu'!C16 -> 17619 | D16: =+'[1]Nakit Akım Tablosu'!D16 -> 10994
A17: Adjustments for tax expenses | B17: 24 | C17: =+'[1]Nakit Akım Tablosu'!C17 -> -1301 | D17: =+'[1]Nakit Akım Tablosu'!D17 -> 9087
A18: Adjustments for unearned financing income | B18: 21 | C18: =+'[1]Nakit Akım Tablosu'!C18 -> -50603 | D18: =+'[1]Nakit Akım Tablosu'!D18 -> -40348
A19: Adjustments for deferred financing expense | B19: 21 | C19: =+'[1]Nakit Akım Tablosu'!C19 -> 144594 | D19: =+'[1]Nakit Akım Tablosu'!D19 -> 65337
A20: Adjustments for gain/ (loss) on sales of property, plant and equipment | B20: 29 | C20: =+'[1]Nakit Akım Tablosu'!C20 -> 876 | D20: =+'[1]Nakit Akım Tablosu'!D20 -> 1480
A21: Other adjustments for which cash effects are investing or financing cash flow | C21: =+'[1]Nakit Akım Tablosu'!C21 -> 168902 | D21: =+'[1]Nakit Akım Tablosu'!D21 -> 142204
A22: Undistributed profits of investments accounted for by the equity method | B22: 32 | C22: =+'[1]Nakit Akım Tablosu'!C22 -> 32 | D22: =+'[1]Nakit Akım Tablosu'!D22 -> 0
A24: Changes in working capital | C24: =+SUM(C26:C31) -> -377049 | D24: =+SUM(D26:D31) -> -396268
A26: (Increase) / decrease in trade receivable | C26: =+'[1]Nakit Akım Tablosu'!C26 -> -450284 | D26: =+'[1]Nakit Akım Tablosu'!D26 -> 415897
A27: (Increase) / decrease in inventories | C27: =+'[1]Nakit Akım Tablosu'!C27 -> -182170 | D27: =+'[1]Nakit Akım Tablosu'!D27 -> -687938
A28: (Increase) / decrease in prepaid expenses | C28: =+'[1]Nakit Akım Tablosu'!C28 -> 16771 | D28: =+'[1]Nakit Akım Tablosu'!D28 -> -163570
A29: Increase/ (decrease) in trade payable | C29: =+'[1]Nakit Akım Tablosu'!C29 -> 460452 | D29: =+'[1]Nakit Akım Tablosu'!D29 -> 145354
A30: (Increase) / decrease in other assets | C30: =+'[1]Nakit Akım Tablosu'!C30 -> -223570 | D30: =+'[1]Nakit Akım Tablosu'!D30 -> -108919
A31: Increase/ (decrease) in other liabilities | C31: =+'[1]Nakit Akım Tablosu'!C31 -> 1752 | D31: =+'[1]Nakit Akım Tablosu'!D31 -> 2908
A33: Cash flows generated from operations | C33: =+C6+C7+C24 -> 595805 | D33: =+D6+D7+D24 -> 325639
A35: Interest paid | C35: =+'[1]Nakit Akım Tablosu'!C35 -> -146408 | D35: =+'[1]Nakit Akım Tablosu'!D35 -> -71491
A36: Interest received | C36: =+'[1]Nakit Akım Tablosu'!C36 -> 48985 | D36: =+'[1]Nakit Akım Tablosu'!D36 -> 38903
A37: Payments related with provisions for employee benefits | B37: 15 | C37: =+'[1]Nakit Akım Tablosu'!C37 -> -4988 | D37: =+'[1]Nakit Akım Tablosu'!D37 -> -4711
A38: Payments related with other provisions | C38: =+'[1]Nakit Akım Tablosu'!C38 -> -39822 | D38: =+'[1]Nakit Akım Tablosu'!D38 -> -26866
A39: Taxes paid | C39: =+'[1]Nakit Akım Tablosu'!C39 -> -16969 | D39: =+'[1]Nakit Akım Tablosu'!D39 -> -19511
A41: Cash flows used in investing activities | C41: =+SUM(C43:C48) -> -259537 | D41: =+SUM(D43:D48) -> -207157
A43: Proceeds from sales of property, plant and equipment | C43: =+'[1]Nakit Akım Tablosu'!C43 -> 787 | D43: =+'[1]Nakit Akım Tablosu'!D43 -> 1579
A44: Purchase of property, plant and equipment | C44: =+'[1]Nakit Akım Tablosu'!C44 -> -222359 | D44: =+'[1]Nakit Akım Tablosu'!D44 -> -102453
A45: Purchase of intangible assets | C45: =+'[1]Nakit Akım Tablosu'!C45 -> -36670 | D45: =+'[1]Nakit Akım Tablosu'!D45 -> -48006
A46: Cash advances given | C46: =+'[1]Nakit Akım Tablosu'!C46 -> -1717 | D46: =+'[1]Nakit Akım Tablosu'!D46 -> -58687
A47: Dividends received | B47: 29 | C47: =+'[1]Nakit Akım Tablosu'!C47 -> 422 | D47: =+'[1]Nakit Akım Tablosu'!D47 -> 410
A48: Cash outflows from acquisition or share | C48: =+'[1]Nakit Akım Tablosu'!C48 -> 0 | D48: =+'[1]Nakit Akım Tablosu'!D48 -> 0
...

Sheet Sheet1
